Back to Multiple platform build/check report for BioC 3.12
A[B]CDEFGHIJKLMNOPQRSTUVWXYZ

BUILD report for BgeeCall on tokay1

This page was generated on 2020-08-12 11:50:41 -0400 (Wed, 12 Aug 2020).

TO THE DEVELOPERS/MAINTAINERS OF THE BgeeCall PACKAGE: Please make sure to use the following settings in order to reproduce any error or warning you see on this page.
Package 132/1885HostnameOS / ArchINSTALLBUILDCHECKBUILD BIN
BgeeCall 1.5.3
Julien Wollbrett
Snapshot Date: 2020-08-11 14:50:16 -0400 (Tue, 11 Aug 2020)
URL: https://git.bioconductor.org/packages/BgeeCall
Branch: master
Last Commit: cc52b16
Last Changed Date: 2020-06-15 13:41:33 -0400 (Mon, 15 Jun 2020)
malbec1 Linux (Ubuntu 18.04.4 LTS) / x86_64  OK  OK  WARNINGS UNNEEDED, same version exists in internal repository
nebbiolo1 Linux (Ubuntu 20.04.1 LTS) / x86_64  OK  OK  WARNINGS 
tokay1 Windows Server 2012 R2 Standard / x64  OK [ OK ] WARNINGS  OK UNNEEDED, same version exists in internal repository
merida1 macOS 10.14.6 Mojave / x86_64  OK  OK  WARNINGS  OK UNNEEDED, same version exists in internal repository

Summary

Package: BgeeCall
Version: 1.5.3
Command: chmod a+r BgeeCall -R && C:\Users\biocbuild\bbs-3.12-bioc\R\bin\R.exe CMD build --keep-empty-dirs --no-resave-data BgeeCall
StartedAt: 2020-08-11 23:12:54 -0400 (Tue, 11 Aug 2020)
EndedAt: 2020-08-11 23:15:27 -0400 (Tue, 11 Aug 2020)
EllapsedTime: 153.3 seconds
RetCode: 0
Status:  OK  
PackageFile: BgeeCall_1.5.3.tar.gz
PackageFileSize: 5.635 MiB

Command output

##############################################################################
##############################################################################
###
### Running command:
###
###   chmod a+r BgeeCall -R && C:\Users\biocbuild\bbs-3.12-bioc\R\bin\R.exe CMD build --keep-empty-dirs --no-resave-data BgeeCall
###
##############################################################################
##############################################################################


* checking for file 'BgeeCall/DESCRIPTION' ... OK
* preparing 'BgeeCall':
* checking DESCRIPTION meta-information ... OK
* installing the package to build vignettes
* creating vignettes ... OK
* checking for LF line-endings in source and make files and shell scripts
* checking for empty or unneeded directories
* building 'BgeeCall_1.5.3.tar.gz'