Back to Multiple platform build/check report for BioC 3.12
ABCDE[F]GHIJKLMNOPQRSTUVWXYZ

BUILD BIN report for flowTrans on merida1

This page was generated on 2021-02-22 12:42:44 -0500 (Mon, 22 Feb 2021).

To the developers/maintainers of the flowTrans package:
Please make sure to use the following settings in order to reproduce any error or warning you see on this page.
Package 636/1974HostnameOS / ArchINSTALLBUILDCHECKBUILD BIN
flowTrans 1.42.0
Greg Finak
Snapshot Date: 2021-02-21 14:52:07 -0500 (Sun, 21 Feb 2021)
URL: https://git.bioconductor.org/packages/flowTrans
Branch: RELEASE_3_12
Last Commit: b7efe1a
Last Changed Date: 2020-10-27 10:38:16 -0500 (Tue, 27 Oct 2020)
malbec1Linux (Ubuntu 18.04.5 LTS) / x86_64  OK    OK    OK  UNNEEDED, same version exists in internal repository
nebbiolo1Linux (Ubuntu 20.04.2 LTS) / x86_64  OK    OK    OK  
tokay1Windows Server 2012 R2 Standard / x64  OK    OK    OK    OK  UNNEEDED, same version exists in internal repository
merida1macOS 10.14.6 Mojave / x86_64  OK    OK    OK    OK  UNNEEDED, same version exists in internal repository

Summary

Package: flowTrans
Version: 1.42.0
Command: rm -rf flowTrans.buildbin-libdir && mkdir flowTrans.buildbin-libdir && /Users/biocbuild/BBS/utils/build-universal.sh flowTrans_1.42.0.tar.gz /Library/Frameworks/R.framework/Versions/Current/Resources/bin/R flowTrans.buildbin-libdir
StartedAt: 2021-02-22 08:39:11 -0500 (Mon, 22 Feb 2021)
EndedAt: 2021-02-22 08:40:14 -0500 (Mon, 22 Feb 2021)
EllapsedTime: 63.3 seconds
RetCode: 0
Status:   OK  
PackageFile: flowTrans_1.42.0.tgz
PackageFileSize: 459.8 KiB

Command output

##############################################################################
##############################################################################
###
### Running command:
###
###   rm -rf flowTrans.buildbin-libdir && mkdir flowTrans.buildbin-libdir && /Users/biocbuild/BBS/utils/build-universal.sh flowTrans_1.42.0.tar.gz /Library/Frameworks/R.framework/Versions/Current/Resources/bin/R flowTrans.buildbin-libdir
###
##############################################################################
##############################################################################


>>>>>>> 
>>>>>>> INSTALLATION WITH 'R CMD INSTALL --preclean --no-multiarch --library=flowTrans.buildbin-libdir flowTrans_1.42.0.tar.gz'
>>>>>>> 

* installing *source* package ‘flowTrans’ ...
** using staged installation
** R
** inst
** byte-compile and prepare package for lazy loading
** help
*** installing help indices
** building package indices
** installing vignettes
** testing if installed package can be loaded from temporary location
** testing if installed package can be loaded from final location
** testing if installed package keeps a record of temporary installation path
* DONE (flowTrans)