Back to Multiple platform build/check report for BioC 3.12
[A]BCDEFGHIJKLMNOPQRSTUVWXYZ

INSTALL report for adSplit on merida1

This page was generated on 2020-08-11 11:51:48 -0400 (Tue, 11 Aug 2020).

TO THE DEVELOPERS/MAINTAINERS OF THE adSplit PACKAGE: Please make sure to use the following settings in order to reproduce any error or warning you see on this page.
Package 20/1885HostnameOS / ArchINSTALLBUILDCHECKBUILD BIN
adSplit 1.59.0
Claudio Lottaz
Snapshot Date: 2020-08-10 14:50:56 -0400 (Mon, 10 Aug 2020)
URL: https://git.bioconductor.org/packages/adSplit
Branch: master
Last Commit: 4069672
Last Changed Date: 2020-06-05 04:09:27 -0400 (Fri, 05 Jun 2020)
malbec1 Linux (Ubuntu 18.04.4 LTS) / x86_64  OK  OK  WARNINGS UNNEEDED, same version exists in internal repository
nebbiolo1 Linux (Ubuntu 20.04.1 LTS) / x86_64  OK  OK  NA 
tokay1 Windows Server 2012 R2 Standard / x64  OK  OK  WARNINGS  OK UNNEEDED, same version exists in internal repository
merida1 macOS 10.14.6 Mojave / x86_64 [ OK ] OK  WARNINGS  OK UNNEEDED, same version exists in internal repository

Summary

Package: adSplit
Version: 1.59.0
Command: /Library/Frameworks/R.framework/Versions/Current/Resources/bin/R CMD INSTALL adSplit
StartedAt: 2020-08-10 16:24:15 -0400 (Mon, 10 Aug 2020)
EndedAt: 2020-08-10 16:25:07 -0400 (Mon, 10 Aug 2020)
EllapsedTime: 51.9 seconds
RetCode: 0
Status:  OK 

Command output

##############################################################################
##############################################################################
###
### Running command:
###
###   /Library/Frameworks/R.framework/Versions/Current/Resources/bin/R CMD INSTALL adSplit
###
##############################################################################
##############################################################################


* installing to library ‘/Library/Frameworks/R.framework/Versions/4.0/Resources/library’
* installing *source* package ‘adSplit’ ...
** using staged installation
** libs
clang++ -mmacosx-version-min=10.13 -std=gnu++11 -I"/Library/Frameworks/R.framework/Resources/include" -DNDEBUG   -I/usr/local/include   -fPIC  -Wall -g -O2  -c adSplit.cpp -o adSplit.o
adSplit.cpp:256:28: warning: ISO C++11 does not allow conversion from string literal to 'char *' [-Wwritable-strings]
    throw Tomato(__LINE__, "tscore: internal error, shame on the programmer");
                           ^
adSplit.cpp:469:30: warning: ISO C++11 does not allow conversion from string literal to 'char *' [-Wwritable-strings]
      throw Tomato(__LINE__, "isis() called with unknown function");
                             ^
2 warnings generated.
clang++ -mmacosx-version-min=10.13 -std=gnu++11 -dynamiclib -Wl,-headerpad_max_install_names -undefined dynamic_lookup -single_module -multiply_defined suppress -L/Library/Frameworks/R.framework/Resources/lib -L/usr/local/lib -o adSplit.so adSplit.o -F/Library/Frameworks/R.framework/.. -framework R -Wl,-framework -Wl,CoreFoundation
installing to /Library/Frameworks/R.framework/Versions/4.0/Resources/library/00LOCK-adSplit/00new/adSplit/libs
** R
** data
** byte-compile and prepare package for lazy loading
** help
*** installing help indices
** building package indices
** installing vignettes
** testing if installed package can be loaded from temporary location
** checking absolute paths in shared objects and dynamic libraries
** testing if installed package can be loaded from final location
** testing if installed package keeps a record of temporary installation path
* DONE (adSplit)