Back to Multiple platform build/check report for BioC 3.12
A[B]CDEFGHIJKLMNOPQRSTUVWXYZ

BUILD report for BeadDataPackR on tokay1

This page was generated on 2020-08-10 12:12:38 -0400 (Mon, 10 Aug 2020).

TO THE DEVELOPERS/MAINTAINERS OF THE BeadDataPackR PACKAGE: Please make sure to use the following settings in order to reproduce any error or warning you see on this page.
Package 128/1882HostnameOS / ArchINSTALLBUILDCHECKBUILD BIN
BeadDataPackR 1.41.0
Mike Smith
Snapshot Date: 2020-08-09 14:51:29 -0400 (Sun, 09 Aug 2020)
URL: https://git.bioconductor.org/packages/BeadDataPackR
Branch: master
Last Commit: 15bf9be
Last Changed Date: 2020-04-27 14:21:35 -0400 (Mon, 27 Apr 2020)
malbec1 Linux (Ubuntu 18.04.4 LTS) / x86_64  OK  OK  OK UNNEEDED, same version exists in internal repository
nebbiolo1 Linux (Ubuntu 20.04.1 LTS) / x86_64  OK  OK  OK 
tokay1 Windows Server 2012 R2 Standard / x64  OK [ OK ] OK  OK UNNEEDED, same version exists in internal repository
merida1 macOS 10.14.6 Mojave / x86_64  OK  OK  OK  OK UNNEEDED, same version exists in internal repository

Summary

Package: BeadDataPackR
Version: 1.41.0
Command: chmod a+r BeadDataPackR -R && C:\Users\biocbuild\bbs-3.12-bioc\R\bin\R.exe CMD build --keep-empty-dirs --no-resave-data BeadDataPackR
StartedAt: 2020-08-09 19:28:59 -0400 (Sun, 09 Aug 2020)
EndedAt: 2020-08-09 19:29:11 -0400 (Sun, 09 Aug 2020)
EllapsedTime: 11.9 seconds
RetCode: 0
Status:  OK  
PackageFile: BeadDataPackR_1.41.0.tar.gz
PackageFileSize: 228.6 KiB

Command output

##############################################################################
##############################################################################
###
### Running command:
###
###   chmod a+r BeadDataPackR -R && C:\Users\biocbuild\bbs-3.12-bioc\R\bin\R.exe CMD build --keep-empty-dirs --no-resave-data BeadDataPackR
###
##############################################################################
##############################################################################


* checking for file 'BeadDataPackR/DESCRIPTION' ... OK
* preparing 'BeadDataPackR':
* checking DESCRIPTION meta-information ... OK
* cleaning src
* installing the package to build vignettes
* creating vignettes ... OK
* cleaning src
* checking for LF line-endings in source and make files and shell scripts
* checking for empty or unneeded directories
* building 'BeadDataPackR_1.41.0.tar.gz'