Back to Multiple platform build/check report for BioC 3.12
AB[C]DEFGHIJKLMNOPQRSTUVWXYZ

BUILD BIN report for CellTrails on merida1

This page was generated on 2021-02-22 12:42:05 -0500 (Mon, 22 Feb 2021).

To the developers/maintainers of the CellTrails package:
Please make sure to use the following settings in order to reproduce any error or warning you see on this page.
Package 259/1974HostnameOS / ArchINSTALLBUILDCHECKBUILD BIN
CellTrails 1.8.0
Daniel Ellwanger
Snapshot Date: 2021-02-21 14:52:07 -0500 (Sun, 21 Feb 2021)
URL: https://git.bioconductor.org/packages/CellTrails
Branch: RELEASE_3_12
Last Commit: f0ce473
Last Changed Date: 2020-10-27 11:36:23 -0500 (Tue, 27 Oct 2020)
malbec1Linux (Ubuntu 18.04.5 LTS) / x86_64  OK    OK    OK  UNNEEDED, same version exists in internal repository
nebbiolo1Linux (Ubuntu 20.04.2 LTS) / x86_64  OK    OK    OK  
tokay1Windows Server 2012 R2 Standard / x64  OK    OK    OK    OK  UNNEEDED, same version exists in internal repository
merida1macOS 10.14.6 Mojave / x86_64  OK    OK    OK    OK  UNNEEDED, same version exists in internal repository

Summary

Package: CellTrails
Version: 1.8.0
Command: rm -rf CellTrails.buildbin-libdir && mkdir CellTrails.buildbin-libdir && /Users/biocbuild/BBS/utils/build-universal.sh CellTrails_1.8.0.tar.gz /Library/Frameworks/R.framework/Versions/Current/Resources/bin/R CellTrails.buildbin-libdir
StartedAt: 2021-02-22 08:08:51 -0500 (Mon, 22 Feb 2021)
EndedAt: 2021-02-22 08:09:49 -0500 (Mon, 22 Feb 2021)
EllapsedTime: 58.0 seconds
RetCode: 0
Status:   OK  
PackageFile: CellTrails_1.8.0.tgz
PackageFileSize: 2.484 MiB

Command output

##############################################################################
##############################################################################
###
### Running command:
###
###   rm -rf CellTrails.buildbin-libdir && mkdir CellTrails.buildbin-libdir && /Users/biocbuild/BBS/utils/build-universal.sh CellTrails_1.8.0.tar.gz /Library/Frameworks/R.framework/Versions/Current/Resources/bin/R CellTrails.buildbin-libdir
###
##############################################################################
##############################################################################


>>>>>>> 
>>>>>>> INSTALLATION WITH 'R CMD INSTALL --preclean --no-multiarch --library=CellTrails.buildbin-libdir CellTrails_1.8.0.tar.gz'
>>>>>>> 

* installing *source* package ‘CellTrails’ ...
** using staged installation
** R
** data
** inst
** byte-compile and prepare package for lazy loading
** help
*** installing help indices
** building package indices
** installing vignettes
** testing if installed package can be loaded from temporary location
** testing if installed package can be loaded from final location
** testing if installed package keeps a record of temporary installation path
* DONE (CellTrails)