Back to Multiple platform build/check report for BioC 3.12
[A]BCDEFGHIJKLMNOPQRSTUVWXYZ

CHECK report for AffyRNADegradation on tokay1

This page was generated on 2020-08-07 12:00:41 -0400 (Fri, 07 Aug 2020).

TO THE DEVELOPERS/MAINTAINERS OF THE AffyRNADegradation PACKAGE: Please make sure to use the following settings in order to reproduce any error or warning you see on this page.
Package 35/1882HostnameOS / ArchINSTALLBUILDCHECKBUILD BIN
AffyRNADegradation 1.35.0
Mario Fasold
Snapshot Date: 2020-08-06 14:50:46 -0400 (Thu, 06 Aug 2020)
URL: https://git.bioconductor.org/packages/AffyRNADegradation
Branch: master
Last Commit: a30a663
Last Changed Date: 2020-04-27 14:28:04 -0400 (Mon, 27 Apr 2020)
malbec1 Linux (Ubuntu 18.04.4 LTS) / x86_64  OK  OK  OK UNNEEDED, same version exists in internal repository
tokay1 Windows Server 2012 R2 Standard / x64  OK  OK [ OK ] OK UNNEEDED, same version exists in internal repository
merida1 macOS 10.14.6 Mojave / x86_64  OK  OK  OK  OK UNNEEDED, same version exists in internal repository

Summary

Package: AffyRNADegradation
Version: 1.35.0
Command: C:\Users\biocbuild\bbs-3.12-bioc\R\bin\R.exe CMD check --force-multiarch --install=check:AffyRNADegradation.install-out.txt --library=C:\Users\biocbuild\bbs-3.12-bioc\R\library --no-vignettes --timings AffyRNADegradation_1.35.0.tar.gz
StartedAt: 2020-08-07 00:37:35 -0400 (Fri, 07 Aug 2020)
EndedAt: 2020-08-07 00:40:10 -0400 (Fri, 07 Aug 2020)
EllapsedTime: 154.9 seconds
RetCode: 0
Status:  OK  
CheckDir: AffyRNADegradation.Rcheck
Warnings: 0

Command output

##############################################################################
##############################################################################
###
### Running command:
###
###   C:\Users\biocbuild\bbs-3.12-bioc\R\bin\R.exe CMD check --force-multiarch --install=check:AffyRNADegradation.install-out.txt --library=C:\Users\biocbuild\bbs-3.12-bioc\R\library --no-vignettes --timings AffyRNADegradation_1.35.0.tar.gz
###
##############################################################################
##############################################################################


* using log directory 'C:/Users/biocbuild/bbs-3.12-bioc/meat/AffyRNADegradation.Rcheck'
* using R version 4.0.2 (2020-06-22)
* using platform: x86_64-w64-mingw32 (64-bit)
* using session charset: ISO8859-1
* using option '--no-vignettes'
* checking for file 'AffyRNADegradation/DESCRIPTION' ... OK
* checking extension type ... Package
* this is package 'AffyRNADegradation' version '1.35.0'
* checking package namespace information ... OK
* checking package dependencies ... OK
* checking if this is a source package ... OK
* checking if there is a namespace ... OK
* checking for hidden files and directories ... OK
* checking for portable file names ... OK
* checking whether package 'AffyRNADegradation' can be installed ... OK
* checking installed package size ... OK
* checking package directory ... OK
* checking 'build' directory ... OK
* checking DESCRIPTION meta-information ... OK
* checking top-level files ... OK
* checking for left-over files ... OK
* checking index information ... OK
* checking package subdirectories ... OK
* checking R files for non-ASCII characters ... OK
* checking R files for syntax errors ... OK
* loading checks for arch 'i386'
** checking whether the package can be loaded ... OK
** checking whether the package can be loaded with stated dependencies ... OK
** checking whether the package can be unloaded cleanly ... OK
** checking whether the namespace can be loaded with stated dependencies ... OK
** checking whether the namespace can be unloaded cleanly ... OK
* loading checks for arch 'x64'
** checking whether the package can be loaded ... OK
** checking whether the package can be loaded with stated dependencies ... OK
** checking whether the package can be unloaded cleanly ... OK
** checking whether the namespace can be loaded with stated dependencies ... OK
** checking whether the namespace can be unloaded cleanly ... OK
* checking dependencies in R code ... NOTE
Package in Depends field not imported from: 'methods'
  These packages need to be imported from (in the NAMESPACE file)
  for when this namespace is loaded but not attached.
* checking S3 generic/method consistency ... OK
* checking replacement functions ... OK
* checking foreign function calls ... OK
* checking R code for possible problems ... NOTE
ComputeTongs: no visible global function definition for 'filter'
ComputeTongs: no visible global function definition for 'na.omit'
EstimateHookParams: no visible global function definition for 'loess'
EstimateHookParams: no visible global function definition for
  'quantile'
GetTongs: no visible global function definition for 'ave'
PlotDegradationHooks: no visible global function definition for
  'rainbow'
PlotDegradationHooks: no visible global function definition for 'lines'
PlotDegradationHooks: no visible global function definition for
  'legend'
PlotDx: no visible global function definition for 'grid'
PlotDx: no visible global function definition for 'points'
PlotDx: no visible global function definition for 'lines'
PlotTongs: no visible global function definition for 'grid'
PlotTongs: no visible global function definition for 'lines'
PlotTongs: no visible global function definition for 'legend'
RNADegradation: no visible global function definition for 'ave'
RNADegradation: no visible global function definition for 'loess'
RNADegradation: no visible global function definition for 'approx'
RNADegradation: no visible global function definition for 'new'
TryToFitDecayFunction: no visible global function definition for 'nls'
TryToFitDecayFunction: no visible global function definition for 'coef'
getProbeInfo.index: no visible global function definition for 'ave'
Undefined global functions or variables:
  approx ave coef filter grid legend lines loess na.omit new nls points
  quantile rainbow
Consider adding
  importFrom("grDevices", "rainbow")
  importFrom("graphics", "grid", "legend", "lines", "points")
  importFrom("methods", "new")
  importFrom("stats", "approx", "ave", "coef", "filter", "loess",
             "na.omit", "nls", "quantile")
to your NAMESPACE file (and ensure that your DESCRIPTION Imports field
contains 'methods').
* checking Rd files ... OK
* checking Rd metadata ... OK
* checking Rd cross-references ... OK
* checking for missing documentation entries ... OK
* checking for code/documentation mismatches ... OK
* checking Rd \usage sections ... OK
* checking Rd contents ... OK
* checking for unstated dependencies in examples ... OK
* checking files in 'vignettes' ... OK
* checking examples ...
** running examples for arch 'i386' ... OK
Examples with CPU (user + system) or elapsed time > 5s
                            user system elapsed
AffyDegradationBatch-class 17.35   0.41   19.25
AffyRNADegradation         13.59   0.17   13.78
AffyRNADegradation-package 13.08   0.11   13.19
GetTongs                    8.29   0.17    8.46
** running examples for arch 'x64' ... OK
Examples with CPU (user + system) or elapsed time > 5s
                            user system elapsed
AffyDegradationBatch-class 16.87   0.27   17.14
AffyRNADegradation-package 13.75   0.17   13.92
AffyRNADegradation         13.38   0.03   13.41
GetTongs                    9.30   0.05    9.34
* checking for unstated dependencies in vignettes ... OK
* checking package vignettes in 'inst/doc' ... OK
* checking running R code from vignettes ... SKIPPED
* checking re-building of vignette outputs ... SKIPPED
* checking PDF version of manual ... OK
* DONE

Status: 2 NOTEs
See
  'C:/Users/biocbuild/bbs-3.12-bioc/meat/AffyRNADegradation.Rcheck/00check.log'
for details.



Installation output

AffyRNADegradation.Rcheck/00install.out

##############################################################################
##############################################################################
###
### Running command:
###
###   C:\cygwin\bin\curl.exe -O https://malbec1.bioconductor.org/BBS/3.12/bioc/src/contrib/AffyRNADegradation_1.35.0.tar.gz && rm -rf AffyRNADegradation.buildbin-libdir && mkdir AffyRNADegradation.buildbin-libdir && C:\Users\biocbuild\bbs-3.12-bioc\R\bin\R.exe CMD INSTALL --merge-multiarch --build --library=AffyRNADegradation.buildbin-libdir AffyRNADegradation_1.35.0.tar.gz && C:\Users\biocbuild\bbs-3.12-bioc\R\bin\R.exe CMD INSTALL AffyRNADegradation_1.35.0.zip && rm AffyRNADegradation_1.35.0.tar.gz AffyRNADegradation_1.35.0.zip
###
##############################################################################
##############################################################################


  % Total    % Received % Xferd  Average Speed   Time    Time     Time  Current
                                 Dload  Upload   Total   Spent    Left  Speed

  0     0    0     0    0     0      0      0 --:--:-- --:--:-- --:--:--     0
100 12137  100 12137    0     0   160k      0 --:--:-- --:--:-- --:--:--  169k

install for i386

* installing *source* package 'AffyRNADegradation' ...
** using staged installation
** R
** inst
** byte-compile and prepare package for lazy loading
** help
*** installing help indices
  converting help for package 'AffyRNADegradation'
    finding HTML links ... done
    AffyDegradationBatch-class              html  
    AffyRNADegradation-package              html  
    AffyRNADegradation                      html  
    GetTongs                                html  
** building package indices
** installing vignettes
** testing if installed package can be loaded from temporary location
** testing if installed package can be loaded from final location
** testing if installed package keeps a record of temporary installation path

install for x64

* installing *source* package 'AffyRNADegradation' ...
** testing if installed package can be loaded
* MD5 sums
packaged installation of 'AffyRNADegradation' as AffyRNADegradation_1.35.0.zip
* DONE (AffyRNADegradation)
* installing to library 'C:/Users/biocbuild/bbs-3.12-bioc/R/library'
package 'AffyRNADegradation' successfully unpacked and MD5 sums checked

Tests output


Example timings

AffyRNADegradation.Rcheck/examples_i386/AffyRNADegradation-Ex.timings

nameusersystemelapsed
AffyDegradationBatch-class17.35 0.4119.25
AffyRNADegradation-package13.08 0.1113.19
AffyRNADegradation13.59 0.1713.78
GetTongs8.290.178.46

AffyRNADegradation.Rcheck/examples_x64/AffyRNADegradation-Ex.timings

nameusersystemelapsed
AffyDegradationBatch-class16.87 0.2717.14
AffyRNADegradation-package13.75 0.1713.92
AffyRNADegradation13.38 0.0313.41
GetTongs9.300.059.34