Back to Multiple platform build/check report for BioC 3.12
A[B]CDEFGHIJKLMNOPQRSTUVWXYZ

BUILD report for BasicSTARRseq on merida1

This page was generated on 2021-01-22 11:57:44 -0500 (Fri, 22 Jan 2021).

TO THE DEVELOPERS/MAINTAINERS OF THE BasicSTARRseq PACKAGE: Please make sure to use the following settings in order to reproduce any error or warning you see on this page.
Package 120/1974HostnameOS / ArchINSTALLBUILDCHECKBUILD BIN
BasicSTARRseq 1.18.0
Annika Buerger
Snapshot Date: 2021-01-21 14:42:12 -0500 (Thu, 21 Jan 2021)
URL: https://git.bioconductor.org/packages/BasicSTARRseq
Branch: RELEASE_3_12
Last Commit: acae287
Last Changed Date: 2020-10-27 11:10:59 -0500 (Tue, 27 Oct 2020)
malbec1 Linux (Ubuntu 18.04.5 LTS) / x86_64  OK  OK  OK UNNEEDED, same version exists in internal repository
nebbiolo1 Linux (Ubuntu 20.04.1 LTS) / x86_64  OK  OK  OK 
tokay1 Windows Server 2012 R2 Standard / x64  OK  OK  OK  OK UNNEEDED, same version exists in internal repository
merida1 macOS 10.14.6 Mojave / x86_64  OK [ OK ] OK  OK UNNEEDED, same version exists in internal repository

Summary

Package: BasicSTARRseq
Version: 1.18.0
Command: /Library/Frameworks/R.framework/Versions/Current/Resources/bin/R CMD build --keep-empty-dirs --no-resave-data BasicSTARRseq
StartedAt: 2021-01-21 18:14:00 -0500 (Thu, 21 Jan 2021)
EndedAt: 2021-01-21 18:14:51 -0500 (Thu, 21 Jan 2021)
EllapsedTime: 51.1 seconds
RetCode: 0
Status:  OK 
PackageFile: BasicSTARRseq_1.18.0.tar.gz
PackageFileSize: 463.9 KiB

Command output

##############################################################################
##############################################################################
###
### Running command:
###
###   /Library/Frameworks/R.framework/Versions/Current/Resources/bin/R CMD build --keep-empty-dirs --no-resave-data BasicSTARRseq
###
##############################################################################
##############################################################################


* checking for file ‘BasicSTARRseq/DESCRIPTION’ ... OK
* preparing ‘BasicSTARRseq’:
* checking DESCRIPTION meta-information ... OK
* installing the package to build vignettes
* creating vignettes ... OK
* checking for LF line-endings in source and make files and shell scripts
* checking for empty or unneeded directories
* building ‘BasicSTARRseq_1.18.0.tar.gz’