Back to Multiple platform build/check report for BioC 3.12
AB[C]DEFGHIJKLMNOPQRSTUVWXYZ

BUILD report for celda on tokay1

This page was generated on 2020-10-14 11:17:28 -0400 (Wed, 14 Oct 2020).

TO THE DEVELOPERS/MAINTAINERS OF THE celda PACKAGE: Please make sure to use the following settings in order to reproduce any error or warning you see on this page.
Package 241/1930HostnameOS / ArchINSTALLBUILDCHECKBUILD BIN
celda 1.5.8
Joshua Campbell
Snapshot Date: 2020-10-13 14:40:34 -0400 (Tue, 13 Oct 2020)
URL: https://git.bioconductor.org/packages/celda
Branch: master
Last Commit: e45d9de
Last Changed Date: 2020-10-10 14:23:59 -0400 (Sat, 10 Oct 2020)
malbec1 Linux (Ubuntu 18.04.4 LTS) / x86_64  OK  OK  WARNINGS UNNEEDED, same version exists in internal repository
nebbiolo1 Linux (Ubuntu 20.04.1 LTS) / x86_64  OK  OK  WARNINGS 
tokay1 Windows Server 2012 R2 Standard / x64  OK [ OK ] WARNINGS  NA 
riesling1 Windows Server 2019 Standard / x64  OK  OK  WARNINGS  OK 
merida1 macOS 10.14.6 Mojave / x86_64  OK  OK  WARNINGS  NA 

Summary

Package: celda
Version: 1.5.8
Command: chmod a+r celda -R && C:\Users\biocbuild\bbs-3.12-bioc\R\bin\R.exe CMD build --keep-empty-dirs --no-resave-data celda
StartedAt: 2020-10-14 01:27:35 -0400 (Wed, 14 Oct 2020)
EndedAt: 2020-10-14 01:37:53 -0400 (Wed, 14 Oct 2020)
EllapsedTime: 617.5 seconds
RetCode: 0
Status:  OK  
PackageFile: celda_1.5.8.tar.gz
PackageFileSize: 945.6 KiB

Command output

##############################################################################
##############################################################################
###
### Running command:
###
###   chmod a+r celda -R && C:\Users\biocbuild\bbs-3.12-bioc\R\bin\R.exe CMD build --keep-empty-dirs --no-resave-data celda
###
##############################################################################
##############################################################################


* checking for file 'celda/DESCRIPTION' ... OK
* preparing 'celda':
* checking DESCRIPTION meta-information ... OK
* cleaning src
* installing the package to build vignettes
* creating vignettes ... OK
* cleaning src
* checking for LF line-endings in source and make files and shell scripts
* checking for empty or unneeded directories
* looking to see if a 'data/datalist' file should be added
* building 'celda_1.5.8.tar.gz'