Back to Multiple platform build/check report for BioC 3.12
[A]BCDEFGHIJKLMNOPQRSTUVWXYZ

CHECK report for ABSSeq on merida1

This page was generated on 2020-10-24 11:07:40 -0400 (Sat, 24 Oct 2020).

TO THE DEVELOPERS/MAINTAINERS OF THE ABSSeq PACKAGE: Please make sure to use the following settings in order to reproduce any error or warning you see on this page.
Package 10/1974HostnameOS / ArchINSTALLBUILDCHECKBUILD BIN
ABSSeq 1.43.0
Wentao Yang
Snapshot Date: 2020-10-23 14:40:36 -0400 (Fri, 23 Oct 2020)
URL: https://git.bioconductor.org/packages/ABSSeq
Branch: master
Last Commit: 2181a4f
Last Changed Date: 2020-04-27 14:39:30 -0400 (Mon, 27 Apr 2020)
malbec1 Linux (Ubuntu 18.04.4 LTS) / x86_64  OK  OK  OK UNNEEDED, same version exists in internal repository
nebbiolo1 Linux (Ubuntu 20.04.1 LTS) / x86_64  OK  OK  OK 
tokay1 Windows Server 2012 R2 Standard / x64  OK  OK  OK  OK UNNEEDED, same version exists in internal repository
riesling1 Windows Server 2019 Standard / x64  OK  OK  OK  OK 
merida1 macOS 10.14.6 Mojave / x86_64  OK  OK [ OK ] OK UNNEEDED, same version exists in internal repository

Summary

Package: ABSSeq
Version: 1.43.0
Command: /Library/Frameworks/R.framework/Versions/Current/Resources/bin/R CMD check --install=check:ABSSeq.install-out.txt --library=/Library/Frameworks/R.framework/Versions/Current/Resources/library --no-vignettes --timings ABSSeq_1.43.0.tar.gz
StartedAt: 2020-10-23 23:04:10 -0400 (Fri, 23 Oct 2020)
EndedAt: 2020-10-23 23:07:21 -0400 (Fri, 23 Oct 2020)
EllapsedTime: 191.0 seconds
RetCode: 0
Status:  OK 
CheckDir: ABSSeq.Rcheck
Warnings: 0

Command output

##############################################################################
##############################################################################
###
### Running command:
###
###   /Library/Frameworks/R.framework/Versions/Current/Resources/bin/R CMD check --install=check:ABSSeq.install-out.txt --library=/Library/Frameworks/R.framework/Versions/Current/Resources/library --no-vignettes --timings ABSSeq_1.43.0.tar.gz
###
##############################################################################
##############################################################################


* using log directory ‘/Users/biocbuild/bbs-3.12-bioc/meat/ABSSeq.Rcheck’
* using R version 4.0.3 (2020-10-10)
* using platform: x86_64-apple-darwin17.0 (64-bit)
* using session charset: UTF-8
* using option ‘--no-vignettes’
* checking for file ‘ABSSeq/DESCRIPTION’ ... OK
* checking extension type ... Package
* this is package ‘ABSSeq’ version ‘1.43.0’
* checking package namespace information ... OK
* checking package dependencies ... OK
* checking if this is a source package ... OK
* checking if there is a namespace ... OK
* checking for hidden files and directories ... OK
* checking for portable file names ... OK
* checking for sufficient/correct file permissions ... OK
* checking whether package ‘ABSSeq’ can be installed ... OK
* checking installed package size ... OK
* checking package directory ... OK
* checking ‘build’ directory ... OK
* checking DESCRIPTION meta-information ... OK
* checking top-level files ... OK
* checking for left-over files ... OK
* checking index information ... OK
* checking package subdirectories ... OK
* checking R files for non-ASCII characters ... OK
* checking R files for syntax errors ... OK
* checking whether the package can be loaded ... OK
* checking whether the package can be loaded with stated dependencies ... OK
* checking whether the package can be unloaded cleanly ... OK
* checking whether the namespace can be loaded with stated dependencies ... OK
* checking whether the namespace can be unloaded cleanly ... OK
* checking dependencies in R code ... NOTE
'library' or 'require' call to ‘edgeR’ in package code.
  Please use :: or requireNamespace() instead.
  See section 'Suggested packages' in the 'Writing R Extensions' manual.
Package in Depends field not imported from: ‘methods’
  These packages need to be imported from (in the NAMESPACE file)
  for when this namespace is loaded but not attached.
* checking S3 generic/method consistency ... OK
* checking replacement functions ... OK
* checking foreign function calls ... OK
* checking R code for possible problems ... NOTE
ABSDataSet: no visible global function definition for ‘new’
ABSSeqlm: no visible global function definition for ‘pnorm’
ABSSeqlm: no visible global function definition for ‘p.adjust’
ReplaceOutliersByMAD: no visible global function definition for ‘is’
ReplaceOutliersByMAD: no visible global function definition for
  ‘model.matrix’
ReplaceOutliersByMAD: no visible global function definition for
  ‘predict’
aFoldcomplexDesign: no visible binding for global variable ‘sd’
aFoldcomplexDesign: no visible binding for global variable ‘var’
aFoldcomplexDesign: no visible global function definition for ‘sd’
callDEs: no visible global function definition for ‘is’
callDEs: no visible binding for global variable ‘p.adjust.methods’
callDEs: no visible global function definition for ‘pnorm’
callDEs: no visible global function definition for ‘pnbinom’
callDEs: no visible global function definition for ‘p.adjust’
callParameter: no visible global function definition for ‘is’
callParameter: no visible binding for global variable ‘var’
callParameter: no visible global function definition for ‘quantile’
callParameter: no visible global function definition for ‘predict’
callParameter: no visible global function definition for ‘model.matrix’
callParameterwithoutReplicates: no visible global function definition
  for ‘is’
callParameterwithoutReplicates: no visible binding for global variable
  ‘sd’
callParameterwithoutReplicates: no visible global function definition
  for ‘predict’
callParameterwithoutReplicates: no visible binding for global variable
  ‘var’
callParameterwithoutReplicates: no visible global function definition
  for ‘quantile’
callParameterwithoutReplicates: no visible global function definition
  for ‘model.matrix’
callPergroup: no visible binding for global variable ‘var’
estimateSizeFactorsForMatrix: no visible binding for global variable
  ‘median’
genAFold: no visible binding for global variable ‘var’
genAFold: no visible binding for global variable ‘sd’
genAFold: no visible global function definition for ‘sd’
normalFactors: no visible global function definition for ‘is’
normalFactors: no visible global function definition for ‘validObject’
normalFactors : rowQuar: no visible global function definition for
  ‘quantile’
normalFactors: no visible global function definition for
  ‘calcNormFactors’
plotDifftoBase: no visible global function definition for ‘is’
preAFold: no visible global function definition for ‘quantile’
preAFold: no visible global function definition for ‘var’
preAFold: no visible global function definition for ‘predict’
preAFoldComplex: no visible global function definition for ‘quantile’
preAFoldComplex: no visible global function definition for ‘var’
preAFoldComplex: no visible global function definition for ‘predict’
qtotalNormalized : rowQuar: no visible global function definition for
  ‘quantile’
qtotalNormalized : rowQuar: no visible global function definition for
  ‘sd’
qtotalNormalized : rowQuar: no visible global function definition for
  ‘median’
qtotalNormalized : rowQuar : <anonymous>: no visible global function
  definition for ‘median’
replaceByrow: no visible global function definition for ‘median’
replaceByrow: no visible global function definition for ‘mad’
LevelstoNormFC<-,ABSDataSet-numeric: no visible global function
  definition for ‘validObject’
[[<-,SumInfo-character-missing: no visible global function definition
  for ‘as’
counts<-,ABSDataSet-matrix: no visible global function definition for
  ‘validObject’
excounts<-,ABSDataSet-matrix: no visible global function definition for
  ‘validObject’
groups<-,ABSDataSet-factor: no visible global function definition for
  ‘validObject’
maxRates<-,ABSDataSet-numeric: no visible global function definition
  for ‘validObject’
minRates<-,ABSDataSet-numeric: no visible global function definition
  for ‘validObject’
minimalDispersion<-,ABSDataSet-numeric: no visible global function
  definition for ‘validObject’
normMethod<-,ABSDataSet-character: no visible global function
  definition for ‘validObject’
paired<-,ABSDataSet-logical: no visible global function definition for
  ‘validObject’
sFactors<-,ABSDataSet-numeric: no visible global function definition
  for ‘validObject’
Undefined global functions or variables:
  as calcNormFactors is mad median model.matrix new p.adjust
  p.adjust.methods pnbinom pnorm predict quantile sd validObject var
Consider adding
  importFrom("methods", "as", "is", "new", "validObject")
  importFrom("stats", "mad", "median", "model.matrix", "p.adjust",
             "p.adjust.methods", "pnbinom", "pnorm", "predict",
             "quantile", "sd", "var")
to your NAMESPACE file (and ensure that your DESCRIPTION Imports field
contains 'methods').
* checking Rd files ... OK
* checking Rd metadata ... OK
* checking Rd cross-references ... OK
* checking for missing documentation entries ... OK
* checking for code/documentation mismatches ... OK
* checking Rd \usage sections ... OK
* checking Rd contents ... OK
* checking for unstated dependencies in examples ... OK
* checking contents of ‘data’ directory ... OK
* checking data for non-ASCII characters ... OK
* checking data for ASCII and uncompressed saves ... OK
* checking sizes of PDF files under ‘inst/doc’ ... OK
* checking files in ‘vignettes’ ... OK
* checking examples ... OK
Examples with CPU (user + system) or elapsed time > 5s
                       user system elapsed
plotDifftoBase       15.093  0.627  15.740
ABSSeq               14.684  0.878  15.583
callParameter        14.641  0.624  15.294
results              14.470  0.585  15.075
callDEs              14.336  0.665  15.026
ReplaceOutliersByMAD 11.153  0.575  11.742
excounts             10.806  0.637  11.454
ABSSeqlm              8.739  0.586   9.338
genAFold              5.853  0.332   6.194
aFoldcomplexDesign    5.318  0.345   5.670
* checking for unstated dependencies in vignettes ... OK
* checking package vignettes in ‘inst/doc’ ... OK
* checking running R code from vignettes ... SKIPPED
* checking re-building of vignette outputs ... SKIPPED
* checking PDF version of manual ... OK
* DONE

Status: 2 NOTEs
See
  ‘/Users/biocbuild/bbs-3.12-bioc/meat/ABSSeq.Rcheck/00check.log’
for details.



Installation output

ABSSeq.Rcheck/00install.out

##############################################################################
##############################################################################
###
### Running command:
###
###   /Library/Frameworks/R.framework/Versions/Current/Resources/bin/R CMD INSTALL ABSSeq
###
##############################################################################
##############################################################################


* installing to library ‘/Library/Frameworks/R.framework/Versions/4.0/Resources/library’
* installing *source* package ‘ABSSeq’ ...
** using staged installation
** R
** data
** inst
** byte-compile and prepare package for lazy loading
** help
*** installing help indices
** building package indices
** installing vignettes
** testing if installed package can be loaded from temporary location
** testing if installed package can be loaded from final location
** testing if installed package keeps a record of temporary installation path
* DONE (ABSSeq)

Tests output


Example timings

ABSSeq.Rcheck/ABSSeq-Ex.timings

nameusersystemelapsed
ABSDataSet0.0860.0010.087
ABSSeq14.684 0.87815.583
ABSSeqlm8.7390.5869.338
LevelstoNormFC0.0550.0030.057
ReplaceOutliersByMAD11.153 0.57511.742
aFoldcomplexDesign5.3180.3455.670
callDEs14.336 0.66515.026
callParameter14.641 0.62415.294
callParameterwithoutReplicates2.2930.0572.353
counts0.0490.0030.052
estimateSizeFactorsForMatrix0.0520.0020.053
excounts10.806 0.63711.454
genAFold5.8530.3326.194
groups0.0450.0010.047
maxRates0.0530.0020.056
minRates0.0490.0020.052
minimalDispersion0.0490.0010.051
normMethod0.0510.0020.053
normalFactors3.0420.2583.304
paired0.0510.0020.053
plotDifftoBase15.093 0.62715.740
qtotalNormalized3.2290.3613.594
results14.470 0.58515.075
sFactors3.1820.2283.414
simuN50.0410.0020.043