Back to Multiple platform build/check report for BioC 3.12
A[B]CDEFGHIJKLMNOPQRSTUVWXYZ

BUILD report for biomvRCNS on tokay1

This page was generated on 2020-08-07 12:01:50 -0400 (Fri, 07 Aug 2020).

TO THE DEVELOPERS/MAINTAINERS OF THE biomvRCNS PACKAGE: Please make sure to use the following settings in order to reproduce any error or warning you see on this page.
Package 171/1882HostnameOS / ArchINSTALLBUILDCHECKBUILD BIN
biomvRCNS 1.29.0
Yang Du
Snapshot Date: 2020-08-06 14:50:46 -0400 (Thu, 06 Aug 2020)
URL: https://git.bioconductor.org/packages/biomvRCNS
Branch: master
Last Commit: a8eb7d4
Last Changed Date: 2020-04-27 14:33:11 -0400 (Mon, 27 Apr 2020)
malbec1 Linux (Ubuntu 18.04.4 LTS) / x86_64  OK  OK  OK UNNEEDED, same version exists in internal repository
tokay1 Windows Server 2012 R2 Standard / x64  OK [ OK ] OK  OK UNNEEDED, same version exists in internal repository
merida1 macOS 10.14.6 Mojave / x86_64  OK  OK  OK  OK UNNEEDED, same version exists in internal repository

Summary

Package: biomvRCNS
Version: 1.29.0
Command: chmod a+r biomvRCNS -R && C:\Users\biocbuild\bbs-3.12-bioc\R\bin\R.exe CMD build --keep-empty-dirs --no-resave-data biomvRCNS
StartedAt: 2020-08-06 19:55:33 -0400 (Thu, 06 Aug 2020)
EndedAt: 2020-08-06 19:57:22 -0400 (Thu, 06 Aug 2020)
EllapsedTime: 108.8 seconds
RetCode: 0
Status:  OK  
PackageFile: biomvRCNS_1.29.0.tar.gz
PackageFileSize: 659.6 KiB

Command output

##############################################################################
##############################################################################
###
### Running command:
###
###   chmod a+r biomvRCNS -R && C:\Users\biocbuild\bbs-3.12-bioc\R\bin\R.exe CMD build --keep-empty-dirs --no-resave-data biomvRCNS
###
##############################################################################
##############################################################################


* checking for file 'biomvRCNS/DESCRIPTION' ... OK
* preparing 'biomvRCNS':
* checking DESCRIPTION meta-information ... OK
* cleaning src
* installing the package to build vignettes
* creating vignettes ... OK
* cleaning src
* checking for LF line-endings in source and make files and shell scripts
* checking for empty or unneeded directories
* looking to see if a 'data/datalist' file should be added
* building 'biomvRCNS_1.29.0.tar.gz'