Back to Multiple platform build/check report for BioC 3.12
AB[C]DEFGHIJKLMNOPQRSTUVWXYZ

BUILD BIN report for CGHcall on tokay1

This page was generated on 2020-08-13 11:34:48 -0400 (Thu, 13 Aug 2020).

TO THE DEVELOPERS/MAINTAINERS OF THE CGHcall PACKAGE: Please make sure to use the following settings in order to reproduce any error or warning you see on this page.
Package 257/1885HostnameOS / ArchINSTALLBUILDCHECKBUILD BIN
CGHcall 2.51.0
Mark van de Wiel
Snapshot Date: 2020-08-12 14:52:00 -0400 (Wed, 12 Aug 2020)
URL: https://git.bioconductor.org/packages/CGHcall
Branch: master
Last Commit: 66e382c
Last Changed Date: 2020-04-27 14:15:39 -0400 (Mon, 27 Apr 2020)
malbec1 Linux (Ubuntu 18.04.4 LTS) / x86_64  OK  OK  OK UNNEEDED, same version exists in internal repository
nebbiolo1 Linux (Ubuntu 20.04.1 LTS) / x86_64  OK  OK  OK 
tokay1 Windows Server 2012 R2 Standard / x64  OK  OK  OK [ OK ]UNNEEDED, same version exists in internal repository
merida1 macOS 10.14.6 Mojave / x86_64  OK  OK  OK  OK UNNEEDED, same version exists in internal repository

Summary

Package: CGHcall
Version: 2.51.0
Command: rm -rf CGHcall.buildbin-libdir && mkdir CGHcall.buildbin-libdir && C:\Users\biocbuild\bbs-3.12-bioc\R\bin\R.exe CMD INSTALL --merge-multiarch --build --library=CGHcall.buildbin-libdir CGHcall_2.51.0.tar.gz
StartedAt: 2020-08-13 07:24:11 -0400 (Thu, 13 Aug 2020)
EndedAt: 2020-08-13 07:25:15 -0400 (Thu, 13 Aug 2020)
EllapsedTime: 63.8 seconds
RetCode: 0
Status:  OK  
PackageFile: CGHcall_2.51.0.zip
PackageFileSize: 476.3 KiB

Command output

##############################################################################
##############################################################################
###
### Running command:
###
###   rm -rf CGHcall.buildbin-libdir && mkdir CGHcall.buildbin-libdir && C:\Users\biocbuild\bbs-3.12-bioc\R\bin\R.exe CMD INSTALL --merge-multiarch --build --library=CGHcall.buildbin-libdir CGHcall_2.51.0.tar.gz
###
##############################################################################
##############################################################################



install for i386

* installing *source* package 'CGHcall' ...
** using staged installation
** R
** data
** inst
** byte-compile and prepare package for lazy loading
** help
*** installing help indices
  converting help for package 'CGHcall'
    finding HTML links ... done
    CGHcall-package                         html  
    CGHcall                                 html  
    finding level-2 HTML links ... done

    ExpandCGHcall                           html  
    Wilting                                 html  
    normalize                               html  
    postsegnormalize                        html  
    preprocess                              html  
    segmentData                             html  
** building package indices
** installing vignettes
** testing if installed package can be loaded from temporary location
** testing if installed package can be loaded from final location
** testing if installed package keeps a record of temporary installation path

install for x64

* installing *source* package 'CGHcall' ...
** testing if installed package can be loaded
* MD5 sums
packaged installation of 'CGHcall' as CGHcall_2.51.0.zip
* DONE (CGHcall)