Back to Multiple platform build/check report for BioC 3.12
A[B]CDEFGHIJKLMNOPQRSTUVWXYZ

INSTALL report for bayNorm on malbec1

This page was generated on 2020-08-06 11:44:10 -0400 (Thu, 06 Aug 2020).

TO THE DEVELOPERS/MAINTAINERS OF THE bayNorm PACKAGE: Please make sure to use the following settings in order to reproduce any error or warning you see on this page.
Package 119/1882HostnameOS / ArchINSTALLBUILDCHECKBUILD BIN
bayNorm 1.7.0
Wenhao Tang
Snapshot Date: 2020-08-05 14:50:59 -0400 (Wed, 05 Aug 2020)
URL: https://git.bioconductor.org/packages/bayNorm
Branch: master
Last Commit: c97943c
Last Changed Date: 2020-04-27 15:20:24 -0400 (Mon, 27 Apr 2020)
malbec1 Linux (Ubuntu 18.04.4 LTS) / x86_64 [ OK ] OK  OK UNNEEDED, same version exists in internal repository
tokay1 Windows Server 2012 R2 Standard / x64  OK  OK  OK  OK UNNEEDED, same version exists in internal repository
merida1 macOS 10.14.6 Mojave / x86_64  OK  OK  OK  OK UNNEEDED, same version exists in internal repository

Summary

Package: bayNorm
Version: 1.7.0
Command: /home/biocbuild/bbs-3.12-bioc/R/bin/R CMD INSTALL bayNorm
StartedAt: 2020-08-05 16:38:15 -0400 (Wed, 05 Aug 2020)
EndedAt: 2020-08-05 16:39:02 -0400 (Wed, 05 Aug 2020)
EllapsedTime: 47.0 seconds
RetCode: 0
Status:  OK 

Command output

##############################################################################
##############################################################################
###
### Running command:
###
###   /home/biocbuild/bbs-3.12-bioc/R/bin/R CMD INSTALL bayNorm
###
##############################################################################
##############################################################################


* installing to library ‘/home/biocbuild/bbs-3.12-bioc/R/library’
* installing *source* package ‘bayNorm’ ...
** using staged installation
** libs
g++ -std=gnu++11 -I"/home/biocbuild/bbs-3.12-bioc/R/include" -DNDEBUG -DARMA_64BIT_WORD=1  -I'/home/biocbuild/bbs-3.12-bioc/R/library/Rcpp/include' -I'/home/biocbuild/bbs-3.12-bioc/R/library/RcppArmadillo/include' -I'/home/biocbuild/bbs-3.12-bioc/R/library/RcppProgress/include' -I/usr/local/include  -fopenmp  -fpic  -g -O2  -Wall -c RcppExports.cpp -o RcppExports.o
g++ -std=gnu++11 -I"/home/biocbuild/bbs-3.12-bioc/R/include" -DNDEBUG -DARMA_64BIT_WORD=1  -I'/home/biocbuild/bbs-3.12-bioc/R/library/Rcpp/include' -I'/home/biocbuild/bbs-3.12-bioc/R/library/RcppArmadillo/include' -I'/home/biocbuild/bbs-3.12-bioc/R/library/RcppProgress/include' -I/usr/local/include  -fopenmp  -fpic  -g -O2  -Wall -c bayNorm_main.cpp -o bayNorm_main.o
bayNorm_main.cpp: In function ‘Rcpp::List EstPrior_sprcpp(arma::sp_mat)’:
bayNorm_main.cpp:1374:7: warning: variable ‘Nrows’ set but not used [-Wunused-but-set-variable]
   int Nrows;
       ^~~~~
bayNorm_main.cpp: In function ‘Rcpp::List EstPrior_rcpp(Rcpp::NumericMatrix)’:
bayNorm_main.cpp:1427:7: warning: variable ‘Nrows’ set but not used [-Wunused-but-set-variable]
   int Nrows;
       ^~~~~
g++ -std=gnu++11 -shared -L/home/biocbuild/bbs-3.12-bioc/R/lib -L/usr/local/lib -o bayNorm.so RcppExports.o bayNorm_main.o -fopenmp -L/home/biocbuild/bbs-3.12-bioc/R/lib -lRlapack -L/home/biocbuild/bbs-3.12-bioc/R/lib -lRblas -lgfortran -lm -lquadmath -L/home/biocbuild/bbs-3.12-bioc/R/lib -lR
installing to /home/biocbuild/bbs-3.12-bioc/R/library/00LOCK-bayNorm/00new/bayNorm/libs
** R
** data
** inst
** byte-compile and prepare package for lazy loading
** help
*** installing help indices
** building package indices
** installing vignettes
** testing if installed package can be loaded from temporary location
** checking absolute paths in shared objects and dynamic libraries
** testing if installed package can be loaded from final location
** testing if installed package keeps a record of temporary installation path
* DONE (bayNorm)