Back to Multiple platform build/check report for BioC 3.12
AB[C]DEFGHIJKLMNOPQRSTUVWXYZ

INSTALL report for ChemmineR on malbec1

This page was generated on 2020-08-10 11:33:47 -0400 (Mon, 10 Aug 2020).

TO THE DEVELOPERS/MAINTAINERS OF THE ChemmineR PACKAGE: Please make sure to use the following settings in order to reproduce any error or warning you see on this page.
Package 264/1882HostnameOS / ArchINSTALLBUILDCHECKBUILD BIN
ChemmineR 3.41.0
Thomas Girke
Snapshot Date: 2020-08-09 14:51:29 -0400 (Sun, 09 Aug 2020)
URL: https://git.bioconductor.org/packages/ChemmineR
Branch: master
Last Commit: d62c204
Last Changed Date: 2020-04-27 14:18:14 -0400 (Mon, 27 Apr 2020)
malbec1 Linux (Ubuntu 18.04.4 LTS) / x86_64 [ OK ] ERROR  skipped 
nebbiolo1 Linux (Ubuntu 20.04.1 LTS) / x86_64  OK  ERROR  skipped 
tokay1 Windows Server 2012 R2 Standard / x64  OK  ERROR  skipped  skipped 
merida1 macOS 10.14.6 Mojave / x86_64  OK  ERROR  skipped  skipped 

Summary

Package: ChemmineR
Version: 3.41.0
Command: /home/biocbuild/bbs-3.12-bioc/R/bin/R CMD INSTALL ChemmineR
StartedAt: 2020-08-09 16:13:34 -0400 (Sun, 09 Aug 2020)
EndedAt: 2020-08-09 16:14:03 -0400 (Sun, 09 Aug 2020)
EllapsedTime: 28.8 seconds
RetCode: 0
Status:  OK 

Command output

##############################################################################
##############################################################################
###
### Running command:
###
###   /home/biocbuild/bbs-3.12-bioc/R/bin/R CMD INSTALL ChemmineR
###
##############################################################################
##############################################################################


* installing to library ‘/home/biocbuild/bbs-3.12-bioc/R/library’
* installing *source* package ‘ChemmineR’ ...
** using staged installation
** libs
g++ -std=gnu++11 -I"/home/biocbuild/bbs-3.12-bioc/R/include" -DNDEBUG  -I'/home/biocbuild/bbs-3.12-bioc/R/library/Rcpp/include' -I'/home/biocbuild/bbs-3.12-bioc/R/library/BH/include' -I/usr/local/include  -DNO_MAIN -DNO_DEBUG -fpic  -g -O2  -Wall -c DisjointSets.cpp -o DisjointSets.o
g++ -std=gnu++11 -I"/home/biocbuild/bbs-3.12-bioc/R/include" -DNDEBUG  -I'/home/biocbuild/bbs-3.12-bioc/R/library/Rcpp/include' -I'/home/biocbuild/bbs-3.12-bioc/R/library/BH/include' -I/usr/local/include  -DNO_MAIN -DNO_DEBUG -fpic  -g -O2  -Wall -c cluster.cc -o cluster.o
cluster.cc: In function ‘int nbr_intersect(std::vector<int>&, std::vector<int>&)’:
cluster.cc:118:11: warning: comparison between signed and unsigned integer expressions [-Wsign-compare]
  while (i < nbrs1.size() and j < nbrs2.size()) {
         ~~^~~~~~~~~~~~~~
cluster.cc:118:32: warning: comparison between signed and unsigned integer expressions [-Wsign-compare]
  while (i < nbrs1.size() and j < nbrs2.size()) {
                              ~~^~~~~~~~~~~~~~
cluster.cc: In function ‘int contains(int, std::vector<int>&)’:
cluster.cc:131:17: warning: comparison between signed and unsigned integer expressions [-Wsign-compare]
  for(int i=0; i < list.size(); i++)
               ~~^~~~~~~~~~~~~
cluster.cc: In function ‘DisjointSets cluster(int, int, int, int)’:
cluster.cc:267:21: warning: comparison between signed and unsigned integer expressions [-Wsign-compare]
   for (int j = 0; j < nbr_list[i].size(); j ++) {
                   ~~^~~~~~~~~~~~~~~~~~~~
cluster.cc: In function ‘void loadNNMatrix(int, int, int, SEXP)’:
cluster.cc:284:21: warning: comparison between signed and unsigned integer expressions [-Wsign-compare]
  for(unsigned i=0; i<N; i++) //rows
                    ~^~
cluster.cc:298:18: warning: comparison between signed and unsigned integer expressions [-Wsign-compare]
   if(nbrs.size() < minNbrs) // will end up a singleton
      ~~~~~~~~~~~~^~~~~~~~~
cluster.cc: In function ‘void loadNNList(int, int, SEXP)’:
cluster.cc:314:21: warning: comparison between signed and unsigned integer expressions [-Wsign-compare]
  for(unsigned i=0; i<N; i++) //rows
                    ~^~
cluster.cc:332:18: warning: comparison between signed and unsigned integer expressions [-Wsign-compare]
   if(nbrs.size() < minNbrs) // will end up a singleton
      ~~~~~~~~~~~~^~~~~~~~~
cluster.cc: In function ‘SEXPREC* jarvis_patrick(SEXP, SEXP, SEXP, SEXP, SEXP)’:
cluster.cc:390:21: warning: comparison between signed and unsigned integer expressions [-Wsign-compare]
  for(unsigned i=0; i<N; i++){
                    ~^~
cluster.cc: At global scope:
cluster.cc:49:13: warning: ‘void prepare_neighbors(const char*, int, int)’ defined but not used [-Wunused-function]
 void static prepare_neighbors(const char* nbr_file, int skip, int p)
             ^~~~~~~~~~~~~~~~~
g++ -std=gnu++11 -I"/home/biocbuild/bbs-3.12-bioc/R/include" -DNDEBUG  -I'/home/biocbuild/bbs-3.12-bioc/R/library/Rcpp/include' -I'/home/biocbuild/bbs-3.12-bioc/R/library/BH/include' -I/usr/local/include  -DNO_MAIN -DNO_DEBUG -fpic  -g -O2  -Wall -c cstrsplit.cc -o cstrsplit.o
In file included from /home/biocbuild/bbs-3.12-bioc/R/library/BH/include/boost/bind/mem_fn.hpp:25:0,
                 from /home/biocbuild/bbs-3.12-bioc/R/library/BH/include/boost/mem_fn.hpp:22,
                 from /home/biocbuild/bbs-3.12-bioc/R/library/BH/include/boost/function/detail/prologue.hpp:18,
                 from /home/biocbuild/bbs-3.12-bioc/R/library/BH/include/boost/function.hpp:30,
                 from /home/biocbuild/bbs-3.12-bioc/R/library/BH/include/boost/algorithm/string/detail/find_iterator.hpp:18,
                 from /home/biocbuild/bbs-3.12-bioc/R/library/BH/include/boost/algorithm/string/find_iterator.hpp:24,
                 from /home/biocbuild/bbs-3.12-bioc/R/library/BH/include/boost/algorithm/string/iter_find.hpp:27,
                 from /home/biocbuild/bbs-3.12-bioc/R/library/BH/include/boost/algorithm/string/split.hpp:16,
                 from /home/biocbuild/bbs-3.12-bioc/R/library/BH/include/boost/algorithm/string.hpp:23,
                 from cstrsplit.cc:7:
/home/biocbuild/bbs-3.12-bioc/R/library/BH/include/boost/get_pointer.hpp:48:40: warning: ‘template<class> class std::auto_ptr’ is deprecated [-Wdeprecated-declarations]
 template<class T> T * get_pointer(std::auto_ptr<T> const& p)
                                        ^~~~~~~~
In file included from /usr/include/c++/7/bits/locale_conv.h:41:0,
                 from /usr/include/c++/7/locale:43,
                 from /usr/include/c++/7/iomanip:43,
                 from /home/biocbuild/bbs-3.12-bioc/R/library/Rcpp/include/RcppCommon.h:52,
                 from /home/biocbuild/bbs-3.12-bioc/R/library/Rcpp/include/Rcpp.h:27,
                 from cstrsplit.cc:2:
/usr/include/c++/7/bits/unique_ptr.h:51:28: note: declared here
   template<typename> class auto_ptr;
                            ^~~~~~~~
g++ -std=gnu++11 -I"/home/biocbuild/bbs-3.12-bioc/R/include" -DNDEBUG  -I'/home/biocbuild/bbs-3.12-bioc/R/library/Rcpp/include' -I'/home/biocbuild/bbs-3.12-bioc/R/library/BH/include' -I/usr/local/include  -DNO_MAIN -DNO_DEBUG -fpic  -g -O2  -Wall -c desc.cc -o desc.o
desc.cc: In function ‘SEXPREC* genAPDescriptor(SEXP)’:
desc.cc:249:17: warning: comparison between signed and unsigned integer expressions [-Wsign-compare]
  for(int i=0; i < descs.size(); i++)
               ~~^~~~~~~~~~~~~~
g++ -std=gnu++11 -I"/home/biocbuild/bbs-3.12-bioc/R/include" -DNDEBUG  -I'/home/biocbuild/bbs-3.12-bioc/R/library/Rcpp/include' -I'/home/biocbuild/bbs-3.12-bioc/R/library/BH/include' -I/usr/local/include  -DNO_MAIN -DNO_DEBUG -fpic  -g -O2  -Wall -c fingerprints.cc -o fingerprints.o
fingerprints.cc: In function ‘SEXPREC* uniquifyAtomPairs(SEXP)’:
fingerprints.cc:138:17: warning: comparison between signed and unsigned integer expressions [-Wsign-compare]
  for(int i=0; i < aps.size(); i++)
               ~~^~~~~~~~~~~~
fingerprints.cc:145:17: warning: comparison between signed and unsigned integer expressions [-Wsign-compare]
  for(int i=0; i < aps.size(); i++){
               ~~^~~~~~~~~~~~
fingerprints.cc:158:17: warning: comparison between signed and unsigned integer expressions [-Wsign-compare]
  for(int i=0; i < aps.size(); i++){
               ~~^~~~~~~~~~~~
g++ -std=gnu++11 -I"/home/biocbuild/bbs-3.12-bioc/R/include" -DNDEBUG  -I'/home/biocbuild/bbs-3.12-bioc/R/library/Rcpp/include' -I'/home/biocbuild/bbs-3.12-bioc/R/library/BH/include' -I/usr/local/include  -DNO_MAIN -DNO_DEBUG -fpic  -g -O2  -Wall -c formats.cc -o formats.o
g++ -std=gnu++11 -I"/home/biocbuild/bbs-3.12-bioc/R/include" -DNDEBUG  -I'/home/biocbuild/bbs-3.12-bioc/R/library/Rcpp/include' -I'/home/biocbuild/bbs-3.12-bioc/R/library/BH/include' -I/usr/local/include  -DNO_MAIN -DNO_DEBUG -fpic  -g -O2  -Wall -c molecule.cc -o molecule.o
g++ -std=gnu++11 -I"/home/biocbuild/bbs-3.12-bioc/R/include" -DNDEBUG  -I'/home/biocbuild/bbs-3.12-bioc/R/library/Rcpp/include' -I'/home/biocbuild/bbs-3.12-bioc/R/library/BH/include' -I/usr/local/include  -DNO_MAIN -DNO_DEBUG -fpic  -g -O2  -Wall -c r_wrap.cc -o r_wrap.o
r_wrap.cc: In function ‘SEXPREC* SWIG_MakePtr(void*, const char*, R_SWIG_Owner)’:
r_wrap.cc:949:15: warning: variable ‘p’ set but not used [-Wunused-but-set-variable]
   const char *p = typeName;
               ^
g++ -std=gnu++11 -I"/home/biocbuild/bbs-3.12-bioc/R/include" -DNDEBUG  -I'/home/biocbuild/bbs-3.12-bioc/R/library/Rcpp/include' -I'/home/biocbuild/bbs-3.12-bioc/R/library/BH/include' -I/usr/local/include  -DNO_MAIN -DNO_DEBUG -fpic  -g -O2  -Wall -c script.cc -o script.o
In file included from script.cc:2:0:
desc.h:39:13: warning: ‘elements’ defined but not used [-Wunused-variable]
 static char elements[112][3] = {
             ^~~~~~~~
g++ -std=gnu++11 -I"/home/biocbuild/bbs-3.12-bioc/R/include" -DNDEBUG  -I'/home/biocbuild/bbs-3.12-bioc/R/library/Rcpp/include' -I'/home/biocbuild/bbs-3.12-bioc/R/library/BH/include' -I/usr/local/include  -DNO_MAIN -DNO_DEBUG -fpic  -g -O2  -Wall -c similarity.cc -o similarity.o
In file included from similarity.cc:1:0:
desc.h:39:13: warning: ‘elements’ defined but not used [-Wunused-variable]
 static char elements[112][3] = {
             ^~~~~~~~
g++ -std=gnu++11 -shared -L/home/biocbuild/bbs-3.12-bioc/R/lib -L/usr/local/lib -o ChemmineR.so DisjointSets.o cluster.o cstrsplit.o desc.o fingerprints.o formats.o molecule.o r_wrap.o script.o similarity.o -L/home/biocbuild/bbs-3.12-bioc/R/lib -lR
installing to /home/biocbuild/bbs-3.12-bioc/R/library/00LOCK-ChemmineR/00new/ChemmineR/libs
** R
** data
** inst
** byte-compile and prepare package for lazy loading
** help
*** installing help indices
** building package indices
** installing vignettes
** testing if installed package can be loaded from temporary location
** checking absolute paths in shared objects and dynamic libraries
** testing if installed package can be loaded from final location
** testing if installed package keeps a record of temporary installation path
* DONE (ChemmineR)