Back to Multiple platform build/check report for BioC 3.12
A[B]CDEFGHIJKLMNOPQRSTUVWXYZ

CHECK report for BgeeDB on malbec1

This page was generated on 2021-02-22 12:28:40 -0500 (Mon, 22 Feb 2021).

To the developers/maintainers of the BgeeDB package:
Please make sure to use the following settings in order to reproduce any error or warning you see on this page.
Package 141/1974HostnameOS / ArchINSTALLBUILDCHECKBUILD BIN
BgeeDB 2.16.0
Julien Wollbrett , Julien Roux , Andrea Komljenovic , Frederic Bastian
Snapshot Date: 2021-02-21 14:52:07 -0500 (Sun, 21 Feb 2021)
URL: https://git.bioconductor.org/packages/BgeeDB
Branch: RELEASE_3_12
Last Commit: ce6dd8f
Last Changed Date: 2020-10-27 11:14:01 -0500 (Tue, 27 Oct 2020)
malbec1Linux (Ubuntu 18.04.5 LTS) / x86_64  OK    OK    OK  UNNEEDED, same version exists in internal repository
nebbiolo1Linux (Ubuntu 20.04.2 LTS) / x86_64  OK    OK    OK  
tokay1Windows Server 2012 R2 Standard / x64  OK    OK    ERROR    OK  
merida1macOS 10.14.6 Mojave / x86_64  OK    OK    OK    OK  UNNEEDED, same version exists in internal repository

Summary

Package: BgeeDB
Version: 2.16.0
Command: /home/biocbuild/bbs-3.12-bioc/R/bin/R CMD check --install=check:BgeeDB.install-out.txt --library=/home/biocbuild/bbs-3.12-bioc/R/library --no-vignettes --timings BgeeDB_2.16.0.tar.gz
StartedAt: 2021-02-21 23:50:04 -0500 (Sun, 21 Feb 2021)
EndedAt: 2021-02-22 00:05:24 -0500 (Mon, 22 Feb 2021)
EllapsedTime: 919.5 seconds
RetCode: 0
Status:   OK  
CheckDir: BgeeDB.Rcheck
Warnings: 0

Command output

##############################################################################
##############################################################################
###
### Running command:
###
###   /home/biocbuild/bbs-3.12-bioc/R/bin/R CMD check --install=check:BgeeDB.install-out.txt --library=/home/biocbuild/bbs-3.12-bioc/R/library --no-vignettes --timings BgeeDB_2.16.0.tar.gz
###
##############################################################################
##############################################################################


* using log directory ‘/home/biocbuild/bbs-3.12-bioc/meat/BgeeDB.Rcheck’
* using R version 4.0.3 (2020-10-10)
* using platform: x86_64-pc-linux-gnu (64-bit)
* using session charset: UTF-8
* using option ‘--no-vignettes’
* checking for file ‘BgeeDB/DESCRIPTION’ ... OK
* checking extension type ... Package
* this is package ‘BgeeDB’ version ‘2.16.0’
* checking package namespace information ... OK
* checking package dependencies ... OK
* checking if this is a source package ... OK
* checking if there is a namespace ... OK
* checking for hidden files and directories ... OK
* checking for portable file names ... OK
* checking for sufficient/correct file permissions ... OK
* checking whether package ‘BgeeDB’ can be installed ... OK
* checking installed package size ... OK
* checking package directory ... OK
* checking ‘build’ directory ... OK
* checking DESCRIPTION meta-information ... OK
* checking top-level files ... OK
* checking for left-over files ... OK
* checking index information ... OK
* checking package subdirectories ... OK
* checking R files for non-ASCII characters ... OK
* checking R files for syntax errors ... OK
* checking whether the package can be loaded ... OK
* checking whether the package can be loaded with stated dependencies ... OK
* checking whether the package can be unloaded cleanly ... OK
* checking whether the namespace can be loaded with stated dependencies ... OK
* checking whether the namespace can be unloaded cleanly ... OK
* checking dependencies in R code ... OK
* checking S3 generic/method consistency ... OK
* checking replacement functions ... OK
* checking foreign function calls ... OK
* checking R code for possible problems ... OK
* checking Rd files ... OK
* checking Rd metadata ... OK
* checking Rd cross-references ... OK
* checking for missing documentation entries ... OK
* checking for code/documentation mismatches ... OK
* checking Rd \usage sections ... OK
* checking Rd contents ... OK
* checking for unstated dependencies in examples ... OK
* checking contents of ‘data’ directory ... OK
* checking data for non-ASCII characters ... OK
* checking data for ASCII and uncompressed saves ... OK
* checking files in ‘vignettes’ ... OK
* checking examples ... OK
Examples with CPU (user + system) or elapsed time > 5s
                   user system elapsed
getData         277.280 25.776 338.701
geneList         16.392  0.316  51.093
makeTable        11.476  0.688 212.321
formatData        3.884  0.344  11.369
topAnat           2.568  0.332   9.156
loadTopAnatData   2.352  0.104  39.424
listBgeeSpecies   0.516  0.040  10.967
Bgee-class        0.232  0.036   5.742
* checking for unstated dependencies in ‘tests’ ... OK
* checking tests ...
  Running ‘testthat.R’
 OK
* checking for unstated dependencies in vignettes ... OK
* checking package vignettes in ‘inst/doc’ ... OK
* checking running R code from vignettes ... SKIPPED
* checking re-building of vignette outputs ... SKIPPED
* checking PDF version of manual ... OK
* DONE

Status: OK


Installation output

BgeeDB.Rcheck/00install.out

##############################################################################
##############################################################################
###
### Running command:
###
###   /home/biocbuild/bbs-3.12-bioc/R/bin/R CMD INSTALL BgeeDB
###
##############################################################################
##############################################################################


* installing to library ‘/home/biocbuild/bbs-3.12-bioc/R/library’
* installing *source* package ‘BgeeDB’ ...
** using staged installation
** R
** data
** inst
** byte-compile and prepare package for lazy loading

groupGOTerms: 	GOBPTerm, GOMFTerm, GOCCTerm environments built.
** help
*** installing help indices
** building package indices
** installing vignettes
** testing if installed package can be loaded from temporary location

groupGOTerms: 	GOBPTerm, GOMFTerm, GOCCTerm environments built.
** testing if installed package can be loaded from final location

groupGOTerms: 	GOBPTerm, GOMFTerm, GOCCTerm environments built.
** testing if installed package keeps a record of temporary installation path
* DONE (BgeeDB)

Tests output

BgeeDB.Rcheck/tests/testthat.Rout


R version 4.0.3 (2020-10-10) -- "Bunny-Wunnies Freak Out"
Copyright (C) 2020 The R Foundation for Statistical Computing
Platform: x86_64-pc-linux-gnu (64-bit)

R is free software and comes with ABSOLUTELY NO WARRANTY.
You are welcome to redistribute it under certain conditions.
Type 'license()' or 'licence()' for distribution details.

R is a collaborative project with many contributors.
Type 'contributors()' for more information and
'citation()' on how to cite R or R packages in publications.

Type 'demo()' for some demos, 'help()' for on-line help, or
'help.start()' for an HTML browser interface to help.
Type 'q()' to quit R.

> library(testthat)
> library(BgeeDB)
Loading required package: topGO
Loading required package: BiocGenerics
Loading required package: parallel

Attaching package: 'BiocGenerics'

The following objects are masked from 'package:parallel':

    clusterApply, clusterApplyLB, clusterCall, clusterEvalQ,
    clusterExport, clusterMap, parApply, parCapply, parLapply,
    parLapplyLB, parRapply, parSapply, parSapplyLB

The following objects are masked from 'package:stats':

    IQR, mad, sd, var, xtabs

The following objects are masked from 'package:base':

    Filter, Find, Map, Position, Reduce, anyDuplicated, append,
    as.data.frame, basename, cbind, colnames, dirname, do.call,
    duplicated, eval, evalq, get, grep, grepl, intersect, is.unsorted,
    lapply, mapply, match, mget, order, paste, pmax, pmax.int, pmin,
    pmin.int, rank, rbind, rownames, sapply, setdiff, sort, table,
    tapply, union, unique, unsplit, which.max, which.min

Loading required package: graph
Loading required package: Biobase
Welcome to Bioconductor

    Vignettes contain introductory material; view with
    'browseVignettes()'. To cite Bioconductor, see
    'citation("Biobase")', and for packages 'citation("pkgname")'.

Loading required package: GO.db
Loading required package: AnnotationDbi
Loading required package: stats4
Loading required package: IRanges
Loading required package: S4Vectors

Attaching package: 'S4Vectors'

The following object is masked from 'package:base':

    expand.grid


Loading required package: SparseM

Attaching package: 'SparseM'

The following object is masked from 'package:base':

    backsolve


groupGOTerms: 	GOBPTerm, GOMFTerm, GOCCTerm environments built.

Attaching package: 'topGO'

The following object is masked from 'package:IRanges':

    members

Loading required package: tidyr

Attaching package: 'tidyr'

The following object is masked from 'package:S4Vectors':

    expand

The following object is masked from 'package:testthat':

    matches

> 
> Sys.setenv("R_TESTS" = "")
> test_check("BgeeDB")

Querying Bgee to get release information...

Building URL to query species in Bgee release 14_1...

Submitting URL to Bgee webservice... (https://r.bgee.org/bgee14_1/?page=r_package&action=get_all_species&display_type=tsv&source=BgeeDB_R_package&source_version=2.16.0)

Query to Bgee webservice successful!

API key built: 3fe87320130948088207ebd4acd1a7639f7b35b41e815d808675e552b0a66e36ea51adc79754706197a2b148890fce891ae232735ff9c5eeccc6bda5af816172

Saved annotation files in /home/biocbuild/bbs-3.12-bioc/meat/BgeeDB.Rcheck/tests/testthat/Mus_musculus_Bgee_14_1 folder.

Extracting expression data matrix...
  Keeping only present genes.

Extracting features information...

Extracting samples information...

Extracting expression data matrix...
  Keeping only present genes.

Extracting features information...

Extracting samples information...

Extracting expression data matrix...
  Keeping only present genes.

Extracting features information...

Extracting samples information...

Querying Bgee to get release information...

Building URL to query species in Bgee release 13_2...

Submitting URL to Bgee webservice... (https://r.bgee.org/bgee13/?page=species&display_type=tsv&source=BgeeDB_R_package&source_version=2.16.0)

Query to Bgee webservice successful!

API key built: 3fe87320130948088207ebd4acd1a7639f7b35b41e815d808675e552b0a66e36ea51adc79754706197a2b148890fce891ae232735ff9c5eeccc6bda5af816172

IMPORTANT INFORMATION: Be careful! You are not using the last release of the Bgee database! If it is not intentional you should update to the last version of Bioconductor and of the BgeeDB package. To update Bioconductor, see https://www.bioconductor.org/install/

Saved annotation files in /home/biocbuild/bbs-3.12-bioc/meat/BgeeDB.Rcheck/tests/testthat/Mus_musculus_Bgee_13_2 folder.

Extracting expression data matrix...
  Keeping only present genes.

Extracting features information...

Extracting samples information...

Extracting expression data matrix...
  Keeping only present genes.

Extracting features information...

Extracting samples information...

Querying Bgee to get release information...

NOTE: the file describing Bgee species information for release 14_1 was found in the download directory /home/biocbuild/bbs-3.12-bioc/meat/BgeeDB.Rcheck/tests/testthat. Data will not be redownloaded.

API key built: 3fe87320130948088207ebd4acd1a7639f7b35b41e815d808675e552b0a66e36ea51adc79754706197a2b148890fce891ae232735ff9c5eeccc6bda5af816172

NOTE: annotation files for this species were found in the download directory /home/biocbuild/bbs-3.12-bioc/meat/BgeeDB.Rcheck/tests/testthat/Mus_musculus_Bgee_14_1. Data will not be redownloaded.

Querying Bgee to get release information...

NOTE: the file describing Bgee species information for release 14_1 was found in the download directory /home/biocbuild/bbs-3.12-bioc/meat/BgeeDB.Rcheck/tests/testthat. Data will not be redownloaded.

API key built: 3fe87320130948088207ebd4acd1a7639f7b35b41e815d808675e552b0a66e36ea51adc79754706197a2b148890fce891ae232735ff9c5eeccc6bda5af816172

Saved annotation files in /home/biocbuild/bbs-3.12-bioc/meat/BgeeDB.Rcheck/tests/testthat/Mus_musculus_Bgee_14_1 folder.

Querying Bgee to get release information...

NOTE: the file describing Bgee species information for release 13_2 was found in the download directory /home/biocbuild/bbs-3.12-bioc/meat/BgeeDB.Rcheck/tests/testthat. Data will not be redownloaded.

API key built: 3fe87320130948088207ebd4acd1a7639f7b35b41e815d808675e552b0a66e36ea51adc79754706197a2b148890fce891ae232735ff9c5eeccc6bda5af816172

IMPORTANT INFORMATION: Be careful! You are not using the last release of the Bgee database! If it is not intentional you should update to the last version of Bioconductor and of the BgeeDB package. To update Bioconductor, see https://www.bioconductor.org/install/

NOTE: annotation files for this species were found in the download directory /home/biocbuild/bbs-3.12-bioc/meat/BgeeDB.Rcheck/tests/testthat/Mus_musculus_Bgee_13_2. Data will not be redownloaded.

Querying Bgee to get release information...

NOTE: the file describing Bgee species information for release 13_2 was found in the download directory /home/biocbuild/bbs-3.12-bioc/meat/BgeeDB.Rcheck/tests/testthat. Data will not be redownloaded.

API key built: 3fe87320130948088207ebd4acd1a7639f7b35b41e815d808675e552b0a66e36ea51adc79754706197a2b148890fce891ae232735ff9c5eeccc6bda5af816172

IMPORTANT INFORMATION: Be careful! You are not using the last release of the Bgee database! If it is not intentional you should update to the last version of Bioconductor and of the BgeeDB package. To update Bioconductor, see https://www.bioconductor.org/install/

Saved annotation files in /home/biocbuild/bbs-3.12-bioc/meat/BgeeDB.Rcheck/tests/testthat/Mus_musculus_Bgee_13_2 folder.

Querying Bgee to get release information...

Building URL to query species in Bgee release 14_1...

Submitting URL to Bgee webservice... (https://r.bgee.org/bgee14_1/?page=r_package&action=get_all_species&display_type=tsv&source=BgeeDB_R_package&source_version=2.16.0)

Query to Bgee webservice successful!

Querying Bgee to get release information...

Building URL to query species in Bgee release 14_1...

Submitting URL to Bgee webservice... (https://r.bgee.org/bgee14_1/?page=r_package&action=get_all_species&display_type=tsv&source=BgeeDB_R_package&source_version=2.16.0)

Query to Bgee webservice successful!

API key built: 3fe87320130948088207ebd4acd1a7639f7b35b41e815d808675e552b0a66e36ea51adc79754706197a2b148890fce891ae232735ff9c5eeccc6bda5af816172

Building URLs to retrieve organ relationships from Bgee.........
   URL successfully built (https://r.bgee.org/bgee14_1/?page=r_package&action=get_anat_entity_relations&display_type=tsv&species_list=9913&attr_list=SOURCE_ID&attr_list=TARGET_ID&api_key=3fe87320130948088207ebd4acd1a7639f7b35b41e815d808675e552b0a66e36ea51adc79754706197a2b148890fce891ae232735ff9c5eeccc6bda5af816172&source=BgeeDB_R_package&source_version=2.16.0)
   Submitting URL to Bgee webservice (can be long)
   Got results from Bgee webservice. Files are written in "/home/biocbuild/bbs-3.12-bioc/meat/BgeeDB.Rcheck/tests/testthat/Bos_taurus_Bgee_14_1"

Building URLs to retrieve organ names from Bgee.................
   URL successfully built (https://r.bgee.org/bgee14_1/?page=r_package&action=get_anat_entities&display_type=tsv&species_list=9913&attr_list=ID&attr_list=NAME&api_key=3fe87320130948088207ebd4acd1a7639f7b35b41e815d808675e552b0a66e36ea51adc79754706197a2b148890fce891ae232735ff9c5eeccc6bda5af816172&source=BgeeDB_R_package&source_version=2.16.0)
   Submitting URL to Bgee webservice (can be long)
   Got results from Bgee webservice. Files are written in "/home/biocbuild/bbs-3.12-bioc/meat/BgeeDB.Rcheck/tests/testthat/Bos_taurus_Bgee_14_1"

Building URLs to retrieve mapping of gene to organs from Bgee...
   URL successfully built (https://r.bgee.org/bgee14_1/?page=r_package&action=get_expression_calls&display_type=tsv&species_list=9913&attr_list=GENE_ID&attr_list=ANAT_ENTITY_ID&api_key=3fe87320130948088207ebd4acd1a7639f7b35b41e815d808675e552b0a66e36ea51adc79754706197a2b148890fce891ae232735ff9c5eeccc6bda5af816172&source=BgeeDB_R_package&source_version=2.16.0&data_type=RNA_SEQ&data_qual=SILVER&stage_id=UBERON:0000092)
   Submitting URL to Bgee webservice (can be long)
   Got results from Bgee webservice. Files are written in "/home/biocbuild/bbs-3.12-bioc/meat/BgeeDB.Rcheck/tests/testthat/Bos_taurus_Bgee_14_1"

Parsing the results.............................................

Adding BGEE:0 as unique root of all terms of the ontology.......

Done.

Querying Bgee to get release information...

NOTE: the file describing Bgee species information for release 14_1 was found in the download directory /home/biocbuild/bbs-3.12-bioc/meat/BgeeDB.Rcheck/tests/testthat. Data will not be redownloaded.

API key built: 3fe87320130948088207ebd4acd1a7639f7b35b41e815d808675e552b0a66e36ea51adc79754706197a2b148890fce891ae232735ff9c5eeccc6bda5af816172

Saved annotation files in /home/biocbuild/bbs-3.12-bioc/meat/BgeeDB.Rcheck/tests/testthat/Drosophila_simulans_Bgee_14_1 folder.

Querying Bgee to get release information...

NOTE: the file describing Bgee species information for release 14_1 was found in the download directory /home/biocbuild/bbs-3.12-bioc/meat/BgeeDB.Rcheck/tests/testthat. Data will not be redownloaded.

API key built: 3fe87320130948088207ebd4acd1a7639f7b35b41e815d808675e552b0a66e36ea51adc79754706197a2b148890fce891ae232735ff9c5eeccc6bda5af816172

NOTE: annotation files for this species were found in the download directory /home/biocbuild/bbs-3.12-bioc/meat/BgeeDB.Rcheck/tests/testthat/Mus_musculus_Bgee_14_1. Data will not be redownloaded.

Querying Bgee to get release information...

NOTE: the file describing Bgee species information for release 14_1 was found in the download directory /home/biocbuild/bbs-3.12-bioc/meat/BgeeDB.Rcheck/tests/testthat. Data will not be redownloaded.

API key built: 3fe87320130948088207ebd4acd1a7639f7b35b41e815d808675e552b0a66e36ea51adc79754706197a2b148890fce891ae232735ff9c5eeccc6bda5af816172

NOTE: an organ relationships file was found in the download directory /home/biocbuild/bbs-3.12-bioc/meat/BgeeDB.Rcheck/tests/testthat/Bos_taurus_Bgee_14_1. Data will not be redownloaded.

NOTE: an organ names file was found in the download directory /home/biocbuild/bbs-3.12-bioc/meat/BgeeDB.Rcheck/tests/testthat/Bos_taurus_Bgee_14_1. Data will not be redownloaded.

NOTE: a gene to organs mapping file was found in the download directory /home/biocbuild/bbs-3.12-bioc/meat/BgeeDB.Rcheck/tests/testthat/Bos_taurus_Bgee_14_1. Data will not be redownloaded.

Parsing the results.............................................

Adding BGEE:0 as unique root of all terms of the ontology.......

Done.

Checking topAnatData object.............

Checking gene list......................

Building most specific Ontology terms...  (  14  Ontology terms found. )

Building DAG topology...................  (  145  Ontology terms and  211  relations. )

Annotating nodes (Can be long)..........  (  97  genes annotated to the Ontology terms. )
[ FAIL 0 | WARN 0 | SKIP 0 | PASS 32 ]
> 
> proc.time()
   user  system elapsed 
 22.360   1.508 105.600 

Example timings

BgeeDB.Rcheck/BgeeDB-Ex.timings

nameusersystemelapsed
Bgee-class0.2320.0365.742
deleteLocalData0.0160.0041.810
deleteOldData0.0120.0041.692
formatData 3.884 0.34411.369
geneList16.392 0.31651.093
getAnnotation0.0240.0001.722
getData277.280 25.776338.701
listBgeeRelease0.0080.0001.679
listBgeeSpecies 0.516 0.04010.967
loadTopAnatData 2.352 0.10439.424
makeTable 11.476 0.688212.321
topAnat2.5680.3329.156