Back to Multiple platform build/check report for BioC 3.12
[A]BCDEFGHIJKLMNOPQRSTUVWXYZ

BUILD report for adaptest on merida1

This page was generated on 2020-09-21 11:26:58 -0400 (Mon, 21 Sep 2020).

TO THE DEVELOPERS/MAINTAINERS OF THE adaptest PACKAGE: Please make sure to use the following settings in order to reproduce any error or warning you see on this page.
Package 18/1912HostnameOS / ArchINSTALLBUILDCHECKBUILD BIN
adaptest 1.9.2
Weixin Cai
Snapshot Date: 2020-09-20 14:41:51 -0400 (Sun, 20 Sep 2020)
URL: https://git.bioconductor.org/packages/adaptest
Branch: master
Last Commit: e1ca795
Last Changed Date: 2020-08-28 07:48:45 -0400 (Fri, 28 Aug 2020)
malbec1 Linux (Ubuntu 18.04.4 LTS) / x86_64  OK  OK  ERROR 
nebbiolo1 Linux (Ubuntu 20.04.1 LTS) / x86_64  OK  OK  ERROR 
tokay1 Windows Server 2012 R2 Standard / x64  OK  OK  ERROR  OK 
riesling1 Windows Server 2019 Standard / x64  OK  OK  ERROR  OK 
merida1 macOS 10.14.6 Mojave / x86_64  OK [ OK ] ERROR  OK 

Summary

Package: adaptest
Version: 1.9.2
Command: /Library/Frameworks/R.framework/Versions/Current/Resources/bin/R CMD build --keep-empty-dirs --no-resave-data adaptest
StartedAt: 2020-09-20 21:18:55 -0400 (Sun, 20 Sep 2020)
EndedAt: 2020-09-20 21:20:27 -0400 (Sun, 20 Sep 2020)
EllapsedTime: 91.9 seconds
RetCode: 0
Status:  OK 
PackageFile: adaptest_1.9.2.tar.gz
PackageFileSize: 1017 KiB

Command output

##############################################################################
##############################################################################
###
### Running command:
###
###   /Library/Frameworks/R.framework/Versions/Current/Resources/bin/R CMD build --keep-empty-dirs --no-resave-data adaptest
###
##############################################################################
##############################################################################


* checking for file ‘adaptest/DESCRIPTION’ ... OK
* preparing ‘adaptest’:
* checking DESCRIPTION meta-information ... OK
* installing the package to build vignettes
* creating vignettes ... OK
* checking for LF line-endings in source and make files and shell scripts
* checking for empty or unneeded directories
* building ‘adaptest_1.9.2.tar.gz’