Back to Multiple platform build/check report for BioC 3.12
[A]BCDEFGHIJKLMNOPQRSTUVWXYZ

BUILD BIN report for affycoretools on tokay1

This page was generated on 2020-08-12 11:37:28 -0400 (Wed, 12 Aug 2020).

TO THE DEVELOPERS/MAINTAINERS OF THE affycoretools PACKAGE: Please make sure to use the following settings in order to reproduce any error or warning you see on this page.
Package 27/1885HostnameOS / ArchINSTALLBUILDCHECKBUILD BIN
affycoretools 1.61.2
James W. MacDonald
Snapshot Date: 2020-08-11 14:50:16 -0400 (Tue, 11 Aug 2020)
URL: https://git.bioconductor.org/packages/affycoretools
Branch: master
Last Commit: 2f77a7b
Last Changed Date: 2020-05-26 15:52:12 -0400 (Tue, 26 May 2020)
malbec1 Linux (Ubuntu 18.04.4 LTS) / x86_64  OK  OK  OK UNNEEDED, same version exists in internal repository
nebbiolo1 Linux (Ubuntu 20.04.1 LTS) / x86_64  OK  OK  OK 
tokay1 Windows Server 2012 R2 Standard / x64  OK  OK  WARNINGS [ OK ]UNNEEDED, same version exists in internal repository
merida1 macOS 10.14.6 Mojave / x86_64  OK  OK  OK  OK UNNEEDED, same version exists in internal repository

Summary

Package: affycoretools
Version: 1.61.2
Command: rm -rf affycoretools.buildbin-libdir && mkdir affycoretools.buildbin-libdir && C:\Users\biocbuild\bbs-3.12-bioc\R\bin\R.exe CMD INSTALL --merge-multiarch --build --library=affycoretools.buildbin-libdir affycoretools_1.61.2.tar.gz
StartedAt: 2020-08-12 07:09:43 -0400 (Wed, 12 Aug 2020)
EndedAt: 2020-08-12 07:11:59 -0400 (Wed, 12 Aug 2020)
EllapsedTime: 136.6 seconds
RetCode: 0
Status:  OK  
PackageFile: affycoretools_1.61.2.zip
PackageFileSize: 609.2 KiB

Command output

##############################################################################
##############################################################################
###
### Running command:
###
###   rm -rf affycoretools.buildbin-libdir && mkdir affycoretools.buildbin-libdir && C:\Users\biocbuild\bbs-3.12-bioc\R\bin\R.exe CMD INSTALL --merge-multiarch --build --library=affycoretools.buildbin-libdir affycoretools_1.61.2.tar.gz
###
##############################################################################
##############################################################################



install for i386

* installing *source* package 'affycoretools' ...
** using staged installation
** R
** inst
** byte-compile and prepare package for lazy loading
** help
*** installing help indices
  converting help for package 'affycoretools'
    finding HTML links ... done
    affycoretools-defunct                   html  
    affycoretools                           html  
    affystart                               html  
    annotateEset                            html  
Rd warning: C:/Users/biocbuild/bbs-3.12-bioc/tmpdir/RtmpQZ5ZJD/R.INSTALLf2089628e/affycoretools/man/annotateEset.Rd:44: file link 'columns' in package 'AnnotationDbi' does not exist and so has been treated as a topic
Rd warning: C:/Users/biocbuild/bbs-3.12-bioc/tmpdir/RtmpQZ5ZJD/R.INSTALLf2089628e/affycoretools/man/annotateEset.Rd:47: file link 'mapIds' in package 'AnnotationDbi' does not exist and so has been treated as a topic
Rd warning: C:/Users/biocbuild/bbs-3.12-bioc/tmpdir/RtmpQZ5ZJD/R.INSTALLf2089628e/affycoretools/man/annotateEset.Rd:52: file link 'rma' in package 'oligo' does not exist and so has been treated as a topic
    dataAndHeatmapPage                      html  
    doGlimma                                html  
    entrezLinks                             html  
    fixHeaderAndGo                          html  
    geneSetPage                             html  
    finding level-2 HTML links ... done

    getCols                                 html  
    getMainProbes                           html  
    gsHeatmap                               html  
    intNames                                html  
    make.cl                                 html  
    makeGoGeneTable                         html  
    makeGoTable                             html  
    makeHmap                                html  
    makeImages                              html  
    makeIndices                             html  
    makeVenn                                html  
Rd warning: C:/Users/biocbuild/bbs-3.12-bioc/tmpdir/RtmpQZ5ZJD/R.INSTALLf2089628e/affycoretools/man/makeVenn.Rd:91: file link 'glmQLFit' in package 'edgeR' does not exist and so has been treated as a topic
    maplot                                  html  
    mirna2mrna                              html  
    outputRomer                             html  
    pca.legend                              html  
    plotDeg                                 html  
    plotPCA                                 html  
    runRomer                                html  
    tableFilt                               html  
    venn4Way                                html  
    vennCounts2                             html  
    vennInLine                              html  
    vennPage                                html  
    vennSelect2                             html  
    writeFit                                html  
Rd warning: C:/Users/biocbuild/bbs-3.12-bioc/tmpdir/RtmpQZ5ZJD/R.INSTALLf2089628e/affycoretools/man/writeFit.Rd:39: file link 'write.fit' in package 'limma' does not exist and so has been treated as a topic
** building package indices
** installing vignettes
** testing if installed package can be loaded from temporary location
** testing if installed package can be loaded from final location
** testing if installed package keeps a record of temporary installation path

install for x64

* installing *source* package 'affycoretools' ...
** testing if installed package can be loaded
* MD5 sums
packaged installation of 'affycoretools' as affycoretools_1.61.2.zip
* DONE (affycoretools)