Back to Multiple platform build/check report for BioC 3.12
[A]BCDEFGHIJKLMNOPQRSTUVWXYZ

INSTALL report for AnnotationDbi on tokay1

This page was generated on 2021-04-18 12:05:13 -0400 (Sun, 18 Apr 2021).

To the developers/maintainers of the AnnotationDbi package:
Please make sure to use the following settings in order to reproduce any error or warning you see on this page.
Package 62/1974HostnameOS / ArchINSTALLBUILDCHECKBUILD BIN
AnnotationDbi 1.52.0  (landing page)
Bioconductor Package Maintainer
Snapshot Date: 2021-04-17 14:51:09 -0400 (Sat, 17 Apr 2021)
URL: https://git.bioconductor.org/packages/AnnotationDbi
Branch: RELEASE_3_12
Last Commit: c4e0ca9
Last Changed Date: 2020-10-27 10:29:55 -0400 (Tue, 27 Oct 2020)
malbec1Linux (Ubuntu 18.04.5 LTS) / x86_64  OK    OK    OK  UNNEEDED, same version exists in internal repository
tokay1Windows Server 2012 R2 Standard / x64  OK    OK    OK    OK  UNNEEDED, same version exists in internal repository
merida1macOS 10.14.6 Mojave / x86_64  OK    OK    OK    OK  UNNEEDED, same version exists in internal repository

Summary

Package: AnnotationDbi
Version: 1.52.0
Command: C:\cygwin\bin\curl.exe -O http://172.29.0.3/BBS/3.12/bioc/src/contrib/AnnotationDbi_1.52.0.tar.gz && rm -rf AnnotationDbi.buildbin-libdir && mkdir AnnotationDbi.buildbin-libdir && C:\Users\biocbuild\bbs-3.12-bioc\R\bin\R.exe CMD INSTALL --merge-multiarch --build --library=AnnotationDbi.buildbin-libdir AnnotationDbi_1.52.0.tar.gz && C:\Users\biocbuild\bbs-3.12-bioc\R\bin\R.exe CMD INSTALL AnnotationDbi_1.52.0.zip && rm AnnotationDbi_1.52.0.tar.gz AnnotationDbi_1.52.0.zip
StartedAt: 2021-04-17 17:11:21 -0400 (Sat, 17 Apr 2021)
EndedAt: 2021-04-17 17:13:50 -0400 (Sat, 17 Apr 2021)
EllapsedTime: 149.2 seconds
RetCode: 0
Status:   OK   

Command output

##############################################################################
##############################################################################
###
### Running command:
###
###   C:\cygwin\bin\curl.exe -O http://172.29.0.3/BBS/3.12/bioc/src/contrib/AnnotationDbi_1.52.0.tar.gz && rm -rf AnnotationDbi.buildbin-libdir && mkdir AnnotationDbi.buildbin-libdir && C:\Users\biocbuild\bbs-3.12-bioc\R\bin\R.exe CMD INSTALL --merge-multiarch --build --library=AnnotationDbi.buildbin-libdir AnnotationDbi_1.52.0.tar.gz && C:\Users\biocbuild\bbs-3.12-bioc\R\bin\R.exe CMD INSTALL AnnotationDbi_1.52.0.zip && rm AnnotationDbi_1.52.0.tar.gz AnnotationDbi_1.52.0.zip
###
##############################################################################
##############################################################################


  % Total    % Received % Xferd  Average Speed   Time    Time     Time  Current
                                 Dload  Upload   Total   Spent    Left  Speed

  0     0    0     0    0     0      0      0 --:--:-- --:--:-- --:--:--     0
100 3859k  100 3859k    0     0  56.5M      0 --:--:-- --:--:-- --:--:-- 57.1M

install for i386

* installing *source* package 'AnnotationDbi' ...
** using staged installation
** R
** inst
** byte-compile and prepare package for lazy loading
Creating a new generic function for 'packageName' in package 'AnnotationDbi'
Creating a generic function for 'ls' from package 'base' in package 'AnnotationDbi'
Creating a generic function for 'eapply' from package 'base' in package 'AnnotationDbi'
Creating a generic function for 'exists' from package 'base' in package 'AnnotationDbi'
Creating a generic function for 'sample' from package 'base' in package 'AnnotationDbi'
** help
*** installing help indices
  converting help for package 'AnnotationDbi'
    finding HTML links ... done
    AnnDbObj-class                          html  
    AnnDbPkg-checker                        html  
    AnnotationDb-class                      html  
    AnnotationDbi-internals                 html  
    Bimap-direction                         html  
    Bimap-envirAPI                          html  
    Bimap-keys                              html  
    Bimap-toTable                           html  
    Bimap                                   html  
    BimapFiltering                          html  
    BimapFormatting                         html  
    GOColsAndKeytypes                       html  
    GOFrame                                 html  
    GOTerms-class                           html  
    InparanoidColsAndKeytypes               html  
    KEGGFrame                               html  
    colsAndKeytypes                         html  
    createSimpleBimap                       html  
    inpIDMapper                             html  
    makeGOGraph                             html  
    make_eg_to_go_map                       html  
    orgPackageName                          html  
    print.probetable                        html  
    toSQLStringSet                          html  
    unlist2                                 html  
** building package indices
** installing vignettes
** testing if installed package can be loaded from temporary location
** testing if installed package can be loaded from final location
** testing if installed package keeps a record of temporary installation path

install for x64

* installing *source* package 'AnnotationDbi' ...
** testing if installed package can be loaded
* MD5 sums
packaged installation of 'AnnotationDbi' as AnnotationDbi_1.52.0.zip
* DONE (AnnotationDbi)
* installing to library 'C:/Users/biocbuild/bbs-3.12-bioc/R/library'
package 'AnnotationDbi' successfully unpacked and MD5 sums checked