Back to Multiple platform build/check report for BioC 3.12
A[B]CDEFGHIJKLMNOPQRSTUVWXYZ

BUILD BIN report for beadarray on tokay1

This page was generated on 2020-08-11 11:36:19 -0400 (Tue, 11 Aug 2020).

TO THE DEVELOPERS/MAINTAINERS OF THE beadarray PACKAGE: Please make sure to use the following settings in order to reproduce any error or warning you see on this page.
Package 126/1885HostnameOS / ArchINSTALLBUILDCHECKBUILD BIN
beadarray 2.39.0
Mark Dunning
Snapshot Date: 2020-08-10 14:50:56 -0400 (Mon, 10 Aug 2020)
URL: https://git.bioconductor.org/packages/beadarray
Branch: master
Last Commit: bd82da3
Last Changed Date: 2020-04-27 14:12:51 -0400 (Mon, 27 Apr 2020)
malbec1 Linux (Ubuntu 18.04.4 LTS) / x86_64  OK  OK  OK UNNEEDED, same version exists in internal repository
nebbiolo1 Linux (Ubuntu 20.04.1 LTS) / x86_64  OK  OK  NA 
tokay1 Windows Server 2012 R2 Standard / x64  OK  OK  OK [ OK ]UNNEEDED, same version exists in internal repository
merida1 macOS 10.14.6 Mojave / x86_64  OK  OK  OK  OK UNNEEDED, same version exists in internal repository

Summary

Package: beadarray
Version: 2.39.0
Command: rm -rf beadarray.buildbin-libdir && mkdir beadarray.buildbin-libdir && C:\Users\biocbuild\bbs-3.12-bioc\R\bin\R.exe CMD INSTALL --merge-multiarch --build --library=beadarray.buildbin-libdir beadarray_2.39.0.tar.gz
StartedAt: 2020-08-11 07:05:41 -0400 (Tue, 11 Aug 2020)
EndedAt: 2020-08-11 07:06:45 -0400 (Tue, 11 Aug 2020)
EllapsedTime: 64.0 seconds
RetCode: 0
Status:  OK  
PackageFile: beadarray_2.39.0.zip
PackageFileSize: 4.398 MiB

Command output

##############################################################################
##############################################################################
###
### Running command:
###
###   rm -rf beadarray.buildbin-libdir && mkdir beadarray.buildbin-libdir && C:\Users\biocbuild\bbs-3.12-bioc\R\bin\R.exe CMD INSTALL --merge-multiarch --build --library=beadarray.buildbin-libdir beadarray_2.39.0.tar.gz
###
##############################################################################
##############################################################################



install for i386

* installing *source* package 'beadarray' ...
** using staged installation
** libs
"C:/rtools40/mingw32/bin/"gcc  -I"C:/Users/BIOCBU~1/BBS-3~1.12-/R/include" -DNDEBUG     -I"C:/extsoft/include"     -O2 -Wall  -std=gnu99 -mfpmath=sse -msse2 -mstackrealign -c BASH.c -o BASH.o
"C:/rtools40/mingw32/bin/"gcc  -I"C:/Users/BIOCBU~1/BBS-3~1.12-/R/include" -DNDEBUG     -I"C:/extsoft/include"     -O2 -Wall  -std=gnu99 -mfpmath=sse -msse2 -mstackrealign -c HULK.c -o HULK.o
"C:/rtools40/mingw32/bin/"gcc  -I"C:/Users/BIOCBU~1/BBS-3~1.12-/R/include" -DNDEBUG     -I"C:/extsoft/include"     -O2 -Wall  -std=gnu99 -mfpmath=sse -msse2 -mstackrealign -c determiningGridPositions.c -o determiningGridPositions.o
"C:/rtools40/mingw32/bin/"gcc  -I"C:/Users/BIOCBU~1/BBS-3~1.12-/R/include" -DNDEBUG     -I"C:/extsoft/include"     -O2 -Wall  -std=gnu99 -mfpmath=sse -msse2 -mstackrealign -c findAllOutliers.c -o findAllOutliers.o
findAllOutliers.c: In function 'findBeadStatus':
findAllOutliers.c:196:29: warning: 'ma' may be used uninitialized in this function [-Wmaybe-uninitialized]
   if((inten[k] < (m + *nmads*ma)) && (inten[k] > (m - *nmads*ma))){
                       ~~~~~~^~~
findAllOutliers.c:196:53: warning: 'm' may be used uninitialized in this function [-Wmaybe-uninitialized]
   if((inten[k] < (m + *nmads*ma)) && (inten[k] > (m - *nmads*ma))){
                                                  ~~~^~~~~~~~~~~~
findAllOutliers.c: In function 'findAllOutliers':
findAllOutliers.c:226:20: warning: 'status' may be used uninitialized in this function [-Wmaybe-uninitialized]
  beadStatusStruct *status;
                    ^~~~~~
"C:/rtools40/mingw32/bin/"gcc  -I"C:/Users/BIOCBU~1/BBS-3~1.12-/R/include" -DNDEBUG     -I"C:/extsoft/include"     -O2 -Wall  -std=gnu99 -mfpmath=sse -msse2 -mstackrealign -c imageProcessing.c -o imageProcessing.o
imageProcessing.c: In function 'illuminaBackground':
imageProcessing.c:88: warning: ignoring #pragma omp parallel [-Wunknown-pragmas]
     #pragma omp parallel shared(nthreads, nbeads, imageHeight, pixelMatrix, coords) private(tid, start, end)
 
imageProcessing.c: In function 'medianBackground':
imageProcessing.c:135: warning: ignoring #pragma omp parallel [-Wunknown-pragmas]
     #pragma omp parallel shared(nthreads, nbeads, imageHeight, pixelMatrix, coords) private(tid, start, end)
 
imageProcessing.c: In function 'illuminaSharpen':
imageProcessing.c:244: warning: ignoring #pragma omp parallel [-Wunknown-pragmas]
     #pragma omp parallel for private(i, j) shared(sharpened) num_threads(2)
 
imageProcessing.c:251: warning: ignoring #pragma omp parallel [-Wunknown-pragmas]
     #pragma omp parallel for private(i, j, sum) shared(sharpened) num_threads(2)
 
C:/rtools40/mingw32/bin/gcc -shared -s -static-libgcc -o beadarray.dll tmp.def BASH.o HULK.o determiningGridPositions.o findAllOutliers.o imageProcessing.o -LC:/extsoft/lib/i386 -LC:/extsoft/lib -LC:/Users/BIOCBU~1/BBS-3~1.12-/R/bin/i386 -lR
installing to C:/Users/biocbuild/bbs-3.12-bioc/meat/beadarray.buildbin-libdir/00LOCK-beadarray/00new/beadarray/libs/i386
** R
** data
*** moving datasets to lazyload DB
** inst
** byte-compile and prepare package for lazy loading
** help
*** installing help indices
  converting help for package 'beadarray'
    finding HTML links ... done
    BASH                                    html  
    BASHCompact                             html  
    BASHDiffuse                             html  
    BASHExtended                            html  
    GEO                                     html  
    GEOtemplate                             html  
    HULK                                    html  
    addFeatureData                          html  
    annotationInterface                     html  
    backgroundCorrectSingleSection          html  
    beadarray-package                       html  
    beadarrayUsersGuide                     html  
    boxplot                                 html  
    calculateDetection                      html  
    calculateOutlierStats                   html  
    checkRegistration                       html  
    class-BeadLevelList                     html  
    class-ExpressionSetIllumina             html  
    class-beadLevelData                     html  
    class-beadRegistrationData              html  
    class-illuminaChannel                   html  
    class-limmaResults                      html  
    combine                                 html  
    controlProbeDetection                   html  
    convertBeadLevelList                    html  
    createTargetsFile                       html  
    deprecatedFunctions                     html  
    dim                                     html  
    expressionQCPipeline                    html  
    generateNeighbours                      html  
    getBeadData                             html  
    identifyControlBeads                    html  
    illuminaOutlierMethod                   html  
    imageProcessing                         html  
    imageplot                               html  
    insertBeadData                          html  
    insertSectionData                       html  
    limmaDE                                 html  
    makeControlProfile                      html  
    makeQCTable                             html  
    maplots                                 html  
    medianNormalise                         html  
    metrics                                 html  
    noOutlierMethod                         html  
    normaliseIllumina                       html  
    numBeads                                html  
    outlierplot                             html  
    platformSigs                            html  
    plotBeadIntensities                     html  
    plotBeadLocations                       html  
    plotChipLayout                          html  
    plotMAXY                                html  
    plotTIFF                                html  
    poscontPlot                             html  
    processSwathData                        html  
    quickSummary                            html  
    readBeadSummaryData                     html  
    readIdatFiles                           html  
    readIllumina                            html  
    readLocsFile                            html  
    readTIFF                                html  
    sampleSheet                             html  
    sectionNames                            html  
    setWeights                              html  
    show                                    html  
    showArrayMask                           html  
    squeezedVarOutlierMethod                html  
    summarize                               html  
    transformationFunctions                 html  
    weightsOutlierMethod                    html  
** building package indices
** installing vignettes
** testing if installed package can be loaded from temporary location
** testing if installed package can be loaded from final location
** testing if installed package keeps a record of temporary installation path

install for x64

* installing *source* package 'beadarray' ...
** libs
"C:/rtools40/mingw64/bin/"gcc  -I"C:/Users/BIOCBU~1/BBS-3~1.12-/R/include" -DNDEBUG     -I"C:/extsoft/include"     -O2 -Wall  -std=gnu99 -mfpmath=sse -msse2 -mstackrealign -c BASH.c -o BASH.o
"C:/rtools40/mingw64/bin/"gcc  -I"C:/Users/BIOCBU~1/BBS-3~1.12-/R/include" -DNDEBUG     -I"C:/extsoft/include"     -O2 -Wall  -std=gnu99 -mfpmath=sse -msse2 -mstackrealign -c HULK.c -o HULK.o
"C:/rtools40/mingw64/bin/"gcc  -I"C:/Users/BIOCBU~1/BBS-3~1.12-/R/include" -DNDEBUG     -I"C:/extsoft/include"     -O2 -Wall  -std=gnu99 -mfpmath=sse -msse2 -mstackrealign -c determiningGridPositions.c -o determiningGridPositions.o
"C:/rtools40/mingw64/bin/"gcc  -I"C:/Users/BIOCBU~1/BBS-3~1.12-/R/include" -DNDEBUG     -I"C:/extsoft/include"     -O2 -Wall  -std=gnu99 -mfpmath=sse -msse2 -mstackrealign -c findAllOutliers.c -o findAllOutliers.o
findAllOutliers.c: In function 'findBeadStatus':
findAllOutliers.c:196:29: warning: 'ma' may be used uninitialized in this function [-Wmaybe-uninitialized]
   if((inten[k] < (m + *nmads*ma)) && (inten[k] > (m - *nmads*ma))){
                       ~~~~~~^~~
findAllOutliers.c:196:53: warning: 'm' may be used uninitialized in this function [-Wmaybe-uninitialized]
   if((inten[k] < (m + *nmads*ma)) && (inten[k] > (m - *nmads*ma))){
                                                  ~~~^~~~~~~~~~~~
findAllOutliers.c: In function 'findAllOutliers':
findAllOutliers.c:226:20: warning: 'status' may be used uninitialized in this function [-Wmaybe-uninitialized]
  beadStatusStruct *status;
                    ^~~~~~
"C:/rtools40/mingw64/bin/"gcc  -I"C:/Users/BIOCBU~1/BBS-3~1.12-/R/include" -DNDEBUG     -I"C:/extsoft/include"     -O2 -Wall  -std=gnu99 -mfpmath=sse -msse2 -mstackrealign -c imageProcessing.c -o imageProcessing.o
imageProcessing.c: In function 'illuminaBackground':
imageProcessing.c:88: warning: ignoring #pragma omp parallel [-Wunknown-pragmas]
     #pragma omp parallel shared(nthreads, nbeads, imageHeight, pixelMatrix, coords) private(tid, start, end)
 
imageProcessing.c: In function 'medianBackground':
imageProcessing.c:135: warning: ignoring #pragma omp parallel [-Wunknown-pragmas]
     #pragma omp parallel shared(nthreads, nbeads, imageHeight, pixelMatrix, coords) private(tid, start, end)
 
imageProcessing.c: In function 'illuminaSharpen':
imageProcessing.c:244: warning: ignoring #pragma omp parallel [-Wunknown-pragmas]
     #pragma omp parallel for private(i, j) shared(sharpened) num_threads(2)
 
imageProcessing.c:251: warning: ignoring #pragma omp parallel [-Wunknown-pragmas]
     #pragma omp parallel for private(i, j, sum) shared(sharpened) num_threads(2)
 
C:/rtools40/mingw64/bin/gcc -shared -s -static-libgcc -o beadarray.dll tmp.def BASH.o HULK.o determiningGridPositions.o findAllOutliers.o imageProcessing.o -LC:/extsoft/lib/x64 -LC:/extsoft/lib -LC:/Users/BIOCBU~1/BBS-3~1.12-/R/bin/x64 -lR
installing to C:/Users/biocbuild/bbs-3.12-bioc/meat/beadarray.buildbin-libdir/beadarray/libs/x64
** testing if installed package can be loaded
* MD5 sums
packaged installation of 'beadarray' as beadarray_2.39.0.zip
* DONE (beadarray)