Back to Multiple platform build/check report for BioC 3.12
ABCDEF[G]HIJKLMNOPQRSTUVWXYZ

CHECK report for geneClassifiers on malbec1

This page was generated on 2021-01-19 11:51:51 -0500 (Tue, 19 Jan 2021).

TO THE DEVELOPERS/MAINTAINERS OF THE geneClassifiers PACKAGE: Please make sure to use the following settings in order to reproduce any error or warning you see on this page.
Package 685/1974HostnameOS / ArchINSTALLBUILDCHECKBUILD BIN
geneClassifiers 1.14.0
R Kuiper
Snapshot Date: 2021-01-18 14:42:24 -0500 (Mon, 18 Jan 2021)
URL: https://git.bioconductor.org/packages/geneClassifiers
Branch: RELEASE_3_12
Last Commit: 1267ca3
Last Changed Date: 2020-10-27 11:21:25 -0500 (Tue, 27 Oct 2020)
malbec1 Linux (Ubuntu 18.04.5 LTS) / x86_64  OK  OK [ OK ]UNNEEDED, same version exists in internal repository
nebbiolo1 Linux (Ubuntu 20.04.1 LTS) / x86_64  OK  OK  OK 
tokay1 Windows Server 2012 R2 Standard / x64  OK  OK  OK  OK UNNEEDED, same version exists in internal repository
merida1 macOS 10.14.6 Mojave / x86_64  OK  OK  OK  OK UNNEEDED, same version exists in internal repository

Summary

Package: geneClassifiers
Version: 1.14.0
Command: /home/biocbuild/bbs-3.12-bioc/R/bin/R CMD check --install=check:geneClassifiers.install-out.txt --library=/home/biocbuild/bbs-3.12-bioc/R/library --no-vignettes --timings geneClassifiers_1.14.0.tar.gz
StartedAt: 2021-01-19 02:37:09 -0500 (Tue, 19 Jan 2021)
EndedAt: 2021-01-19 02:37:48 -0500 (Tue, 19 Jan 2021)
EllapsedTime: 39.4 seconds
RetCode: 0
Status:  OK 
CheckDir: geneClassifiers.Rcheck
Warnings: 0

Command output

##############################################################################
##############################################################################
###
### Running command:
###
###   /home/biocbuild/bbs-3.12-bioc/R/bin/R CMD check --install=check:geneClassifiers.install-out.txt --library=/home/biocbuild/bbs-3.12-bioc/R/library --no-vignettes --timings geneClassifiers_1.14.0.tar.gz
###
##############################################################################
##############################################################################


* using log directory ‘/home/biocbuild/bbs-3.12-bioc/meat/geneClassifiers.Rcheck’
* using R version 4.0.3 (2020-10-10)
* using platform: x86_64-pc-linux-gnu (64-bit)
* using session charset: UTF-8
* using option ‘--no-vignettes’
* checking for file ‘geneClassifiers/DESCRIPTION’ ... OK
* checking extension type ... Package
* this is package ‘geneClassifiers’ version ‘1.14.0’
* package encoding: UTF-8
* checking package namespace information ... OK
* checking package dependencies ... OK
* checking if this is a source package ... OK
* checking if there is a namespace ... OK
* checking for hidden files and directories ... OK
* checking for portable file names ... OK
* checking for sufficient/correct file permissions ... OK
* checking whether package ‘geneClassifiers’ can be installed ... OK
* checking installed package size ... OK
* checking package directory ... OK
* checking ‘build’ directory ... OK
* checking DESCRIPTION meta-information ... OK
* checking top-level files ... OK
* checking for left-over files ... OK
* checking index information ... OK
* checking package subdirectories ... OK
* checking R files for non-ASCII characters ... OK
* checking R files for syntax errors ... OK
* checking whether the package can be loaded ... OK
* checking whether the package can be loaded with stated dependencies ... OK
* checking whether the package can be unloaded cleanly ... OK
* checking whether the namespace can be loaded with stated dependencies ... OK
* checking whether the namespace can be unloaded cleanly ... OK
* checking dependencies in R code ... OK
* checking S3 generic/method consistency ... OK
* checking replacement functions ... OK
* checking foreign function calls ... OK
* checking R code for possible problems ... OK
* checking Rd files ... OK
* checking Rd metadata ... OK
* checking Rd cross-references ... OK
* checking for missing documentation entries ... OK
* checking for code/documentation mismatches ... OK
* checking Rd \usage sections ... OK
* checking Rd contents ... OK
* checking for unstated dependencies in examples ... OK
* checking contents of ‘data’ directory ... OK
* checking data for non-ASCII characters ... OK
* checking data for ASCII and uncompressed saves ... OK
* checking R/sysdata.rda ... OK
* checking files in ‘vignettes’ ... OK
* checking examples ... OK
* checking for unstated dependencies in ‘tests’ ... OK
* checking tests ...
  Running ‘testthat.R’
 OK
* checking for unstated dependencies in vignettes ... OK
* checking package vignettes in ‘inst/doc’ ... OK
* checking running R code from vignettes ... SKIPPED
* checking re-building of vignette outputs ... SKIPPED
* checking PDF version of manual ... OK
* DONE

Status: OK


Installation output

geneClassifiers.Rcheck/00install.out

##############################################################################
##############################################################################
###
### Running command:
###
###   /home/biocbuild/bbs-3.12-bioc/R/bin/R CMD INSTALL geneClassifiers
###
##############################################################################
##############################################################################


* installing to library ‘/home/biocbuild/bbs-3.12-bioc/R/library’
* installing *source* package ‘geneClassifiers’ ...
** using staged installation
** R
** data
*** moving datasets to lazyload DB
** byte-compile and prepare package for lazy loading
** help
*** installing help indices
** building package indices
** installing vignettes
** testing if installed package can be loaded from temporary location
** testing if installed package can be loaded from final location
** testing if installed package keeps a record of temporary installation path
* DONE (geneClassifiers)

Tests output

geneClassifiers.Rcheck/tests/testthat.Rout


R version 4.0.3 (2020-10-10) -- "Bunny-Wunnies Freak Out"
Copyright (C) 2020 The R Foundation for Statistical Computing
Platform: x86_64-pc-linux-gnu (64-bit)

R is free software and comes with ABSOLUTELY NO WARRANTY.
You are welcome to redistribute it under certain conditions.
Type 'license()' or 'licence()' for distribution details.

R is a collaborative project with many contributors.
Type 'contributors()' for more information and
'citation()' on how to cite R or R packages in publications.

Type 'demo()' for some demos, 'help()' for on-line help, or
'help.start()' for an HTML browser interface to help.
Type 'q()' to quit R.

> library(testthat)
> library(geneClassifiers)
> 
> test_check("geneClassifiers")
[ FAIL 0 | WARN 0 | SKIP 0 | PASS 191 ]
> 
> proc.time()
   user  system elapsed 
  3.892   0.068   3.959 

Example timings

geneClassifiers.Rcheck/geneClassifiers-Ex.timings

nameusersystemelapsed
bracket-methods0.0200.0080.031
dim-methods0.0080.0040.013
getBatchCorrection-methods0.2480.0080.257
getCitations-methods0.0000.0000.001
getClassifications-methods0.020.000.02
getClassifier-methods0.0000.0000.002
getDecisionBoundaries-methods0.0040.0000.002
getDescription-methods0.0000.0000.002
getEventChain-methods0.0040.0000.001
getIntercept-methods0.0000.0000.002
getMeans-methods0.0040.0000.002
getName-methods0.0000.0000.001
getNormalizationMethod-methods0.0320.0000.032
getProbeNames-methods0.0040.0000.002
getScores-methods0.0240.0000.026
getSds-methods0.0000.0000.002
getTargetValue-methods0.0120.0000.011
getTrainingData-methods0.0400.0000.038
getWeightingType-methods0.0160.0000.018
getWeights-methods0.0040.0000.003
runClassifier-methods0.0160.0040.021
setNormalizationMethod-methods0.0200.0000.021
showClassifierList-methods0.0240.0040.026