Back to Multiple platform build/check report for BioC 3.12
ABCDEFGHIJKL[M]NOPQRSTUVWXYZ

Multiple platform build/check report for BioC 3.12

Results for methyvim

This page was generated on 2020-10-24 10:55:54 -0400 (Sat, 24 Oct 2020).

Package 1084/1974HostnameOS / ArchINSTALLBUILDCHECKBUILD BIN
methyvim 1.11.1
Nima Hejazi
Snapshot Date: 2020-10-23 14:40:36 -0400 (Fri, 23 Oct 2020)
URL: https://git.bioconductor.org/packages/methyvim
Branch: master
Last Commit: d698b53
Last Changed Date: 2020-09-29 10:02:42 -0400 (Tue, 29 Sep 2020)
malbec1 Linux (Ubuntu 18.04.4 LTS) / x86_64  OK  ERROR  skipped 
nebbiolo1 Linux (Ubuntu 20.04.1 LTS) / x86_64  OK  ERROR  skipped 
tokay1 Windows Server 2012 R2 Standard / x64  OK  ERROR  skipped  skipped 
riesling1 Windows Server 2019 Standard / x64  OK  ERROR  skipped  skipped 
merida1 macOS 10.14.6 Mojave / x86_64  OK  ERROR  skipped  skipped