Back to Multiple platform build/check report for BioC 3.12
AB[C]DEFGHIJKLMNOPQRSTUVWXYZ

BUILD report for CellMixS on malbec1

This page was generated on 2020-09-20 10:12:17 -0400 (Sun, 20 Sep 2020).

TO THE DEVELOPERS/MAINTAINERS OF THE CellMixS PACKAGE: Please make sure to use the following settings in order to reproduce any error or warning you see on this page.
Package 246/1912HostnameOS / ArchINSTALLBUILDCHECKBUILD BIN
CellMixS 1.5.2
Almut Lütge
Snapshot Date: 2020-09-19 14:40:23 -0400 (Sat, 19 Sep 2020)
URL: https://git.bioconductor.org/packages/CellMixS
Branch: master
Last Commit: 8bcc521
Last Changed Date: 2020-09-08 02:40:49 -0400 (Tue, 08 Sep 2020)
malbec1 Linux (Ubuntu 18.04.4 LTS) / x86_64  OK [ OK ] OK UNNEEDED, same version exists in internal repository
nebbiolo1 Linux (Ubuntu 20.04.1 LTS) / x86_64  OK  OK  OK 
tokay1 Windows Server 2012 R2 Standard / x64  OK  OK  OK  OK UNNEEDED, same version exists in internal repository
riesling1 Windows Server 2019 Standard / x64  OK  OK  OK  OK 
merida1 macOS 10.14.6 Mojave / x86_64  OK  OK  OK  OK UNNEEDED, same version exists in internal repository

Summary

Package: CellMixS
Version: 1.5.2
Command: /home/biocbuild/bbs-3.12-bioc/R/bin/R CMD build --keep-empty-dirs --no-resave-data CellMixS
StartedAt: 2020-09-19 21:53:17 -0400 (Sat, 19 Sep 2020)
EndedAt: 2020-09-19 21:56:57 -0400 (Sat, 19 Sep 2020)
EllapsedTime: 220.7 seconds
RetCode: 0
Status:  OK 
PackageFile: CellMixS_1.5.2.tar.gz
PackageFileSize: 3.323 MiB

Command output

##############################################################################
##############################################################################
###
### Running command:
###
###   /home/biocbuild/bbs-3.12-bioc/R/bin/R CMD build --keep-empty-dirs --no-resave-data CellMixS
###
##############################################################################
##############################################################################


* checking for file ‘CellMixS/DESCRIPTION’ ... OK
* preparing ‘CellMixS’:
* checking DESCRIPTION meta-information ... OK
* installing the package to build vignettes
* creating vignettes ... OK
* checking for LF line-endings in source and make files and shell scripts
* checking for empty or unneeded directories
* looking to see if a ‘data/datalist’ file should be added
* building ‘CellMixS_1.5.2.tar.gz’