Back to Multiple platform build/check report for BioC 3.12
[A]BCDEFGHIJKLMNOPQRSTUVWXYZ

BUILD report for arrayMvout on malbec1

This page was generated on 2020-09-19 10:14:08 -0400 (Sat, 19 Sep 2020).

TO THE DEVELOPERS/MAINTAINERS OF THE arrayMvout PACKAGE: Please make sure to use the following settings in order to reproduce any error or warning you see on this page.
Package 78/1912HostnameOS / ArchINSTALLBUILDCHECKBUILD BIN
arrayMvout 1.47.0
V. Carey
Snapshot Date: 2020-09-18 14:43:25 -0400 (Fri, 18 Sep 2020)
URL: https://git.bioconductor.org/packages/arrayMvout
Branch: master
Last Commit: 972577c
Last Changed Date: 2020-04-27 14:18:24 -0400 (Mon, 27 Apr 2020)
malbec1 Linux (Ubuntu 18.04.4 LTS) / x86_64  OK [ OK ] OK UNNEEDED, same version exists in internal repository
nebbiolo1 Linux (Ubuntu 20.04.1 LTS) / x86_64  OK  OK  OK 
tokay1 Windows Server 2012 R2 Standard / x64  OK  OK  OK  OK UNNEEDED, same version exists in internal repository
riesling1 Windows Server 2019 Standard / x64  OK  OK  OK  OK 
merida1 macOS 10.14.6 Mojave / x86_64  OK  OK  OK  OK UNNEEDED, same version exists in internal repository

Summary

Package: arrayMvout
Version: 1.47.0
Command: /home/biocbuild/bbs-3.12-bioc/R/bin/R CMD build --keep-empty-dirs --no-resave-data arrayMvout
StartedAt: 2020-09-18 18:08:22 -0400 (Fri, 18 Sep 2020)
EndedAt: 2020-09-18 18:09:27 -0400 (Fri, 18 Sep 2020)
EllapsedTime: 65.0 seconds
RetCode: 0
Status:  OK 
PackageFile: arrayMvout_1.47.0.tar.gz
PackageFileSize: 581.5 KiB

Command output

##############################################################################
##############################################################################
###
### Running command:
###
###   /home/biocbuild/bbs-3.12-bioc/R/bin/R CMD build --keep-empty-dirs --no-resave-data arrayMvout
###
##############################################################################
##############################################################################


* checking for file ‘arrayMvout/DESCRIPTION’ ... OK
* preparing ‘arrayMvout’:
* checking DESCRIPTION meta-information ... OK
* installing the package to build vignettes
* creating vignettes ... OK
* checking for LF line-endings in source and make files and shell scripts
* checking for empty or unneeded directories
* looking to see if a ‘data/datalist’ file should be added
* building ‘arrayMvout_1.47.0.tar.gz’