Back to Multiple platform build/check report for BioC 3.12
A[B]CDEFGHIJKLMNOPQRSTUVWXYZ

BUILD report for BeadDataPackR on merida1

This page was generated on 2021-01-22 11:57:45 -0500 (Fri, 22 Jan 2021).

TO THE DEVELOPERS/MAINTAINERS OF THE BeadDataPackR PACKAGE: Please make sure to use the following settings in order to reproduce any error or warning you see on this page.
Package 136/1974HostnameOS / ArchINSTALLBUILDCHECKBUILD BIN
BeadDataPackR 1.42.0
Mike Smith
Snapshot Date: 2021-01-21 14:42:12 -0500 (Thu, 21 Jan 2021)
URL: https://git.bioconductor.org/packages/BeadDataPackR
Branch: RELEASE_3_12
Last Commit: 95371b9
Last Changed Date: 2020-10-27 10:37:45 -0500 (Tue, 27 Oct 2020)
malbec1 Linux (Ubuntu 18.04.5 LTS) / x86_64  OK  OK  OK UNNEEDED, same version exists in internal repository
nebbiolo1 Linux (Ubuntu 20.04.1 LTS) / x86_64  OK  OK  OK 
tokay1 Windows Server 2012 R2 Standard / x64  OK  OK  OK  OK UNNEEDED, same version exists in internal repository
merida1 macOS 10.14.6 Mojave / x86_64  OK [ OK ] OK  OK UNNEEDED, same version exists in internal repository

Summary

Package: BeadDataPackR
Version: 1.42.0
Command: /Library/Frameworks/R.framework/Versions/Current/Resources/bin/R CMD build --keep-empty-dirs --no-resave-data BeadDataPackR
StartedAt: 2021-01-21 18:16:24 -0500 (Thu, 21 Jan 2021)
EndedAt: 2021-01-21 18:16:35 -0500 (Thu, 21 Jan 2021)
EllapsedTime: 10.8 seconds
RetCode: 0
Status:  OK 
PackageFile: BeadDataPackR_1.42.0.tar.gz
PackageFileSize: 227.7 KiB

Command output

##############################################################################
##############################################################################
###
### Running command:
###
###   /Library/Frameworks/R.framework/Versions/Current/Resources/bin/R CMD build --keep-empty-dirs --no-resave-data BeadDataPackR
###
##############################################################################
##############################################################################


* checking for file ‘BeadDataPackR/DESCRIPTION’ ... OK
* preparing ‘BeadDataPackR’:
* checking DESCRIPTION meta-information ... OK
* cleaning src
* installing the package to build vignettes
* creating vignettes ... OK
* cleaning src
* checking for LF line-endings in source and make files and shell scripts
* checking for empty or unneeded directories
* building ‘BeadDataPackR_1.42.0.tar.gz’