Back to Multiple platform build/check report for BioC 3.12
[A]BCDEFGHIJKLMNOPQRSTUVWXYZ

BUILD report for annotationTools on merida1

This page was generated on 2020-09-20 10:20:58 -0400 (Sun, 20 Sep 2020).

TO THE DEVELOPERS/MAINTAINERS OF THE annotationTools PACKAGE: Please make sure to use the following settings in order to reproduce any error or warning you see on this page.
Package 65/1912HostnameOS / ArchINSTALLBUILDCHECKBUILD BIN
annotationTools 1.63.0
Alexandre Kuhn
Snapshot Date: 2020-09-19 14:40:23 -0400 (Sat, 19 Sep 2020)
URL: https://git.bioconductor.org/packages/annotationTools
Branch: master
Last Commit: 0a25929
Last Changed Date: 2020-04-27 14:14:46 -0400 (Mon, 27 Apr 2020)
malbec1 Linux (Ubuntu 18.04.4 LTS) / x86_64  OK  OK  OK UNNEEDED, same version exists in internal repository
nebbiolo1 Linux (Ubuntu 20.04.1 LTS) / x86_64  OK  OK  OK 
tokay1 Windows Server 2012 R2 Standard / x64  OK  OK  OK  OK UNNEEDED, same version exists in internal repository
riesling1 Windows Server 2019 Standard / x64  OK  OK  OK  OK 
merida1 macOS 10.14.6 Mojave / x86_64  OK [ OK ] OK  OK UNNEEDED, same version exists in internal repository

Summary

Package: annotationTools
Version: 1.63.0
Command: /Library/Frameworks/R.framework/Versions/Current/Resources/bin/R CMD build --keep-empty-dirs --no-resave-data annotationTools
StartedAt: 2020-09-19 18:02:43 -0400 (Sat, 19 Sep 2020)
EndedAt: 2020-09-19 18:03:12 -0400 (Sat, 19 Sep 2020)
EllapsedTime: 29.9 seconds
RetCode: 0
Status:  OK 
PackageFile: annotationTools_1.63.0.tar.gz
PackageFileSize: 326.6 KiB

Command output

##############################################################################
##############################################################################
###
### Running command:
###
###   /Library/Frameworks/R.framework/Versions/Current/Resources/bin/R CMD build --keep-empty-dirs --no-resave-data annotationTools
###
##############################################################################
##############################################################################


* checking for file ‘annotationTools/DESCRIPTION’ ... OK
* preparing ‘annotationTools’:
* checking DESCRIPTION meta-information ... OK
* installing the package to build vignettes
* creating vignettes ... OK
* checking for LF line-endings in source and make files and shell scripts
* checking for empty or unneeded directories
* looking to see if a ‘data/datalist’ file should be added
* building ‘annotationTools_1.63.0.tar.gz’