Back to Multiple platform build/check report for BioC 3.12
AB[C]DEFGHIJKLMNOPQRSTUVWXYZ

BUILD BIN report for cBioPortalData on tokay1

This page was generated on 2020-08-07 12:20:49 -0400 (Fri, 07 Aug 2020).

TO THE DEVELOPERS/MAINTAINERS OF THE cBioPortalData PACKAGE: Please make sure to use the following settings in order to reproduce any error or warning you see on this page.
Package 232/1882HostnameOS / ArchINSTALLBUILDCHECKBUILD BIN
cBioPortalData 2.1.23
Marcel Ramos
Snapshot Date: 2020-08-06 14:50:46 -0400 (Thu, 06 Aug 2020)
URL: https://git.bioconductor.org/packages/cBioPortalData
Branch: master
Last Commit: 06a601a
Last Changed Date: 2020-08-05 23:49:47 -0400 (Wed, 05 Aug 2020)
malbec1 Linux (Ubuntu 18.04.4 LTS) / x86_64  OK  OK  OK YES, new version is higher than in internal repository
tokay1 Windows Server 2012 R2 Standard / x64  OK  OK  OK [ OK ]YES, new version is higher than in internal repository
merida1 macOS 10.14.6 Mojave / x86_64  OK  OK  OK  OK YES, new version is higher than in internal repository

Summary

Package: cBioPortalData
Version: 2.1.23
Command: rm -rf cBioPortalData.buildbin-libdir && mkdir cBioPortalData.buildbin-libdir && C:\Users\biocbuild\bbs-3.12-bioc\R\bin\R.exe CMD INSTALL --merge-multiarch --build --library=cBioPortalData.buildbin-libdir cBioPortalData_2.1.23.tar.gz
StartedAt: 2020-08-07 08:46:30 -0400 (Fri, 07 Aug 2020)
EndedAt: 2020-08-07 08:47:52 -0400 (Fri, 07 Aug 2020)
EllapsedTime: 82.0 seconds
RetCode: 0
Status:  OK  
PackageFile: cBioPortalData_2.1.23.zip
PackageFileSize: 589.6 KiB

Command output

##############################################################################
##############################################################################
###
### Running command:
###
###   rm -rf cBioPortalData.buildbin-libdir && mkdir cBioPortalData.buildbin-libdir && C:\Users\biocbuild\bbs-3.12-bioc\R\bin\R.exe CMD INSTALL --merge-multiarch --build --library=cBioPortalData.buildbin-libdir cBioPortalData_2.1.23.tar.gz
###
##############################################################################
##############################################################################



install for i386

* installing *source* package 'cBioPortalData' ...
** using staged installation
** R
** data
*** moving datasets to lazyload DB
** inst
** byte-compile and prepare package for lazy loading
** help
*** installing help indices
  converting help for package 'cBioPortalData'
    finding HTML links ... done
    cBioCache                               html  
    cBioDataPack                            html  
    finding level-2 HTML links ... done

    cBioPortal-class                        html  
    cBioPortal                              html  
    cBioPortalData                          html  
    downloadStudy                           html  
    studiesTable                            html  
** building package indices
** installing vignettes
** testing if installed package can be loaded from temporary location
** testing if installed package can be loaded from final location
** testing if installed package keeps a record of temporary installation path

install for x64

* installing *source* package 'cBioPortalData' ...
** testing if installed package can be loaded
* MD5 sums
packaged installation of 'cBioPortalData' as cBioPortalData_2.1.23.zip
* DONE (cBioPortalData)