Back to Multiple platform build/check report for BioC 3.12
A[B]CDEFGHIJKLMNOPQRSTUVWXYZ

BUILD report for bioCancer on malbec1

This page was generated on 2020-08-11 11:22:24 -0400 (Tue, 11 Aug 2020).

TO THE DEVELOPERS/MAINTAINERS OF THE bioCancer PACKAGE: Please make sure to use the following settings in order to reproduce any error or warning you see on this page.
Package 147/1885HostnameOS / ArchINSTALLBUILDCHECKBUILD BIN
bioCancer 1.17.0
Karim Mezhoud
Snapshot Date: 2020-08-10 14:50:56 -0400 (Mon, 10 Aug 2020)
URL: https://git.bioconductor.org/packages/bioCancer
Branch: master
Last Commit: 9ab1d92
Last Changed Date: 2020-04-27 14:57:51 -0400 (Mon, 27 Apr 2020)
malbec1 Linux (Ubuntu 18.04.4 LTS) / x86_64  OK [ OK ] WARNINGS UNNEEDED, same version exists in internal repository
nebbiolo1 Linux (Ubuntu 20.04.1 LTS) / x86_64  OK  OK  NA 
tokay1 Windows Server 2012 R2 Standard / x64  OK  OK  WARNINGS  OK UNNEEDED, same version exists in internal repository
merida1 macOS 10.14.6 Mojave / x86_64  OK  OK  WARNINGS  OK UNNEEDED, same version exists in internal repository

Summary

Package: bioCancer
Version: 1.17.0
Command: /home/biocbuild/bbs-3.12-bioc/R/bin/R CMD build --keep-empty-dirs --no-resave-data bioCancer
StartedAt: 2020-08-10 20:02:57 -0400 (Mon, 10 Aug 2020)
EndedAt: 2020-08-10 20:03:42 -0400 (Mon, 10 Aug 2020)
EllapsedTime: 45.7 seconds
RetCode: 0
Status:  OK 
PackageFile: bioCancer_1.17.0.tar.gz
PackageFileSize: 8.479 MiB

Command output

##############################################################################
##############################################################################
###
### Running command:
###
###   /home/biocbuild/bbs-3.12-bioc/R/bin/R CMD build --keep-empty-dirs --no-resave-data bioCancer
###
##############################################################################
##############################################################################


* checking for file ‘bioCancer/DESCRIPTION’ ... OK
* preparing ‘bioCancer’:
* checking DESCRIPTION meta-information ... OK
* installing the package to build vignettes
* creating vignettes ... OK
* checking for LF line-endings in source and make files and shell scripts
* checking for empty or unneeded directories
* building ‘bioCancer_1.17.0.tar.gz’