Back to Multiple platform build/check report for BioC 3.12
[A]BCDEFGHIJKLMNOPQRSTUVWXYZ

CHECK report for ArrayExpress on merida1

This page was generated on 2020-07-30 12:17:48 -0400 (Thu, 30 Jul 2020).

TO THE DEVELOPERS/MAINTAINERS OF THE ArrayExpress PACKAGE: Please make sure to use the following settings in order to reproduce any error or warning you see on this page.
Package 75/1879HostnameOS / ArchINSTALLBUILDCHECKBUILD BIN
ArrayExpress 1.49.0
Suhaib Mohammed
Snapshot Date: 2020-07-29 14:50:08 -0400 (Wed, 29 Jul 2020)
URL: https://git.bioconductor.org/packages/ArrayExpress
Branch: master
Last Commit: 99c772d
Last Changed Date: 2020-04-27 14:18:09 -0400 (Mon, 27 Apr 2020)
malbec1 Linux (Ubuntu 18.04.4 LTS) / x86_64  OK  OK  OK UNNEEDED, same version exists in internal repository
tokay1 Windows Server 2012 R2 Standard / x64  OK  OK  OK  OK UNNEEDED, same version exists in internal repository
merida1 macOS 10.14.6 Mojave / x86_64  OK  OK [ OK ] OK UNNEEDED, same version exists in internal repository

Summary

Package: ArrayExpress
Version: 1.49.0
Command: /Library/Frameworks/R.framework/Versions/Current/Resources/bin/R CMD check --install=check:ArrayExpress.install-out.txt --library=/Library/Frameworks/R.framework/Versions/Current/Resources/library --no-vignettes --timings ArrayExpress_1.49.0.tar.gz
StartedAt: 2020-07-29 23:18:25 -0400 (Wed, 29 Jul 2020)
EndedAt: 2020-07-29 23:22:43 -0400 (Wed, 29 Jul 2020)
EllapsedTime: 257.9 seconds
RetCode: 0
Status:  OK 
CheckDir: ArrayExpress.Rcheck
Warnings: 0

Command output

##############################################################################
##############################################################################
###
### Running command:
###
###   /Library/Frameworks/R.framework/Versions/Current/Resources/bin/R CMD check --install=check:ArrayExpress.install-out.txt --library=/Library/Frameworks/R.framework/Versions/Current/Resources/library --no-vignettes --timings ArrayExpress_1.49.0.tar.gz
###
##############################################################################
##############################################################################


* using log directory ‘/Users/biocbuild/bbs-3.12-bioc/meat/ArrayExpress.Rcheck’
* using R version 4.0.2 (2020-06-22)
* using platform: x86_64-apple-darwin17.0 (64-bit)
* using session charset: UTF-8
* using option ‘--no-vignettes’
* checking for file ‘ArrayExpress/DESCRIPTION’ ... OK
* this is package ‘ArrayExpress’ version ‘1.49.0’
* checking package namespace information ... OK
* checking package dependencies ... OK
* checking if this is a source package ... OK
* checking if there is a namespace ... OK
* checking for hidden files and directories ... OK
* checking for portable file names ... OK
* checking for sufficient/correct file permissions ... OK
* checking whether package ‘ArrayExpress’ can be installed ... OK
* checking installed package size ... OK
* checking package directory ... OK
* checking ‘build’ directory ... OK
* checking DESCRIPTION meta-information ... NOTE
Malformed Description field: should contain one or more complete sentences.
* checking top-level files ... OK
* checking for left-over files ... OK
* checking index information ... OK
* checking package subdirectories ... OK
* checking R files for non-ASCII characters ... OK
* checking R files for syntax errors ... OK
* checking whether the package can be loaded ... OK
* checking whether the package can be loaded with stated dependencies ... OK
* checking whether the package can be unloaded cleanly ... OK
* checking whether the namespace can be loaded with stated dependencies ... OK
* checking whether the namespace can be unloaded cleanly ... OK
* checking dependencies in R code ... OK
* checking S3 generic/method consistency ... OK
* checking replacement functions ... OK
* checking foreign function calls ... OK
* checking R code for possible problems ... NOTE
ae2bioc: no visible global function definition for ‘new’
extract.zip : <anonymous>: no visible global function definition for
  ‘unzip’
getAE : <anonymous>: no visible global function definition for
  ‘download.file’
getAE: no visible global function definition for ‘download.file’
getDataColsForAE1: no visible global function definition for
  ‘read.table’
preparePhenoDataFor2channel: no visible global function definition for
  ‘new’
queryAE: no visible global function definition for ‘download.file’
readDerivedDataFiles: no visible global function definition for
  ‘read.table’
readDerivedDataFiles: no visible global function definition for ‘new’
readDerivedDataMatrixFile: no visible global function definition for
  ‘read.table’
readDerivedDataMatrixFile: no visible global function definition for
  ‘new’
readExperimentData: no visible global function definition for ‘new’
readFeatures: no visible global function definition for ‘read.table’
readFeatures: no visible global function definition for ‘new’
readPhenoData: no visible global function definition for ‘new’
Undefined global functions or variables:
  download.file new read.table unzip
Consider adding
  importFrom("methods", "new")
  importFrom("utils", "download.file", "read.table", "unzip")
to your NAMESPACE file (and ensure that your DESCRIPTION Imports field
contains 'methods').
* checking Rd files ... OK
* checking Rd metadata ... OK
* checking Rd cross-references ... OK
* checking for missing documentation entries ... OK
* checking for code/documentation mismatches ... OK
* checking Rd \usage sections ... OK
* checking Rd contents ... OK
* checking for unstated dependencies in examples ... OK
* checking sizes of PDF files under ‘inst/doc’ ... OK
* checking files in ‘vignettes’ ... OK
* checking examples ... OK
Examples with CPU (user + system) or elapsed time > 5s
              user system elapsed
ArrayExpress 5.962  1.910  15.968
queryAE      6.186  0.242   9.916
getAE        3.506  0.489  12.634
* checking for unstated dependencies in vignettes ... OK
* checking package vignettes in ‘inst/doc’ ... OK
* checking running R code from vignettes ... SKIPPED
* checking re-building of vignette outputs ... SKIPPED
* checking PDF version of manual ... OK
* DONE

Status: 2 NOTEs
See
  ‘/Users/biocbuild/bbs-3.12-bioc/meat/ArrayExpress.Rcheck/00check.log’
for details.



Installation output

ArrayExpress.Rcheck/00install.out

##############################################################################
##############################################################################
###
### Running command:
###
###   /Library/Frameworks/R.framework/Versions/Current/Resources/bin/R CMD INSTALL ArrayExpress
###
##############################################################################
##############################################################################


* installing to library ‘/Library/Frameworks/R.framework/Versions/4.0/Resources/library’
* installing *source* package ‘ArrayExpress’ ...
** using staged installation
** R
** inst
** byte-compile and prepare package for lazy loading
No methods found in package ‘RSQLite’ for request: ‘dbListFields’ when loading ‘oligo’
** help
*** installing help indices
** building package indices
** installing vignettes
** testing if installed package can be loaded from temporary location
No methods found in package ‘RSQLite’ for request: ‘dbListFields’ when loading ‘oligo’
** testing if installed package can be loaded from final location
No methods found in package ‘RSQLite’ for request: ‘dbListFields’ when loading ‘oligo’
** testing if installed package keeps a record of temporary installation path
* DONE (ArrayExpress)

Tests output


Example timings

ArrayExpress.Rcheck/ArrayExpress-Ex.timings

nameusersystemelapsed
ArrayExpress 5.962 1.91015.968
ae2bioc0.0000.0000.001
getAE 3.506 0.48912.634
procset000
queryAE6.1860.2429.916