Back to Multiple platform build/check report for BioC 3.12
[A]BCDEFGHIJKLMNOPQRSTUVWXYZ

BUILD BIN report for affycomp on merida1

This page was generated on 2020-08-07 12:21:34 -0400 (Fri, 07 Aug 2020).

TO THE DEVELOPERS/MAINTAINERS OF THE affycomp PACKAGE: Please make sure to use the following settings in order to reproduce any error or warning you see on this page.
Package 24/1882HostnameOS / ArchINSTALLBUILDCHECKBUILD BIN
affycomp 1.65.0
Rafael A. Irizarry
Snapshot Date: 2020-08-06 14:50:46 -0400 (Thu, 06 Aug 2020)
URL: https://git.bioconductor.org/packages/affycomp
Branch: master
Last Commit: 35dee2c
Last Changed Date: 2020-04-27 14:08:24 -0400 (Mon, 27 Apr 2020)
malbec1 Linux (Ubuntu 18.04.4 LTS) / x86_64  OK  OK  OK UNNEEDED, same version exists in internal repository
tokay1 Windows Server 2012 R2 Standard / x64  OK  OK  WARNINGS  OK UNNEEDED, same version exists in internal repository
merida1 macOS 10.14.6 Mojave / x86_64  OK  OK  OK [ OK ]UNNEEDED, same version exists in internal repository

Summary

Package: affycomp
Version: 1.65.0
Command: rm -rf affycomp.buildbin-libdir && mkdir affycomp.buildbin-libdir && /Users/biocbuild/BBS/utils/build-universal.sh affycomp_1.65.0.tar.gz /Library/Frameworks/R.framework/Versions/Current/Resources/bin/R affycomp.buildbin-libdir
StartedAt: 2020-08-07 05:51:45 -0400 (Fri, 07 Aug 2020)
EndedAt: 2020-08-07 05:52:42 -0400 (Fri, 07 Aug 2020)
EllapsedTime: 56.8 seconds
RetCode: 0
Status:  OK 
PackageFile: affycomp_1.65.0.tgz
PackageFileSize: 7.994 MiB

Command output

##############################################################################
##############################################################################
###
### Running command:
###
###   rm -rf affycomp.buildbin-libdir && mkdir affycomp.buildbin-libdir && /Users/biocbuild/BBS/utils/build-universal.sh affycomp_1.65.0.tar.gz /Library/Frameworks/R.framework/Versions/Current/Resources/bin/R affycomp.buildbin-libdir
###
##############################################################################
##############################################################################


>>>>>>> 
>>>>>>> INSTALLATION WITH 'R CMD INSTALL --preclean --no-multiarch --library=affycomp.buildbin-libdir affycomp_1.65.0.tar.gz'
>>>>>>> 

* installing *source* package ‘affycomp’ ...
** using staged installation
** R
** data
** inst
** byte-compile and prepare package for lazy loading
** help
*** installing help indices
** building package indices
** installing vignettes
** testing if installed package can be loaded from temporary location
** testing if installed package can be loaded from final location
** testing if installed package keeps a record of temporary installation path
* DONE (affycomp)