Back to Multiple platform build/check report for BioC 3.12
AB[C]DEFGHIJKLMNOPQRSTUVWXYZ

Multiple platform build/check report for BioC 3.12

Results for ChIC

This page was generated on 2020-11-24 11:52:28 -0500 (Tue, 24 Nov 2020).

Package 278/1974HostnameOS / ArchINSTALLBUILDCHECKBUILD BIN
ChIC 1.10.0
Carmen Maria Livi
Snapshot Date: 2020-11-23 14:42:42 -0500 (Mon, 23 Nov 2020)
URL: https://git.bioconductor.org/packages/ChIC
Branch: RELEASE_3_12
Last Commit: 2676c3d
Last Changed Date: 2020-10-27 11:34:35 -0500 (Tue, 27 Oct 2020)
malbec1 Linux (Ubuntu 18.04.4 LTS) / x86_64  OK  OK  OK UNNEEDED, same version exists in internal repository
nebbiolo1 Linux (Ubuntu 20.04.1 LTS) / x86_64  OK  OK  OK 
tokay1 Windows Server 2012 R2 Standard / x64 ...NOT SUPPORTED...
merida1 macOS 10.14.6 Mojave / x86_64  OK  OK  OK  OK UNNEEDED, same version exists in internal repository