Back to Multiple platform build/check report for BioC 3.12
A[B]CDEFGHIJKLMNOPQRSTUVWXYZ

INSTALL report for BLMA on malbec1

This page was generated on 2020-08-13 11:18:55 -0400 (Thu, 13 Aug 2020).

TO THE DEVELOPERS/MAINTAINERS OF THE BLMA PACKAGE: Please make sure to use the following settings in order to reproduce any error or warning you see on this page.
Package 187/1885HostnameOS / ArchINSTALLBUILDCHECKBUILD BIN
BLMA 1.13.3
Hung Nguyen
Snapshot Date: 2020-08-12 14:52:00 -0400 (Wed, 12 Aug 2020)
URL: https://git.bioconductor.org/packages/BLMA
Branch: master
Last Commit: 959eb20
Last Changed Date: 2020-06-24 13:42:38 -0400 (Wed, 24 Jun 2020)
malbec1 Linux (Ubuntu 18.04.4 LTS) / x86_64 [ OK ] OK  OK UNNEEDED, same version exists in internal repository
nebbiolo1 Linux (Ubuntu 20.04.1 LTS) / x86_64  OK  OK  OK 
tokay1 Windows Server 2012 R2 Standard / x64  OK  OK  OK  OK UNNEEDED, same version exists in internal repository
merida1 macOS 10.14.6 Mojave / x86_64  OK  OK  OK  OK UNNEEDED, same version exists in internal repository

Summary

Package: BLMA
Version: 1.13.3
Command: /home/biocbuild/bbs-3.12-bioc/R/bin/R CMD INSTALL BLMA
StartedAt: 2020-08-12 16:38:00 -0400 (Wed, 12 Aug 2020)
EndedAt: 2020-08-12 16:38:22 -0400 (Wed, 12 Aug 2020)
EllapsedTime: 22.4 seconds
RetCode: 0
Status:  OK 

Command output

##############################################################################
##############################################################################
###
### Running command:
###
###   /home/biocbuild/bbs-3.12-bioc/R/bin/R CMD INSTALL BLMA
###
##############################################################################
##############################################################################


* installing to library ‘/home/biocbuild/bbs-3.12-bioc/R/library’
* installing *source* package ‘BLMA’ ...
** using staged installation
** R
** data
** inst
** byte-compile and prepare package for lazy loading
** help
*** installing help indices
** building package indices
** installing vignettes
** testing if installed package can be loaded from temporary location
** testing if installed package can be loaded from final location
** testing if installed package keeps a record of temporary installation path
* DONE (BLMA)