Back to Multiple platform build/check report for BioC 3.12
ABCDEFGHIJKLMNOPQR[S]TUVWXYZ

BUILD BIN report for scruff on tokay1

This page was generated on 2020-11-23 12:23:09 -0500 (Mon, 23 Nov 2020).

TO THE DEVELOPERS/MAINTAINERS OF THE scruff PACKAGE: Please make sure to use the following settings in order to reproduce any error or warning you see on this page.
Package 1660/1974HostnameOS / ArchINSTALLBUILDCHECKBUILD BIN
scruff 1.8.2
Zhe Wang
Snapshot Date: 2020-11-22 14:42:09 -0500 (Sun, 22 Nov 2020)
URL: https://git.bioconductor.org/packages/scruff
Branch: RELEASE_3_12
Last Commit: eef2cdd
Last Changed Date: 2020-11-19 17:29:00 -0500 (Thu, 19 Nov 2020)
malbec1 Linux (Ubuntu 18.04.4 LTS) / x86_64  OK  OK  OK UNNEEDED, same version exists in internal repository
nebbiolo1 Linux (Ubuntu 20.04.1 LTS) / x86_64  OK  OK  OK 
tokay1 Windows Server 2012 R2 Standard / x64  OK  OK  OK [ OK ]UNNEEDED, same version exists in internal repository
merida1 macOS 10.14.6 Mojave / x86_64  OK  OK  OK  OK UNNEEDED, same version exists in internal repository

Summary

Package: scruff
Version: 1.8.2
Command: rm -rf scruff.buildbin-libdir && mkdir scruff.buildbin-libdir && C:\Users\biocbuild\bbs-3.12-bioc\R\bin\R.exe CMD INSTALL --merge-multiarch --build --library=scruff.buildbin-libdir scruff_1.8.2.tar.gz
StartedAt: 2020-11-23 10:46:39 -0500 (Mon, 23 Nov 2020)
EndedAt: 2020-11-23 10:48:02 -0500 (Mon, 23 Nov 2020)
EllapsedTime: 83.1 seconds
RetCode: 0
Status:  OK  
PackageFile: scruff_1.8.2.zip
PackageFileSize: 1.202 MiB

Command output

##############################################################################
##############################################################################
###
### Running command:
###
###   rm -rf scruff.buildbin-libdir && mkdir scruff.buildbin-libdir && C:\Users\biocbuild\bbs-3.12-bioc\R\bin\R.exe CMD INSTALL --merge-multiarch --build --library=scruff.buildbin-libdir scruff_1.8.2.tar.gz
###
##############################################################################
##############################################################################



install for i386

* installing *source* package 'scruff' ...
** using staged installation
** R
** data
** inst
** byte-compile and prepare package for lazy loading
** help
*** installing help indices
  converting help for package 'scruff'
    finding HTML links ... done
    alignRsubread                           html  
    bamExample                              html  
    barcodeExample                          html  
    cbtop10000                              html  
    countUMI                                html  
    demultiplex                             html  
    gview                                   html  
    qcplots                                 html  
    rview                                   html  
    sceExample                              html  
    scruff                                  html  
    tenxBamqc                               html  
    validCb                                 html  
** building package indices
** installing vignettes
** testing if installed package can be loaded from temporary location
** testing if installed package can be loaded from final location
** testing if installed package keeps a record of temporary installation path

install for x64

* installing *source* package 'scruff' ...
** testing if installed package can be loaded
* MD5 sums
packaged installation of 'scruff' as scruff_1.8.2.zip
* DONE (scruff)