Back to Multiple platform build/check report for BioC 3.12
A[B]CDEFGHIJKLMNOPQRSTUVWXYZ

BUILD BIN report for BrainSABER on tokay1

This page was generated on 2020-08-07 12:20:51 -0400 (Fri, 07 Aug 2020).

TO THE DEVELOPERS/MAINTAINERS OF THE BrainSABER PACKAGE: Please make sure to use the following settings in order to reproduce any error or warning you see on this page.
Package 193/1882HostnameOS / ArchINSTALLBUILDCHECKBUILD BIN
BrainSABER 0.99.4
USD Biomedical Engineering
Snapshot Date: 2020-08-06 14:50:46 -0400 (Thu, 06 Aug 2020)
URL: https://git.bioconductor.org/packages/BrainSABER
Branch: master
Last Commit: 4d2527c
Last Changed Date: 2020-04-20 22:30:39 -0400 (Mon, 20 Apr 2020)
malbec1 Linux (Ubuntu 18.04.4 LTS) / x86_64  OK  OK  OK UNNEEDED, same version exists in internal repository
tokay1 Windows Server 2012 R2 Standard / x64  OK  OK  OK [ OK ]UNNEEDED, same version exists in internal repository
merida1 macOS 10.14.6 Mojave / x86_64  OK  OK  OK  OK UNNEEDED, same version exists in internal repository

Summary

Package: BrainSABER
Version: 0.99.4
Command: rm -rf BrainSABER.buildbin-libdir && mkdir BrainSABER.buildbin-libdir && C:\Users\biocbuild\bbs-3.12-bioc\R\bin\R.exe CMD INSTALL --merge-multiarch --build --library=BrainSABER.buildbin-libdir BrainSABER_0.99.4.tar.gz
StartedAt: 2020-08-07 08:46:37 -0400 (Fri, 07 Aug 2020)
EndedAt: 2020-08-07 08:47:33 -0400 (Fri, 07 Aug 2020)
EllapsedTime: 56.1 seconds
RetCode: 0
Status:  OK  
PackageFile: BrainSABER_0.99.4.zip
PackageFileSize: 1.29 MiB

Command output

##############################################################################
##############################################################################
###
### Running command:
###
###   rm -rf BrainSABER.buildbin-libdir && mkdir BrainSABER.buildbin-libdir && C:\Users\biocbuild\bbs-3.12-bioc\R\bin\R.exe CMD INSTALL --merge-multiarch --build --library=BrainSABER.buildbin-libdir BrainSABER_0.99.4.tar.gz
###
##############################################################################
##############################################################################



install for i386

* installing *source* package 'BrainSABER' ...
** using staged installation
** R
** inst
** byte-compile and prepare package for lazy loading
** help
*** installing help indices
  converting help for package 'BrainSABER'
    finding HTML links ... done
    CellScabbard-methods                    html  
    CellScabbard                            html  
    buildAIBSARNA                           html  
    getExampleVector                        html  
    getExternalVector                       html  
    getRelevantGenes                        html  
    getSimDataFrame                         html  
    getSimMatrix                            html  
    getSimScores                            html  
    getTrimmedExternalSet                   html  
    getUNDmatrix                            html  
** building package indices
** installing vignettes
** testing if installed package can be loaded from temporary location
** testing if installed package can be loaded from final location
** testing if installed package keeps a record of temporary installation path

install for x64

* installing *source* package 'BrainSABER' ...
** testing if installed package can be loaded
* MD5 sums
packaged installation of 'BrainSABER' as BrainSABER_0.99.4.zip
* DONE (BrainSABER)