Back to Multiple platform build/check report for BioC 3.12 |
|
This page was generated on 2021-01-19 11:58:10 -0500 (Tue, 19 Jan 2021).
TO THE DEVELOPERS/MAINTAINERS OF THE procoil PACKAGE: Please make sure to use the following settings in order to reproduce any error or warning you see on this page. |
Package 1390/1974 | Hostname | OS / Arch | INSTALL | BUILD | CHECK | BUILD BIN | ||||||
procoil 2.18.0 Ulrich Bodenhofer
| malbec1 | Linux (Ubuntu 18.04.5 LTS) / x86_64 | OK | OK | OK | ![]() | ||||||
nebbiolo1 | Linux (Ubuntu 20.04.1 LTS) / x86_64 | OK | OK | OK | ||||||||
tokay1 | Windows Server 2012 R2 Standard / x64 | OK | OK | WARNINGS | OK | ![]() | ||||||
merida1 | macOS 10.14.6 Mojave / x86_64 | OK | [ OK ] | OK | OK | ![]() |
Package: procoil |
Version: 2.18.0 |
Command: /Library/Frameworks/R.framework/Versions/Current/Resources/bin/R CMD build --keep-empty-dirs --no-resave-data procoil |
StartedAt: 2021-01-18 21:31:24 -0500 (Mon, 18 Jan 2021) |
EndedAt: 2021-01-18 21:32:13 -0500 (Mon, 18 Jan 2021) |
EllapsedTime: 48.7 seconds |
RetCode: 0 |
Status: OK |
PackageFile: procoil_2.18.0.tar.gz |
PackageFileSize: 1.416 MiB |
############################################################################## ############################################################################## ### ### Running command: ### ### /Library/Frameworks/R.framework/Versions/Current/Resources/bin/R CMD build --keep-empty-dirs --no-resave-data procoil ### ############################################################################## ############################################################################## * checking for file ‘procoil/DESCRIPTION’ ... OK * preparing ‘procoil’: * checking DESCRIPTION meta-information ... OK * installing the package to build vignettes * creating vignettes ... OK * checking for LF line-endings in source and make files and shell scripts * checking for empty or unneeded directories * building ‘procoil_2.18.0.tar.gz’