Back to Multiple platform build/check report for BioC 3.12
A[B]CDEFGHIJKLMNOPQRSTUVWXYZ

BUILD BIN report for BiocCheck on tokay1

This page was generated on 2020-08-10 12:16:37 -0400 (Mon, 10 Aug 2020).

TO THE DEVELOPERS/MAINTAINERS OF THE BiocCheck PACKAGE: Please make sure to use the following settings in order to reproduce any error or warning you see on this page.
Package 149/1882HostnameOS / ArchINSTALLBUILDCHECKBUILD BIN
BiocCheck 1.25.4
Bioconductor Package Maintainer
Snapshot Date: 2020-08-09 14:51:29 -0400 (Sun, 09 Aug 2020)
URL: https://git.bioconductor.org/packages/BiocCheck
Branch: master
Last Commit: c0d2faa
Last Changed Date: 2020-06-26 12:04:17 -0400 (Fri, 26 Jun 2020)
malbec1 Linux (Ubuntu 18.04.4 LTS) / x86_64  OK  OK  OK UNNEEDED, same version exists in internal repository
nebbiolo1 Linux (Ubuntu 20.04.1 LTS) / x86_64  OK  OK  OK 
tokay1 Windows Server 2012 R2 Standard / x64  OK  OK  OK [ OK ]UNNEEDED, same version exists in internal repository
merida1 macOS 10.14.6 Mojave / x86_64  OK  OK  OK  OK UNNEEDED, same version exists in internal repository

Summary

Package: BiocCheck
Version: 1.25.4
Command: rm -rf BiocCheck.buildbin-libdir && mkdir BiocCheck.buildbin-libdir && C:\Users\biocbuild\bbs-3.12-bioc\R\bin\R.exe CMD INSTALL --merge-multiarch --build --library=BiocCheck.buildbin-libdir BiocCheck_1.25.4.tar.gz
StartedAt: 2020-08-10 07:36:15 -0400 (Mon, 10 Aug 2020)
EndedAt: 2020-08-10 07:36:55 -0400 (Mon, 10 Aug 2020)
EllapsedTime: 39.7 seconds
RetCode: 0
Status:  OK  
PackageFile: BiocCheck_1.25.4.zip
PackageFileSize: 4.348 MiB

Command output

##############################################################################
##############################################################################
###
### Running command:
###
###   rm -rf BiocCheck.buildbin-libdir && mkdir BiocCheck.buildbin-libdir && C:\Users\biocbuild\bbs-3.12-bioc\R\bin\R.exe CMD INSTALL --merge-multiarch --build --library=BiocCheck.buildbin-libdir BiocCheck_1.25.4.tar.gz
###
##############################################################################
##############################################################################



install for i386

* installing *source* package 'BiocCheck' ...
** using staged installation
** R
** inst
** byte-compile and prepare package for lazy loading
** help
*** installing help indices
  converting help for package 'BiocCheck'
    finding HTML links ... done
    BiocCheck                               html  
    BiocCheckGitClone                       html  
** building package indices
** installing vignettes
** testing if installed package can be loaded from temporary location
** testing if installed package can be loaded from final location
** testing if installed package keeps a record of temporary installation path

install for x64

* installing *source* package 'BiocCheck' ...
** testing if installed package can be loaded
* MD5 sums
packaged installation of 'BiocCheck' as BiocCheck_1.25.4.zip
* DONE (BiocCheck)