Back to Multiple platform build/check report for BioC 3.12
A[B]CDEFGHIJKLMNOPQRSTUVWXYZ

INSTALL report for BioNetStat on malbec1

This page was generated on 2020-08-10 11:46:36 -0400 (Mon, 10 Aug 2020).

TO THE DEVELOPERS/MAINTAINERS OF THE BioNetStat PACKAGE: Please make sure to use the following settings in order to reproduce any error or warning you see on this page.
Package 173/1882HostnameOS / ArchINSTALLBUILDCHECKBUILD BIN
BioNetStat 1.9.4
Vinicius Jardim
Snapshot Date: 2020-08-09 14:51:29 -0400 (Sun, 09 Aug 2020)
URL: https://git.bioconductor.org/packages/BioNetStat
Branch: master
Last Commit: a7e646c
Last Changed Date: 2020-05-31 18:41:56 -0400 (Sun, 31 May 2020)
malbec1 Linux (Ubuntu 18.04.4 LTS) / x86_64 [ OK ] OK  OK UNNEEDED, same version exists in internal repository
nebbiolo1 Linux (Ubuntu 20.04.1 LTS) / x86_64  OK  OK  OK 
tokay1 Windows Server 2012 R2 Standard / x64  OK  OK  OK  OK UNNEEDED, same version exists in internal repository
merida1 macOS 10.14.6 Mojave / x86_64  OK  OK  OK  OK UNNEEDED, same version exists in internal repository

Summary

Package: BioNetStat
Version: 1.9.4
Command: /home/biocbuild/bbs-3.12-bioc/R/bin/R CMD INSTALL BioNetStat
StartedAt: 2020-08-09 16:44:03 -0400 (Sun, 09 Aug 2020)
EndedAt: 2020-08-09 16:44:34 -0400 (Sun, 09 Aug 2020)
EllapsedTime: 30.7 seconds
RetCode: 0
Status:  OK 

Command output

##############################################################################
##############################################################################
###
### Running command:
###
###   /home/biocbuild/bbs-3.12-bioc/R/bin/R CMD INSTALL BioNetStat
###
##############################################################################
##############################################################################


* installing to library ‘/home/biocbuild/bbs-3.12-bioc/R/library’
* installing *source* package ‘BioNetStat’ ...
** using staged installation
** R
** data
** inst
** byte-compile and prepare package for lazy loading
** help
*** installing help indices
** building package indices
** installing vignettes
   ‘BNS_tutorial_by_command_line.Rmd’ using ‘UTF-8’ 
   ‘vignette.Rmd’ using ‘UTF-8’ 
** testing if installed package can be loaded from temporary location
** testing if installed package can be loaded from final location
** testing if installed package keeps a record of temporary installation path
* DONE (BioNetStat)