Back to Multiple platform build/check report for BioC 3.12
ABCDEF[G]HIJKLMNOPQRSTUVWXYZ

INSTALL report for GraphPAC on merida1

This page was generated on 2021-04-14 12:13:28 -0400 (Wed, 14 Apr 2021).

To the developers/maintainers of the GraphPAC package:
Please make sure to use the following settings in order to reproduce any error or warning you see on this page.
Package 784/1974HostnameOS / ArchINSTALLBUILDCHECKBUILD BIN
GraphPAC 1.32.0  (landing page)
Gregory Ryslik
Snapshot Date: 2021-04-13 14:50:13 -0400 (Tue, 13 Apr 2021)
URL: https://git.bioconductor.org/packages/GraphPAC
Branch: RELEASE_3_12
Last Commit: 8f7bfe2
Last Changed Date: 2020-10-27 10:48:33 -0400 (Tue, 27 Oct 2020)
malbec1Linux (Ubuntu 18.04.5 LTS) / x86_64  OK    OK    OK  UNNEEDED, same version exists in internal repository
tokay1Windows Server 2012 R2 Standard / x64  OK    OK    OK    OK  UNNEEDED, same version exists in internal repository
merida1macOS 10.14.6 Mojave / x86_64  OK    OK    OK    OK  UNNEEDED, same version exists in internal repository

Summary

Package: GraphPAC
Version: 1.32.0
Command: /Library/Frameworks/R.framework/Versions/Current/Resources/bin/R CMD INSTALL GraphPAC
StartedAt: 2021-04-13 17:12:36 -0400 (Tue, 13 Apr 2021)
EndedAt: 2021-04-13 17:12:56 -0400 (Tue, 13 Apr 2021)
EllapsedTime: 19.2 seconds
RetCode: 0
Status:   OK  

Command output

##############################################################################
##############################################################################
###
### Running command:
###
###   /Library/Frameworks/R.framework/Versions/Current/Resources/bin/R CMD INSTALL GraphPAC
###
##############################################################################
##############################################################################


* installing to library ‘/Library/Frameworks/R.framework/Versions/4.0/Resources/library’
* installing *source* package ‘GraphPAC’ ...
** using staged installation
** R
** inst
** byte-compile and prepare package for lazy loading
** help
*** installing help indices
** building package indices
** installing vignettes
** testing if installed package can be loaded from temporary location
** testing if installed package can be loaded from final location
** testing if installed package keeps a record of temporary installation path
* DONE (GraphPAC)