Back to Multiple platform build/check report for BioC 3.12
[A]BCDEFGHIJKLMNOPQRSTUVWXYZ

CHECK report for AUCell on malbec1

This page was generated on 2020-08-07 11:32:52 -0400 (Fri, 07 Aug 2020).

TO THE DEVELOPERS/MAINTAINERS OF THE AUCell PACKAGE: Please make sure to use the following settings in order to reproduce any error or warning you see on this page.
Package 96/1882HostnameOS / ArchINSTALLBUILDCHECKBUILD BIN
AUCell 1.11.0
Sara Aibar
Snapshot Date: 2020-08-06 14:50:46 -0400 (Thu, 06 Aug 2020)
URL: https://git.bioconductor.org/packages/AUCell
Branch: master
Last Commit: a9afa79
Last Changed Date: 2020-04-27 15:10:23 -0400 (Mon, 27 Apr 2020)
malbec1 Linux (Ubuntu 18.04.4 LTS) / x86_64  OK  OK [ OK ]UNNEEDED, same version exists in internal repository
tokay1 Windows Server 2012 R2 Standard / x64  OK  OK  OK  OK UNNEEDED, same version exists in internal repository
merida1 macOS 10.14.6 Mojave / x86_64  OK  OK  OK  OK UNNEEDED, same version exists in internal repository

Summary

Package: AUCell
Version: 1.11.0
Command: /home/biocbuild/bbs-3.12-bioc/R/bin/R CMD check --install=check:AUCell.install-out.txt --library=/home/biocbuild/bbs-3.12-bioc/R/library --no-vignettes --timings AUCell_1.11.0.tar.gz
StartedAt: 2020-08-07 03:17:27 -0400 (Fri, 07 Aug 2020)
EndedAt: 2020-08-07 03:21:20 -0400 (Fri, 07 Aug 2020)
EllapsedTime: 233.2 seconds
RetCode: 0
Status:  OK 
CheckDir: AUCell.Rcheck
Warnings: 0

Command output

##############################################################################
##############################################################################
###
### Running command:
###
###   /home/biocbuild/bbs-3.12-bioc/R/bin/R CMD check --install=check:AUCell.install-out.txt --library=/home/biocbuild/bbs-3.12-bioc/R/library --no-vignettes --timings AUCell_1.11.0.tar.gz
###
##############################################################################
##############################################################################


* using log directory ‘/home/biocbuild/bbs-3.12-bioc/meat/AUCell.Rcheck’
* using R version 4.0.2 (2020-06-22)
* using platform: x86_64-pc-linux-gnu (64-bit)
* using session charset: UTF-8
* using option ‘--no-vignettes’
* checking for file ‘AUCell/DESCRIPTION’ ... OK
* checking extension type ... Package
* this is package ‘AUCell’ version ‘1.11.0’
* checking package namespace information ... OK
* checking package dependencies ... OK
* checking if this is a source package ... OK
* checking if there is a namespace ... OK
* checking for hidden files and directories ... OK
* checking for portable file names ... OK
* checking for sufficient/correct file permissions ... OK
* checking whether package ‘AUCell’ can be installed ... OK
* checking installed package size ... OK
* checking package directory ... OK
* checking ‘build’ directory ... OK
* checking DESCRIPTION meta-information ... OK
* checking top-level files ... OK
* checking for left-over files ... OK
* checking index information ... OK
* checking package subdirectories ... OK
* checking R files for non-ASCII characters ... OK
* checking R files for syntax errors ... OK
* checking whether the package can be loaded ... OK
* checking whether the package can be loaded with stated dependencies ... OK
* checking whether the package can be unloaded cleanly ... OK
* checking whether the namespace can be loaded with stated dependencies ... OK
* checking whether the namespace can be unloaded cleanly ... OK
* checking dependencies in R code ... NOTE
Namespace in Imports field not imported from: ‘S4Vectors’
  All declared Imports should be used.
* checking S3 generic/method consistency ... OK
* checking replacement functions ... OK
* checking foreign function calls ... OK
* checking R code for possible problems ... NOTE
AUCell_createViewerApp : <anonymous>: no visible global function
  definition for ‘%>%’
AUCell_createViewerApp : <anonymous>: no visible binding for global
  variable ‘tsne1’
AUCell_createViewerApp : <anonymous>: no visible binding for global
  variable ‘tsne2’
AUCell_createViewerApp : <anonymous>: no visible binding for global
  variable ‘cell’
Undefined global functions or variables:
  %>% cell tsne1 tsne2
* checking Rd files ... OK
* checking Rd metadata ... OK
* checking Rd cross-references ... OK
* checking for missing documentation entries ... OK
* checking for code/documentation mismatches ... OK
* checking Rd \usage sections ... OK
* checking Rd contents ... OK
* checking for unstated dependencies in examples ... OK
* checking files in ‘vignettes’ ... OK
* checking examples ... OK
Examples with CPU (user + system) or elapsed time > 5s
                        user system elapsed
AUCell_createViewerApp 5.156  0.192   5.393
* checking for unstated dependencies in ‘tests’ ... OK
* checking tests ...
  Running ‘testthat.R’
 OK
* checking for unstated dependencies in vignettes ... OK
* checking package vignettes in ‘inst/doc’ ... OK
* checking running R code from vignettes ... SKIPPED
* checking re-building of vignette outputs ... SKIPPED
* checking PDF version of manual ... OK
* DONE

Status: 2 NOTEs
See
  ‘/home/biocbuild/bbs-3.12-bioc/meat/AUCell.Rcheck/00check.log’
for details.



Installation output

AUCell.Rcheck/00install.out

##############################################################################
##############################################################################
###
### Running command:
###
###   /home/biocbuild/bbs-3.12-bioc/R/bin/R CMD INSTALL AUCell
###
##############################################################################
##############################################################################


* installing to library ‘/home/biocbuild/bbs-3.12-bioc/R/library’
* installing *source* package ‘AUCell’ ...
** using staged installation
** R
** inst
** byte-compile and prepare package for lazy loading
** help
*** installing help indices
** building package indices
** installing vignettes
** testing if installed package can be loaded from temporary location
** testing if installed package can be loaded from final location
** testing if installed package keeps a record of temporary installation path
* DONE (AUCell)

Tests output

AUCell.Rcheck/tests/testthat.Rout


R version 4.0.2 (2020-06-22) -- "Taking Off Again"
Copyright (C) 2020 The R Foundation for Statistical Computing
Platform: x86_64-pc-linux-gnu (64-bit)

R is free software and comes with ABSOLUTELY NO WARRANTY.
You are welcome to redistribute it under certain conditions.
Type 'license()' or 'licence()' for distribution details.

R is a collaborative project with many contributors.
Type 'contributors()' for more information and
'citation()' on how to cite R or R packages in publications.

Type 'demo()' for some demos, 'help()' for on-line help, or
'help.start()' for an HTML browser interface to help.
Type 'q()' to quit R.

> library(testthat)
> library(AUCell)
> 
> test_check("AUCell")
 min   1%   5%  10%  50% 100% 
   3    5    6    7   10   16 
 min   1%   5%  10%  50% 100% 
   3    5    6    7   10   16 
══ testthat results  ═══════════════════════════════════════════════════════════
[ OK: 42 | SKIPPED: 0 | WARNINGS: 0 | FAILED: 0 ]
> 
> proc.time()
   user  system elapsed 
 21.156   0.468  21.671 

Example timings

AUCell.Rcheck/AUCell-Ex.timings

nameusersystemelapsed
AUCell_buildRankings1.4280.0081.442
AUCell_calcAUC1.0920.0681.161
AUCell_createViewerApp5.1560.1925.393
AUCell_exploreThresholds2.8760.1363.013
AUCell_plotHist0.6280.0160.644
AUCell_plotTSNE3.3960.1043.502
GeneSet-methods0.2360.0000.237
aucellResults-class1.1200.0081.133
orderAUC000
plotGeneCount0.0080.0000.006
plotTsne_cellProps2.5720.0042.579
updateAucellResults0.0520.0000.055