Back to Multiple platform build/check report for BioC 3.12
A[B]CDEFGHIJKLMNOPQRSTUVWXYZ

BUILD report for BufferedMatrixMethods on malbec1

This page was generated on 2020-10-24 10:56:29 -0400 (Sat, 24 Oct 2020).

TO THE DEVELOPERS/MAINTAINERS OF THE BufferedMatrixMethods PACKAGE: Please make sure to use the following settings in order to reproduce any error or warning you see on this page.
Package 216/1974HostnameOS / ArchINSTALLBUILDCHECKBUILD BIN
BufferedMatrixMethods 1.53.0
Ben Bolstad
Snapshot Date: 2020-10-23 14:40:36 -0400 (Fri, 23 Oct 2020)
URL: https://git.bioconductor.org/packages/BufferedMatrixMethods
Branch: master
Last Commit: d7d095f
Last Changed Date: 2020-04-27 14:14:37 -0400 (Mon, 27 Apr 2020)
malbec1 Linux (Ubuntu 18.04.4 LTS) / x86_64  OK [ OK ] OK UNNEEDED, same version exists in internal repository
nebbiolo1 Linux (Ubuntu 20.04.1 LTS) / x86_64  OK  OK  OK 
tokay1 Windows Server 2012 R2 Standard / x64  OK  OK  OK  OK UNNEEDED, same version exists in internal repository
riesling1 Windows Server 2019 Standard / x64  OK  OK  OK  OK 
merida1 macOS 10.14.6 Mojave / x86_64  OK  OK  OK  OK UNNEEDED, same version exists in internal repository

Summary

Package: BufferedMatrixMethods
Version: 1.53.0
Command: /home/biocbuild/bbs-3.12-bioc/R/bin/R CMD build --keep-empty-dirs --no-resave-data BufferedMatrixMethods
StartedAt: 2020-10-23 18:21:40 -0400 (Fri, 23 Oct 2020)
EndedAt: 2020-10-23 18:21:41 -0400 (Fri, 23 Oct 2020)
EllapsedTime: 1.0 seconds
RetCode: 0
Status:  OK 
PackageFile: BufferedMatrixMethods_1.53.0.tar.gz
PackageFileSize: 10.9 KiB

Command output

##############################################################################
##############################################################################
###
### Running command:
###
###   /home/biocbuild/bbs-3.12-bioc/R/bin/R CMD build --keep-empty-dirs --no-resave-data BufferedMatrixMethods
###
##############################################################################
##############################################################################


* checking for file ‘BufferedMatrixMethods/DESCRIPTION’ ... OK
* preparing ‘BufferedMatrixMethods’:
* checking DESCRIPTION meta-information ... OK
* cleaning src
* checking for LF line-endings in source and make files and shell scripts
* checking for empty or unneeded directories
* building ‘BufferedMatrixMethods_1.53.0.tar.gz’