Back to Multiple platform build/check report for BioC 3.12
AB[C]DEFGHIJKLMNOPQRSTUVWXYZ

INSTALL report for CCPROMISE on malbec1

This page was generated on 2020-08-12 11:20:11 -0400 (Wed, 12 Aug 2020).

TO THE DEVELOPERS/MAINTAINERS OF THE CCPROMISE PACKAGE: Please make sure to use the following settings in order to reproduce any error or warning you see on this page.
Package 235/1885HostnameOS / ArchINSTALLBUILDCHECKBUILD BIN
CCPROMISE 1.15.0
Xueyuan Cao
Snapshot Date: 2020-08-11 14:50:16 -0400 (Tue, 11 Aug 2020)
URL: https://git.bioconductor.org/packages/CCPROMISE
Branch: master
Last Commit: eafda50
Last Changed Date: 2020-04-27 15:03:28 -0400 (Mon, 27 Apr 2020)
malbec1 Linux (Ubuntu 18.04.4 LTS) / x86_64 [ OK ] OK  WARNINGS UNNEEDED, same version exists in internal repository
nebbiolo1 Linux (Ubuntu 20.04.1 LTS) / x86_64  OK  OK  WARNINGS 
tokay1 Windows Server 2012 R2 Standard / x64  OK  OK  WARNINGS  OK UNNEEDED, same version exists in internal repository
merida1 macOS 10.14.6 Mojave / x86_64  OK  OK  WARNINGS  OK UNNEEDED, same version exists in internal repository

Summary

Package: CCPROMISE
Version: 1.15.0
Command: /home/biocbuild/bbs-3.12-bioc/R/bin/R CMD INSTALL CCPROMISE
StartedAt: 2020-08-11 16:32:30 -0400 (Tue, 11 Aug 2020)
EndedAt: 2020-08-11 16:32:44 -0400 (Tue, 11 Aug 2020)
EllapsedTime: 14.2 seconds
RetCode: 0
Status:  OK 

Command output

##############################################################################
##############################################################################
###
### Running command:
###
###   /home/biocbuild/bbs-3.12-bioc/R/bin/R CMD INSTALL CCPROMISE
###
##############################################################################
##############################################################################


* installing to library ‘/home/biocbuild/bbs-3.12-bioc/R/library’
* installing *source* package ‘CCPROMISE’ ...
** using staged installation
** R
** data
** byte-compile and prepare package for lazy loading
Note: break used in wrong context: no loop is visible 
Note: break used in wrong context: no loop is visible 
Note: break used in wrong context: no loop is visible 
Note: break used in wrong context: no loop is visible 
** help
*** installing help indices
** building package indices
** installing vignettes
** testing if installed package can be loaded from temporary location
** testing if installed package can be loaded from final location
** testing if installed package keeps a record of temporary installation path
* DONE (CCPROMISE)