Back to Multiple platform build/check report for BioC 3.12
A[B]CDEFGHIJKLMNOPQRSTUVWXYZ

BUILD BIN report for brainflowprobes on merida1

This page was generated on 2020-08-10 12:45:29 -0400 (Mon, 10 Aug 2020).

TO THE DEVELOPERS/MAINTAINERS OF THE brainflowprobes PACKAGE: Please make sure to use the following settings in order to reproduce any error or warning you see on this page.
Package 192/1882HostnameOS / ArchINSTALLBUILDCHECKBUILD BIN
brainflowprobes 1.3.1
Amanda Price
Snapshot Date: 2020-08-09 14:51:29 -0400 (Sun, 09 Aug 2020)
URL: https://git.bioconductor.org/packages/brainflowprobes
Branch: master
Last Commit: 8556164
Last Changed Date: 2020-05-27 01:09:22 -0400 (Wed, 27 May 2020)
malbec1 Linux (Ubuntu 18.04.4 LTS) / x86_64  OK  OK  OK UNNEEDED, same version exists in internal repository
nebbiolo1 Linux (Ubuntu 20.04.1 LTS) / x86_64  OK  OK  ERROR 
tokay1 Windows Server 2012 R2 Standard / x64  OK  OK  OK  OK UNNEEDED, same version exists in internal repository
merida1 macOS 10.14.6 Mojave / x86_64  OK  OK  OK [ OK ]UNNEEDED, same version exists in internal repository

Summary

Package: brainflowprobes
Version: 1.3.1
Command: rm -rf brainflowprobes.buildbin-libdir && mkdir brainflowprobes.buildbin-libdir && /Users/biocbuild/BBS/utils/build-universal.sh brainflowprobes_1.3.1.tar.gz /Library/Frameworks/R.framework/Versions/Current/Resources/bin/R brainflowprobes.buildbin-libdir
StartedAt: 2020-08-10 07:54:22 -0400 (Mon, 10 Aug 2020)
EndedAt: 2020-08-10 07:55:25 -0400 (Mon, 10 Aug 2020)
EllapsedTime: 63.5 seconds
RetCode: 0
Status:  OK 
PackageFile: brainflowprobes_1.3.1.tgz
PackageFileSize: 1.756 MiB

Command output

##############################################################################
##############################################################################
###
### Running command:
###
###   rm -rf brainflowprobes.buildbin-libdir && mkdir brainflowprobes.buildbin-libdir && /Users/biocbuild/BBS/utils/build-universal.sh brainflowprobes_1.3.1.tar.gz /Library/Frameworks/R.framework/Versions/Current/Resources/bin/R brainflowprobes.buildbin-libdir
###
##############################################################################
##############################################################################


>>>>>>> 
>>>>>>> INSTALLATION WITH 'R CMD INSTALL --preclean --no-multiarch --library=brainflowprobes.buildbin-libdir brainflowprobes_1.3.1.tar.gz'
>>>>>>> 

* installing *source* package ‘brainflowprobes’ ...
** using staged installation
** R
** data
*** moving datasets to lazyload DB
** inst
** byte-compile and prepare package for lazy loading
No methods found in package ‘IRanges’ for request: ‘values<-’ when loading ‘derfinder’
No methods found in package ‘IRanges’ for request: ‘values’ when loading ‘derfinder’
** help
*** installing help indices
** building package indices
** installing vignettes
** testing if installed package can be loaded from temporary location
No methods found in package ‘IRanges’ for request: ‘values<-’ when loading ‘derfinder’
No methods found in package ‘IRanges’ for request: ‘values’ when loading ‘derfinder’
** testing if installed package can be loaded from final location
No methods found in package ‘IRanges’ for request: ‘values<-’ when loading ‘derfinder’
No methods found in package ‘IRanges’ for request: ‘values’ when loading ‘derfinder’
** testing if installed package keeps a record of temporary installation path
* DONE (brainflowprobes)