Back to Multiple platform build/check report for BioC 3.12
[A]BCDEFGHIJKLMNOPQRSTUVWXYZ

BUILD BIN report for ADAM on tokay1

This page was generated on 2021-02-22 12:36:47 -0500 (Mon, 22 Feb 2021).

To the developers/maintainers of the ADAM package:
Please make sure to use the following settings in order to reproduce any error or warning you see on this page.
Package 16/1974HostnameOS / ArchINSTALLBUILDCHECKBUILD BIN
ADAM 1.6.0
Jose Luiz Rybarczyk Filho
Snapshot Date: 2021-02-21 14:52:07 -0500 (Sun, 21 Feb 2021)
URL: https://git.bioconductor.org/packages/ADAM
Branch: RELEASE_3_12
Last Commit: 8799f99
Last Changed Date: 2020-10-27 11:40:48 -0500 (Tue, 27 Oct 2020)
malbec1Linux (Ubuntu 18.04.5 LTS) / x86_64  OK    OK    OK  UNNEEDED, same version exists in internal repository
nebbiolo1Linux (Ubuntu 20.04.2 LTS) / x86_64  OK    OK    OK  
tokay1Windows Server 2012 R2 Standard / x64  OK    OK    OK    OK  UNNEEDED, same version exists in internal repository
merida1macOS 10.14.6 Mojave / x86_64  OK    OK    OK    OK  UNNEEDED, same version exists in internal repository

Summary

Package: ADAM
Version: 1.6.0
Command: rm -rf ADAM.buildbin-libdir && mkdir ADAM.buildbin-libdir && C:\Users\biocbuild\bbs-3.12-bioc\R\bin\R.exe CMD INSTALL --merge-multiarch --build --library=ADAM.buildbin-libdir ADAM_1.6.0.tar.gz
StartedAt: 2021-02-22 08:29:08 -0500 (Mon, 22 Feb 2021)
EndedAt: 2021-02-22 08:33:00 -0500 (Mon, 22 Feb 2021)
EllapsedTime: 231.9 seconds
RetCode: 0
Status:   OK   
PackageFile: ADAM_1.6.0.zip
PackageFileSize: 1.05 MiB

Command output

##############################################################################
##############################################################################
###
### Running command:
###
###   rm -rf ADAM.buildbin-libdir && mkdir ADAM.buildbin-libdir && C:\Users\biocbuild\bbs-3.12-bioc\R\bin\R.exe CMD INSTALL --merge-multiarch --build --library=ADAM.buildbin-libdir ADAM_1.6.0.tar.gz
###
##############################################################################
##############################################################################



install for i386

* installing *source* package 'ADAM' ...
** using staged installation
** libs
"C:/rtools40/mingw32/bin/"g++  -std=gnu++11 -I"C:/Users/BIOCBU~1/BBS-3~1.12-/R/include" -DNDEBUG  -I'C:/Users/biocbuild/bbs-3.12-bioc/R/library/Rcpp/include'   -I"C:/extsoft/include"     -O2 -Wall  -mfpmath=sse -msse2 -mstackrealign -c MakeBootstrap.cpp -o MakeBootstrap.o
"C:/rtools40/mingw32/bin/"g++  -std=gnu++11 -I"C:/Users/BIOCBU~1/BBS-3~1.12-/R/include" -DNDEBUG  -I'C:/Users/biocbuild/bbs-3.12-bioc/R/library/Rcpp/include'   -I"C:/extsoft/include"     -O2 -Wall  -mfpmath=sse -msse2 -mstackrealign -c RcppExports.cpp -o RcppExports.o
C:/rtools40/mingw32/bin/g++ -shared -s -static-libgcc -o ADAM.dll tmp.def MakeBootstrap.o RcppExports.o -LC:/extsoft/lib/i386 -LC:/extsoft/lib -LC:/Users/BIOCBU~1/BBS-3~1.12-/R/bin/i386 -lR
installing to C:/Users/biocbuild/bbs-3.12-bioc/meat/ADAM.buildbin-libdir/00LOCK-ADAM/00new/ADAM/libs/i386
** R
** data
*** moving datasets to lazyload DB
** inst
** byte-compile and prepare package for lazy loading
** help
*** installing help indices
  converting help for package 'ADAM'
    finding HTML links ... done
    ExpressionAedes                         html  
    GFAGAnalysis                            html  
    KeggPathwaysAedes                       html  
** building package indices
** installing vignettes
** testing if installed package can be loaded from temporary location
** testing if installed package can be loaded from final location
** testing if installed package keeps a record of temporary installation path

install for x64

* installing *source* package 'ADAM' ...
** libs
"C:/rtools40/mingw64/bin/"g++  -std=gnu++11 -I"C:/Users/BIOCBU~1/BBS-3~1.12-/R/include" -DNDEBUG  -I'C:/Users/biocbuild/bbs-3.12-bioc/R/library/Rcpp/include'   -I"C:/extsoft/include"     -O2 -Wall  -mfpmath=sse -msse2 -mstackrealign -c MakeBootstrap.cpp -o MakeBootstrap.o
"C:/rtools40/mingw64/bin/"g++  -std=gnu++11 -I"C:/Users/BIOCBU~1/BBS-3~1.12-/R/include" -DNDEBUG  -I'C:/Users/biocbuild/bbs-3.12-bioc/R/library/Rcpp/include'   -I"C:/extsoft/include"     -O2 -Wall  -mfpmath=sse -msse2 -mstackrealign -c RcppExports.cpp -o RcppExports.o
C:/rtools40/mingw64/bin/g++ -shared -s -static-libgcc -o ADAM.dll tmp.def MakeBootstrap.o RcppExports.o -LC:/extsoft/lib/x64 -LC:/extsoft/lib -LC:/Users/BIOCBU~1/BBS-3~1.12-/R/bin/x64 -lR
installing to C:/Users/biocbuild/bbs-3.12-bioc/meat/ADAM.buildbin-libdir/ADAM/libs/x64
** testing if installed package can be loaded
* MD5 sums
packaged installation of 'ADAM' as ADAM_1.6.0.zip
* DONE (ADAM)