Back to Multiple platform build/check report for BioC 3.12
[A]BCDEFGHIJKLMNOPQRSTUVWXYZ

INSTALL report for arrayQuality on tokay1

This page was generated on 2020-08-10 12:10:18 -0400 (Mon, 10 Aug 2020).

TO THE DEVELOPERS/MAINTAINERS OF THE arrayQuality PACKAGE: Please make sure to use the following settings in order to reproduce any error or warning you see on this page.
Package 78/1882HostnameOS / ArchINSTALLBUILDCHECKBUILD BIN
arrayQuality 1.67.0
Agnes Paquet
Snapshot Date: 2020-08-09 14:51:29 -0400 (Sun, 09 Aug 2020)
URL: https://git.bioconductor.org/packages/arrayQuality
Branch: master
Last Commit: 6d84cc2
Last Changed Date: 2020-04-27 14:09:34 -0400 (Mon, 27 Apr 2020)
malbec1 Linux (Ubuntu 18.04.4 LTS) / x86_64  OK  OK  WARNINGS UNNEEDED, same version exists in internal repository
nebbiolo1 Linux (Ubuntu 20.04.1 LTS) / x86_64  OK  OK  WARNINGS 
tokay1 Windows Server 2012 R2 Standard / x64 [ OK ] OK  WARNINGS  OK UNNEEDED, same version exists in internal repository
merida1 macOS 10.14.6 Mojave / x86_64  OK  OK  WARNINGS  OK UNNEEDED, same version exists in internal repository

Summary

Package: arrayQuality
Version: 1.67.0
Command: C:\cygwin\bin\curl.exe -O https://malbec1.bioconductor.org/BBS/3.12/bioc/src/contrib/arrayQuality_1.67.0.tar.gz && rm -rf arrayQuality.buildbin-libdir && mkdir arrayQuality.buildbin-libdir && C:\Users\biocbuild\bbs-3.12-bioc\R\bin\R.exe CMD INSTALL --merge-multiarch --build --library=arrayQuality.buildbin-libdir arrayQuality_1.67.0.tar.gz && C:\Users\biocbuild\bbs-3.12-bioc\R\bin\R.exe CMD INSTALL arrayQuality_1.67.0.zip && rm arrayQuality_1.67.0.tar.gz arrayQuality_1.67.0.zip
StartedAt: 2020-08-09 16:45:27 -0400 (Sun, 09 Aug 2020)
EndedAt: 2020-08-09 16:46:57 -0400 (Sun, 09 Aug 2020)
EllapsedTime: 90.2 seconds
RetCode: 0
Status:  OK  

Command output

##############################################################################
##############################################################################
###
### Running command:
###
###   C:\cygwin\bin\curl.exe -O https://malbec1.bioconductor.org/BBS/3.12/bioc/src/contrib/arrayQuality_1.67.0.tar.gz && rm -rf arrayQuality.buildbin-libdir && mkdir arrayQuality.buildbin-libdir && C:\Users\biocbuild\bbs-3.12-bioc\R\bin\R.exe CMD INSTALL --merge-multiarch --build --library=arrayQuality.buildbin-libdir arrayQuality_1.67.0.tar.gz && C:\Users\biocbuild\bbs-3.12-bioc\R\bin\R.exe CMD INSTALL arrayQuality_1.67.0.zip && rm arrayQuality_1.67.0.tar.gz arrayQuality_1.67.0.zip
###
##############################################################################
##############################################################################


  % Total    % Received % Xferd  Average Speed   Time    Time     Time  Current
                                 Dload  Upload   Total   Spent    Left  Speed

  0     0    0     0    0     0      0      0 --:--:-- --:--:-- --:--:--     0
 48 12.9M   48 6480k    0     0  60.3M      0 --:--:-- --:--:-- --:--:-- 62.0M
100 12.9M  100 12.9M    0     0  78.8M      0 --:--:-- --:--:-- --:--:-- 80.0M

install for i386

* installing *source* package 'arrayQuality' ...
** using staged installation
** R
** data
** inst
** byte-compile and prepare package for lazy loading
** help
*** installing help indices
  converting help for package 'arrayQuality'
    finding HTML links ... done
    MmDEGenes                               html  
    PRv9mers                                html  
    PRvQCHyb                                html  
    agQuality                               html  
    arrayQuality-internal                   html  
    globalQuality                           html  
    gpQuality                               html  
    gprDB                                   html  
    heeboQuality                            html  
    heeboQualityPlots                       html  
    maQualityPlots                          html  
    meeboQuality                            html  
    meeboQualityPlots                       html  
    prdata                                  html  
    qcScore                                 html  
    qualBoxplot                             html  
    qualityScore                            html  
    readAgilent                             html  
    readGPR                                 html  
    readSpikeTypes                          html  
    readSpot                                html  
    readcontrolCode                         html  
    scaleRefTable                           html  
    slideQuality                            html  
    spotQuality                             html  
** building package indices
** installing vignettes
** testing if installed package can be loaded from temporary location
** testing if installed package can be loaded from final location
** testing if installed package keeps a record of temporary installation path

install for x64

* installing *source* package 'arrayQuality' ...
** testing if installed package can be loaded
* MD5 sums
packaged installation of 'arrayQuality' as arrayQuality_1.67.0.zip
* DONE (arrayQuality)
* installing to library 'C:/Users/biocbuild/bbs-3.12-bioc/R/library'
package 'arrayQuality' successfully unpacked and MD5 sums checked