Back to Multiple platform build/check report for BioC 3.12
A[B]CDEFGHIJKLMNOPQRSTUVWXYZ

BUILD report for BUScorrect on malbec1

This page was generated on 2020-08-13 11:20:30 -0400 (Thu, 13 Aug 2020).

TO THE DEVELOPERS/MAINTAINERS OF THE BUScorrect PACKAGE: Please make sure to use the following settings in order to reproduce any error or warning you see on this page.
Package 210/1885HostnameOS / ArchINSTALLBUILDCHECKBUILD BIN
BUScorrect 1.7.0
Xiangyu Luo
Snapshot Date: 2020-08-12 14:52:00 -0400 (Wed, 12 Aug 2020)
URL: https://git.bioconductor.org/packages/BUScorrect
Branch: master
Last Commit: 11ea1d9
Last Changed Date: 2020-04-27 15:18:46 -0400 (Mon, 27 Apr 2020)
malbec1 Linux (Ubuntu 18.04.4 LTS) / x86_64  OK [ OK ] OK UNNEEDED, same version exists in internal repository
nebbiolo1 Linux (Ubuntu 20.04.1 LTS) / x86_64  OK  OK  OK 
tokay1 Windows Server 2012 R2 Standard / x64  OK  OK  OK  OK UNNEEDED, same version exists in internal repository
merida1 macOS 10.14.6 Mojave / x86_64  OK  OK  OK  OK UNNEEDED, same version exists in internal repository

Summary

Package: BUScorrect
Version: 1.7.0
Command: /home/biocbuild/bbs-3.12-bioc/R/bin/R CMD build --keep-empty-dirs --no-resave-data BUScorrect
StartedAt: 2020-08-12 21:47:19 -0400 (Wed, 12 Aug 2020)
EndedAt: 2020-08-12 21:49:15 -0400 (Wed, 12 Aug 2020)
EllapsedTime: 116.7 seconds
RetCode: 0
Status:  OK 
PackageFile: BUScorrect_1.7.0.tar.gz
PackageFileSize: 3.509 MiB

Command output

##############################################################################
##############################################################################
###
### Running command:
###
###   /home/biocbuild/bbs-3.12-bioc/R/bin/R CMD build --keep-empty-dirs --no-resave-data BUScorrect
###
##############################################################################
##############################################################################


* checking for file ‘BUScorrect/DESCRIPTION’ ... OK
* preparing ‘BUScorrect’:
* checking DESCRIPTION meta-information ... OK
* cleaning src
* installing the package to process help pages
* saving partial Rd database
* creating vignettes ... OK
* cleaning src
* checking for LF line-endings in source and make files and shell scripts
* checking for empty or unneeded directories
* looking to see if a ‘data/datalist’ file should be added
* building ‘BUScorrect_1.7.0.tar.gz’