Back to Multiple platform build/check report for BioC 3.12
ABC[D]EFGHIJKLMNOPQRSTUVWXYZ

Multiple platform build/check report for BioC 3.12

Results for DEComplexDisease

This page was generated on 2020-10-30 12:04:45 -0400 (Fri, 30 Oct 2020).

Package 438/1974HostnameOS / ArchINSTALLBUILDCHECKBUILD BIN
DEComplexDisease 1.10.0
Guofeng Meng
Snapshot Date: 2020-10-29 14:45:49 -0400 (Thu, 29 Oct 2020)
URL: https://git.bioconductor.org/packages/DEComplexDisease
Branch: RELEASE_3_12
Last Commit: 0ebebc3
Last Changed Date: 2020-10-27 11:31:59 -0400 (Tue, 27 Oct 2020)
malbec1 Linux (Ubuntu 18.04.4 LTS) / x86_64  OK  OK  OK UNNEEDED, same version exists in internal repository
nebbiolo1 Linux (Ubuntu 20.04.1 LTS) / x86_64  OK  OK  OK 
tokay1 Windows Server 2012 R2 Standard / x64  OK  OK  OK  OK UNNEEDED, same version exists in internal repository
merida1 macOS 10.14.6 Mojave / x86_64  OK  OK  OK  OK UNNEEDED, same version exists in internal repository