Back to Multiple platform build/check report for BioC 3.12
A[B]CDEFGHIJKLMNOPQRSTUVWXYZ

BUILD report for BUSpaRse on merida1

This page was generated on 2020-08-12 12:05:01 -0400 (Wed, 12 Aug 2020).

TO THE DEVELOPERS/MAINTAINERS OF THE BUSpaRse PACKAGE: Please make sure to use the following settings in order to reproduce any error or warning you see on this page.
Package 211/1885HostnameOS / ArchINSTALLBUILDCHECKBUILD BIN
BUSpaRse 1.3.1
Lambda Moses
Snapshot Date: 2020-08-11 14:50:16 -0400 (Tue, 11 Aug 2020)
URL: https://git.bioconductor.org/packages/BUSpaRse
Branch: master
Last Commit: 3c9922c
Last Changed Date: 2020-06-02 19:36:58 -0400 (Tue, 02 Jun 2020)
malbec1 Linux (Ubuntu 18.04.4 LTS) / x86_64  OK  OK  OK UNNEEDED, same version exists in internal repository
nebbiolo1 Linux (Ubuntu 20.04.1 LTS) / x86_64  OK  OK  OK 
tokay1 Windows Server 2012 R2 Standard / x64  OK  OK  ERROR  OK 
merida1 macOS 10.14.6 Mojave / x86_64  OK [ OK ] OK  OK UNNEEDED, same version exists in internal repository

Summary

Package: BUSpaRse
Version: 1.3.1
Command: /Library/Frameworks/R.framework/Versions/Current/Resources/bin/R CMD build --keep-empty-dirs --no-resave-data BUSpaRse
StartedAt: 2020-08-11 21:43:12 -0400 (Tue, 11 Aug 2020)
EndedAt: 2020-08-11 21:47:21 -0400 (Tue, 11 Aug 2020)
EllapsedTime: 248.8 seconds
RetCode: 0
Status:  OK 
PackageFile: BUSpaRse_1.3.1.tar.gz
PackageFileSize: 545.2 KiB

Command output

##############################################################################
##############################################################################
###
### Running command:
###
###   /Library/Frameworks/R.framework/Versions/Current/Resources/bin/R CMD build --keep-empty-dirs --no-resave-data BUSpaRse
###
##############################################################################
##############################################################################


* checking for file ‘BUSpaRse/DESCRIPTION’ ... OK
* preparing ‘BUSpaRse’:
* checking DESCRIPTION meta-information ... OK
* cleaning src
* installing the package to build vignettes
* creating vignettes ... OK
* cleaning src
* checking for LF line-endings in source and make files and shell scripts
* checking for empty or unneeded directories
* looking to see if a ‘data/datalist’ file should be added
* building ‘BUSpaRse_1.3.1.tar.gz’