Back to Multiple platform build/check report for BioC 3.12
ABC[D]EFGHIJKLMNOPQRSTUVWXYZ

BUILD report for dupRadar on merida1

This page was generated on 2021-01-17 11:55:30 -0500 (Sun, 17 Jan 2021).

TO THE DEVELOPERS/MAINTAINERS OF THE dupRadar PACKAGE: Please make sure to use the following settings in order to reproduce any error or warning you see on this page.
Package 517/1974HostnameOS / ArchINSTALLBUILDCHECKBUILD BIN
dupRadar 1.20.0
Sergi Sayols , Holger Klein
Snapshot Date: 2021-01-16 14:41:12 -0500 (Sat, 16 Jan 2021)
URL: https://git.bioconductor.org/packages/dupRadar
Branch: RELEASE_3_12
Last Commit: d9b9321
Last Changed Date: 2020-10-27 11:08:08 -0500 (Tue, 27 Oct 2020)
malbec1 Linux (Ubuntu 18.04.5 LTS) / x86_64  OK  OK  OK UNNEEDED, same version exists in internal repository
nebbiolo1 Linux (Ubuntu 20.04.1 LTS) / x86_64  OK  OK  OK 
tokay1 Windows Server 2012 R2 Standard / x64 ...NOT SUPPORTED...
merida1 macOS 10.14.6 Mojave / x86_64  OK [ OK ] OK  OK UNNEEDED, same version exists in internal repository

Summary

Package: dupRadar
Version: 1.20.0
Command: /Library/Frameworks/R.framework/Versions/Current/Resources/bin/R CMD build --keep-empty-dirs --no-resave-data dupRadar
StartedAt: 2021-01-16 19:14:24 -0500 (Sat, 16 Jan 2021)
EndedAt: 2021-01-16 19:16:11 -0500 (Sat, 16 Jan 2021)
EllapsedTime: 106.5 seconds
RetCode: 0
Status:  OK 
PackageFile: dupRadar_1.20.0.tar.gz
PackageFileSize: 2.668 MiB

Command output

##############################################################################
##############################################################################
###
### Running command:
###
###   /Library/Frameworks/R.framework/Versions/Current/Resources/bin/R CMD build --keep-empty-dirs --no-resave-data dupRadar
###
##############################################################################
##############################################################################


* checking for file ‘dupRadar/DESCRIPTION’ ... OK
* preparing ‘dupRadar’:
* checking DESCRIPTION meta-information ... OK
* installing the package to build vignettes
* creating vignettes ... OK
* checking for LF line-endings in source and make files and shell scripts
* checking for empty or unneeded directories
* building ‘dupRadar_1.20.0.tar.gz’