Back to Multiple platform build/check report for BioC 3.12
[A]BCDEFGHIJKLMNOPQRSTUVWXYZ

BUILD BIN report for annaffy on tokay1

This page was generated on 2020-08-12 11:36:55 -0400 (Wed, 12 Aug 2020).

TO THE DEVELOPERS/MAINTAINERS OF THE annaffy PACKAGE: Please make sure to use the following settings in order to reproduce any error or warning you see on this page.
Package 55/1885HostnameOS / ArchINSTALLBUILDCHECKBUILD BIN
annaffy 1.61.0
Colin A. Smith
Snapshot Date: 2020-08-11 14:50:16 -0400 (Tue, 11 Aug 2020)
URL: https://git.bioconductor.org/packages/annaffy
Branch: master
Last Commit: ff79835
Last Changed Date: 2020-04-27 14:08:37 -0400 (Mon, 27 Apr 2020)
malbec1 Linux (Ubuntu 18.04.4 LTS) / x86_64  OK  OK  WARNINGS UNNEEDED, same version exists in internal repository
nebbiolo1 Linux (Ubuntu 20.04.1 LTS) / x86_64  OK  OK  WARNINGS 
tokay1 Windows Server 2012 R2 Standard / x64  OK  OK  WARNINGS [ OK ]UNNEEDED, same version exists in internal repository
merida1 macOS 10.14.6 Mojave / x86_64  OK  OK  WARNINGS  OK UNNEEDED, same version exists in internal repository

Summary

Package: annaffy
Version: 1.61.0
Command: rm -rf annaffy.buildbin-libdir && mkdir annaffy.buildbin-libdir && C:\Users\biocbuild\bbs-3.12-bioc\R\bin\R.exe CMD INSTALL --merge-multiarch --build --library=annaffy.buildbin-libdir annaffy_1.61.0.tar.gz
StartedAt: 2020-08-12 07:02:38 -0400 (Wed, 12 Aug 2020)
EndedAt: 2020-08-12 07:03:11 -0400 (Wed, 12 Aug 2020)
EllapsedTime: 32.8 seconds
RetCode: 0
Status:  OK  
PackageFile: annaffy_1.61.0.zip
PackageFileSize: 617 KiB

Command output

##############################################################################
##############################################################################
###
### Running command:
###
###   rm -rf annaffy.buildbin-libdir && mkdir annaffy.buildbin-libdir && C:\Users\biocbuild\bbs-3.12-bioc\R\bin\R.exe CMD INSTALL --merge-multiarch --build --library=annaffy.buildbin-libdir annaffy_1.61.0.tar.gz
###
##############################################################################
##############################################################################



install for i386

* installing *source* package 'annaffy' ...
** using staged installation
** R
** data
** inst
** byte-compile and prepare package for lazy loading
Warning message:
Package 'KEGG.db' is deprecated and will be removed from Bioconductor
  version 3.12 
** help
*** installing help indices
  converting help for package 'annaffy'
    finding HTML links ... done
    aaf.character                           html  
    aaf.goterm                              html  
    aaf.handler                             html  
    aaf.integer                             html  
    aaf.raw                                 html  
    aafChromLoc-class                       html  
    aafChromLoc                             html  
    aafChromosome-class                     html  
    aafChromosome                           html  
    aafCytoband-class                       html  
    aafCytoband                             html  
    aafDescription-class                    html  
    aafDescription                          html  
    aafExpr                                 html  
    aafGO-class                             html  
    aafGO                                   html  
    aafGOItem-class                         html  
    aafGenBank-class                        html  
    aafGenBank                              html  
    aafIntensity-class                      html  
    aafList-class                           html  
    aafLocusLink-class                      html  
    aafLocusLink                            html  
    aafPathway-class                        html  
    aafPathway                              html  
    aafPathwayItem-class                    html  
    aafProbe-class                          html  
    aafProbe                                html  
    aafPubMed-class                         html  
    aafPubMed                               html  
    aafSearchGO                             html  
    aafSearchText                           html  
    aafSigned-class                         html  
    aafSymbol-class                         html  
    aafSymbol                               html  
    aafTable-class                          html  
    aafTable                                html  
    aafTableAnn                             html  
    aafTableFrame                           html  
    aafTableInt                             html  
    aafUniGene-class                        html  
    aafUniGene                              html  
    chkPkgs                                 html  
    getCSS-methods                          html  
    getHTML-methods                         html  
    getTD-methods                           html  
    getText-methods                         html  
    getURL-methods                          html  
    is.annpkg                               html  
    selectorWidget                          html  
** building package indices
** installing vignettes
** testing if installed package can be loaded from temporary location
Warning: Package 'KEGG.db' is deprecated and will be removed from Bioconductor
  version 3.12
** testing if installed package can be loaded from final location
Warning: Package 'KEGG.db' is deprecated and will be removed from Bioconductor
  version 3.12
** testing if installed package keeps a record of temporary installation path

install for x64

* installing *source* package 'annaffy' ...
** testing if installed package can be loaded
Warning: Package 'KEGG.db' is deprecated and will be removed from Bioconductor
  version 3.12
* MD5 sums
packaged installation of 'annaffy' as annaffy_1.61.0.zip
* DONE (annaffy)