Back to Multiple platform build/check report for BioC 3.12
A[B]CDEFGHIJKLMNOPQRSTUVWXYZ

BUILD report for bacon on malbec1

This page was generated on 2020-10-29 12:15:15 -0400 (Thu, 29 Oct 2020).

TO THE DEVELOPERS/MAINTAINERS OF THE bacon PACKAGE: Please make sure to use the following settings in order to reproduce any error or warning you see on this page.
Package 107/1974HostnameOS / ArchINSTALLBUILDCHECKBUILD BIN
bacon 1.18.0
Maarten van Iterson
Snapshot Date: 2020-10-28 14:42:40 -0400 (Wed, 28 Oct 2020)
URL: https://git.bioconductor.org/packages/bacon
Branch: RELEASE_3_12
Last Commit: 8eb9db7
Last Changed Date: 2020-10-27 11:12:21 -0400 (Tue, 27 Oct 2020)
malbec1 Linux (Ubuntu 18.04.4 LTS) / x86_64  OK [ OK ] OK UNNEEDED, same version exists in internal repository
nebbiolo1 Linux (Ubuntu 20.04.1 LTS) / x86_64  OK  OK  OK 
tokay1 Windows Server 2012 R2 Standard / x64  OK  OK  OK  OK UNNEEDED, same version exists in internal repository
merida1 macOS 10.14.6 Mojave / x86_64  OK  OK  OK  OK UNNEEDED, same version exists in internal repository

Summary

Package: bacon
Version: 1.18.0
Command: /home/biocbuild/bbs-3.12-bioc/R/bin/R CMD build --keep-empty-dirs --no-resave-data bacon
StartedAt: 2020-10-28 17:57:41 -0400 (Wed, 28 Oct 2020)
EndedAt: 2020-10-28 17:58:17 -0400 (Wed, 28 Oct 2020)
EllapsedTime: 36.6 seconds
RetCode: 0
Status:  OK 
PackageFile: bacon_1.18.0.tar.gz
PackageFileSize: 1.775 MiB

Command output

##############################################################################
##############################################################################
###
### Running command:
###
###   /home/biocbuild/bbs-3.12-bioc/R/bin/R CMD build --keep-empty-dirs --no-resave-data bacon
###
##############################################################################
##############################################################################


* checking for file ‘bacon/DESCRIPTION’ ... OK
* preparing ‘bacon’:
* checking DESCRIPTION meta-information ... OK
* cleaning src
* installing the package to build vignettes
* creating vignettes ... OK
* cleaning src
* checking for LF line-endings in source and make files and shell scripts
* checking for empty or unneeded directories
* building ‘bacon_1.18.0.tar.gz’