Back to Multiple platform build/check report for BioC 3.12
A[B]CDEFGHIJKLMNOPQRSTUVWXYZ

CHECK report for BiocPkgTools on tokay1

This page was generated on 2020-08-07 12:15:41 -0400 (Fri, 07 Aug 2020).

TO THE DEVELOPERS/MAINTAINERS OF THE BiocPkgTools PACKAGE: Please make sure to use the following settings in order to reproduce any error or warning you see on this page.
Package 158/1882HostnameOS / ArchINSTALLBUILDCHECKBUILD BIN
BiocPkgTools 1.7.0
Sean Davis
Snapshot Date: 2020-08-06 14:50:46 -0400 (Thu, 06 Aug 2020)
URL: https://git.bioconductor.org/packages/BiocPkgTools
Branch: master
Last Commit: 153abf3
Last Changed Date: 2020-04-27 15:19:21 -0400 (Mon, 27 Apr 2020)
malbec1 Linux (Ubuntu 18.04.4 LTS) / x86_64  OK  OK  OK UNNEEDED, same version exists in internal repository
tokay1 Windows Server 2012 R2 Standard / x64  OK  OK [ OK ] OK UNNEEDED, same version exists in internal repository
merida1 macOS 10.14.6 Mojave / x86_64  OK  OK  OK  OK UNNEEDED, same version exists in internal repository

Summary

Package: BiocPkgTools
Version: 1.7.0
Command: C:\Users\biocbuild\bbs-3.12-bioc\R\bin\R.exe CMD check --force-multiarch --install=check:BiocPkgTools.install-out.txt --library=C:\Users\biocbuild\bbs-3.12-bioc\R\library --no-vignettes --timings BiocPkgTools_1.7.0.tar.gz
StartedAt: 2020-08-07 04:56:48 -0400 (Fri, 07 Aug 2020)
EndedAt: 2020-08-07 05:05:31 -0400 (Fri, 07 Aug 2020)
EllapsedTime: 523.1 seconds
RetCode: 0
Status:  OK  
CheckDir: BiocPkgTools.Rcheck
Warnings: 0

Command output

##############################################################################
##############################################################################
###
### Running command:
###
###   C:\Users\biocbuild\bbs-3.12-bioc\R\bin\R.exe CMD check --force-multiarch --install=check:BiocPkgTools.install-out.txt --library=C:\Users\biocbuild\bbs-3.12-bioc\R\library --no-vignettes --timings BiocPkgTools_1.7.0.tar.gz
###
##############################################################################
##############################################################################


* using log directory 'C:/Users/biocbuild/bbs-3.12-bioc/meat/BiocPkgTools.Rcheck'
* using R version 4.0.2 (2020-06-22)
* using platform: x86_64-w64-mingw32 (64-bit)
* using session charset: ISO8859-1
* using option '--no-vignettes'
* checking for file 'BiocPkgTools/DESCRIPTION' ... OK
* checking extension type ... Package
* this is package 'BiocPkgTools' version '1.7.0'
* package encoding: UTF-8
* checking package namespace information ... OK
* checking package dependencies ... OK
* checking if this is a source package ... OK
* checking if there is a namespace ... OK
* checking for hidden files and directories ... OK
* checking for portable file names ... OK
* checking whether package 'BiocPkgTools' can be installed ... OK
* checking installed package size ... OK
* checking package directory ... OK
* checking 'build' directory ... OK
* checking DESCRIPTION meta-information ... OK
* checking top-level files ... OK
* checking for left-over files ... OK
* checking index information ... OK
* checking package subdirectories ... OK
* checking R files for non-ASCII characters ... OK
* checking R files for syntax errors ... OK
* loading checks for arch 'i386'
** checking whether the package can be loaded ... OK
** checking whether the package can be loaded with stated dependencies ... OK
** checking whether the package can be unloaded cleanly ... OK
** checking whether the namespace can be loaded with stated dependencies ... OK
** checking whether the namespace can be unloaded cleanly ... OK
* loading checks for arch 'x64'
** checking whether the package can be loaded ... OK
** checking whether the package can be loaded with stated dependencies ... OK
** checking whether the package can be unloaded cleanly ... OK
** checking whether the namespace can be loaded with stated dependencies ... OK
** checking whether the namespace can be unloaded cleanly ... OK
* checking dependencies in R code ... NOTE
Namespace in Imports field not imported from: 'rappdirs'
  All declared Imports should be used.
Unexported object imported by a ':::' call: 'BiocManager:::.repositories'
  See the note in ?`:::` about the use of this operator.
* checking S3 generic/method consistency ... OK
* checking replacement functions ... OK
* checking foreign function calls ... OK
* checking R code for possible problems ... OK
* checking Rd files ... OK
* checking Rd metadata ... OK
* checking Rd cross-references ... OK
* checking for missing documentation entries ... OK
* checking for code/documentation mismatches ... OK
* checking Rd \usage sections ... OK
* checking Rd contents ... OK
* checking for unstated dependencies in examples ... OK
* checking files in 'vignettes' ... OK
* checking examples ...
** running examples for arch 'i386' ... OK
Examples with CPU (user + system) or elapsed time > 5s
                             user system elapsed
get_bioc_data               38.17   0.16   38.46
biocDownloadStats           32.22   0.22   32.53
firstInBioc                 28.11   0.17   28.33
pkgDepMetrics               14.12   0.50   14.68
buildPkgDependencyDataFrame 14.38   0.05   14.44
pkgCombDependencyGain       13.72   0.50   14.37
buildPkgDependencyIgraph     8.39   0.03    8.44
getBiocVignette              7.95   0.13    8.14
subgraphByDegree             7.05   0.11    7.18
biocPkgList                  6.92   0.04    7.00
githubDetails                6.08   0.07    6.34
inducedSubgraphByPkgs        6.06   0.08    6.14
githubURLParts               5.94   0.05    6.00
** running examples for arch 'x64' ... OK
Examples with CPU (user + system) or elapsed time > 5s
                             user system elapsed
get_bioc_data               24.67   0.40   25.12
biocDownloadStats           22.53   0.35   22.97
firstInBioc                 19.67   0.40   20.13
pkgCombDependencyGain       15.03   0.60   15.91
buildPkgDependencyDataFrame 13.64   0.26   13.94
pkgDepMetrics               13.36   0.50   13.89
biocPkgList                  7.81   0.14    8.31
buildPkgDependencyIgraph     6.95   0.21    7.17
getBiocVignette              5.44   0.13    5.64
subgraphByDegree             5.02   0.11    5.22
* checking for unstated dependencies in 'tests' ... OK
* checking tests ...
** running tests for arch 'i386' ...
  Running 'testthat.R'
 OK
** running tests for arch 'x64' ...
  Running 'testthat.R'
 OK
* checking for unstated dependencies in vignettes ... OK
* checking package vignettes in 'inst/doc' ... OK
* checking running R code from vignettes ... SKIPPED
* checking re-building of vignette outputs ... SKIPPED
* checking PDF version of manual ... OK
* DONE

Status: 1 NOTE
See
  'C:/Users/biocbuild/bbs-3.12-bioc/meat/BiocPkgTools.Rcheck/00check.log'
for details.



Installation output

BiocPkgTools.Rcheck/00install.out

##############################################################################
##############################################################################
###
### Running command:
###
###   C:\cygwin\bin\curl.exe -O https://malbec1.bioconductor.org/BBS/3.12/bioc/src/contrib/BiocPkgTools_1.7.0.tar.gz && rm -rf BiocPkgTools.buildbin-libdir && mkdir BiocPkgTools.buildbin-libdir && C:\Users\biocbuild\bbs-3.12-bioc\R\bin\R.exe CMD INSTALL --merge-multiarch --build --library=BiocPkgTools.buildbin-libdir BiocPkgTools_1.7.0.tar.gz && C:\Users\biocbuild\bbs-3.12-bioc\R\bin\R.exe CMD INSTALL BiocPkgTools_1.7.0.zip && rm BiocPkgTools_1.7.0.tar.gz BiocPkgTools_1.7.0.zip
###
##############################################################################
##############################################################################


  % Total    % Received % Xferd  Average Speed   Time    Time     Time  Current
                                 Dload  Upload   Total   Spent    Left  Speed

  0     0    0     0    0     0      0      0 --:--:-- --:--:-- --:--:--     0
100  272k  100  272k    0     0  2936k      0 --:--:-- --:--:-- --:--:-- 3060k

install for i386

* installing *source* package 'BiocPkgTools' ...
** using staged installation
** R
** inst
** byte-compile and prepare package for lazy loading
** help
*** installing help indices
  converting help for package 'BiocPkgTools'
    finding HTML links ... done
    BiocPkgTools-cache                      html  
    BiocPkgTools                            html  
    CRANstatus                              html  
    biocBuildEmail                          html  
    biocBuildReport                         html  
    biocDownloadStats                       html  
    biocExplore                             html  
    biocPkgList                             html  
    buildPkgDependencyDataFrame             html  
    buildPkgDependencyIgraph                html  
    dataciteXMLGenerate                     html  
    dot-getDepGain                          html  
    firstInBioc                             html  
    generateBiocPkgDOI                      html  
    getBiocVignette                         html  
    getPackageInfo                          html  
    get_bioc_data                           html  
    githubDetails                           html  
    githubURLParts                          html  
    inducedSubgraphByPkgs                   html  
    pkgCombDependencyGain                   html  
    pkgDepImports                           html  
    pkgDepMetrics                           html  
    problemPage                             html  
    subgraphByDegree                        html  
** building package indices
** installing vignettes
** testing if installed package can be loaded from temporary location
** testing if installed package can be loaded from final location
** testing if installed package keeps a record of temporary installation path

install for x64

* installing *source* package 'BiocPkgTools' ...
** testing if installed package can be loaded
* MD5 sums
packaged installation of 'BiocPkgTools' as BiocPkgTools_1.7.0.zip
* DONE (BiocPkgTools)
* installing to library 'C:/Users/biocbuild/bbs-3.12-bioc/R/library'
package 'BiocPkgTools' successfully unpacked and MD5 sums checked

Tests output

BiocPkgTools.Rcheck/tests_i386/testthat.Rout


R version 4.0.2 (2020-06-22) -- "Taking Off Again"
Copyright (C) 2020 The R Foundation for Statistical Computing
Platform: i386-w64-mingw32/i386 (32-bit)

R is free software and comes with ABSOLUTELY NO WARRANTY.
You are welcome to redistribute it under certain conditions.
Type 'license()' or 'licence()' for distribution details.

R is a collaborative project with many contributors.
Type 'contributors()' for more information and
'citation()' on how to cite R or R packages in publications.

Type 'demo()' for some demos, 'help()' for on-line help, or
'help.start()' for an HTML browser interface to help.
Type 'q()' to quit R.

> library(testthat)
> library(BiocPkgTools)
Loading required package: htmlwidgets
> 
> test_check("BiocPkgTools")
trying URL 'https://bioconductor.org/packages/3.12/bioc/vignettes/a4/inst/doc/a4vignette.pdf'
Content type 'application/pdf' length 1331895 bytes (1.3 MB)
==================================================
downloaded 1.3 MB

== testthat results  ===========================================================
[ OK: 22 | SKIPPED: 0 | WARNINGS: 0 | FAILED: 0 ]
> 
> proc.time()
   user  system elapsed 
  22.56    0.59   23.79 

BiocPkgTools.Rcheck/tests_x64/testthat.Rout


R version 4.0.2 (2020-06-22) -- "Taking Off Again"
Copyright (C) 2020 The R Foundation for Statistical Computing
Platform: x86_64-w64-mingw32/x64 (64-bit)

R is free software and comes with ABSOLUTELY NO WARRANTY.
You are welcome to redistribute it under certain conditions.
Type 'license()' or 'licence()' for distribution details.

R is a collaborative project with many contributors.
Type 'contributors()' for more information and
'citation()' on how to cite R or R packages in publications.

Type 'demo()' for some demos, 'help()' for on-line help, or
'help.start()' for an HTML browser interface to help.
Type 'q()' to quit R.

> library(testthat)
> library(BiocPkgTools)
Loading required package: htmlwidgets
> 
> test_check("BiocPkgTools")
trying URL 'https://bioconductor.org/packages/3.12/bioc/vignettes/a4/inst/doc/a4vignette.pdf'
Content type 'application/pdf' length 1331895 bytes (1.3 MB)
==================================================
downloaded 1.3 MB

== testthat results  ===========================================================
[ OK: 22 | SKIPPED: 0 | WARNINGS: 0 | FAILED: 0 ]
> 
> proc.time()
   user  system elapsed 
  23.43    0.56   24.56 

Example timings

BiocPkgTools.Rcheck/examples_i386/BiocPkgTools-Ex.timings

nameusersystemelapsed
biocBuildReport2.910.113.27
biocDownloadStats32.22 0.2232.53
biocPkgList6.920.047.00
buildPkgDependencyDataFrame14.38 0.0514.44
buildPkgDependencyIgraph8.390.038.44
firstInBioc28.11 0.1728.33
generateBiocPkgDOI000
getBiocVignette7.950.138.14
get_bioc_data38.17 0.1638.46
githubDetails6.080.076.34
githubURLParts5.940.056.00
inducedSubgraphByPkgs6.060.086.14
pkgCombDependencyGain13.72 0.5014.37
pkgDepImports0.170.000.18
pkgDepMetrics14.12 0.5014.68
problemPage000
subgraphByDegree7.050.117.18

BiocPkgTools.Rcheck/examples_x64/BiocPkgTools-Ex.timings

nameusersystemelapsed
biocBuildReport2.390.094.36
biocDownloadStats22.53 0.3522.97
biocPkgList7.810.148.31
buildPkgDependencyDataFrame13.64 0.2613.94
buildPkgDependencyIgraph6.950.217.17
firstInBioc19.67 0.4020.13
generateBiocPkgDOI000
getBiocVignette5.440.135.64
get_bioc_data24.67 0.4025.12
githubDetails4.710.044.96
githubURLParts4.560.034.65
inducedSubgraphByPkgs4.890.074.97
pkgCombDependencyGain15.03 0.6015.91
pkgDepImports0.20.00.2
pkgDepMetrics13.36 0.5013.89
problemPage000
subgraphByDegree5.020.115.22