Back to Multiple platform build/check report for BioC 3.12
AB[C]DEFGHIJKLMNOPQRSTUVWXYZ

INSTALL report for CellNOptR on merida1

This page was generated on 2020-08-07 12:26:22 -0400 (Fri, 07 Aug 2020).

TO THE DEVELOPERS/MAINTAINERS OF THE CellNOptR PACKAGE: Please make sure to use the following settings in order to reproduce any error or warning you see on this page.
Package 245/1882HostnameOS / ArchINSTALLBUILDCHECKBUILD BIN
CellNOptR 1.35.0
A.Gabor
Snapshot Date: 2020-08-06 14:50:46 -0400 (Thu, 06 Aug 2020)
URL: https://git.bioconductor.org/packages/CellNOptR
Branch: master
Last Commit: 124d322
Last Changed Date: 2020-04-27 14:27:42 -0400 (Mon, 27 Apr 2020)
malbec1 Linux (Ubuntu 18.04.4 LTS) / x86_64  OK  OK  WARNINGS UNNEEDED, same version exists in internal repository
tokay1 Windows Server 2012 R2 Standard / x64  OK  OK  WARNINGS  OK UNNEEDED, same version exists in internal repository
merida1 macOS 10.14.6 Mojave / x86_64 [ OK ] OK  WARNINGS  OK UNNEEDED, same version exists in internal repository

Summary

Package: CellNOptR
Version: 1.35.0
Command: /Library/Frameworks/R.framework/Versions/Current/Resources/bin/R CMD INSTALL CellNOptR
StartedAt: 2020-08-06 16:57:58 -0400 (Thu, 06 Aug 2020)
EndedAt: 2020-08-06 16:58:30 -0400 (Thu, 06 Aug 2020)
EllapsedTime: 31.8 seconds
RetCode: 0
Status:  OK 

Command output

##############################################################################
##############################################################################
###
### Running command:
###
###   /Library/Frameworks/R.framework/Versions/Current/Resources/bin/R CMD INSTALL CellNOptR
###
##############################################################################
##############################################################################


* installing to library ‘/Library/Frameworks/R.framework/Versions/4.0/Resources/library’
* installing *source* package ‘CellNOptR’ ...
** using staged installation
** libs
clang -mmacosx-version-min=10.13 -I"/Library/Frameworks/R.framework/Resources/include" -DNDEBUG   -I/usr/local/include  -I./include  -fPIC  -Wall -g -O2  -c getFit.c -o getFit.o
getFit.c:42:6: warning: unused variable 'selCounter' [-Wunused-variable]
        int selCounter = 0;
            ^
getFit.c:41:6: warning: unused variable 'selection' [-Wunused-variable]
        int selection[40];
            ^
getFit.c:40:6: warning: unused variable 'or_max' [-Wunused-variable]
        int or_max = 0;
            ^
getFit.c:39:6: warning: unused variable 'curr_max' [-Wunused-variable]
        int curr_max = 0;
            ^
getFit.c:47:6: warning: unused variable 'nReacs' [-Wunused-variable]
        int nReacs = INTEGER(nReacs_in)[0];
            ^
5 warnings generated.
clang -mmacosx-version-min=10.13 -I"/Library/Frameworks/R.framework/Resources/include" -DNDEBUG   -I/usr/local/include  -I./include  -fPIC  -Wall -g -O2  -c simulatorT1.c -o simulatorT1.o
clang -mmacosx-version-min=10.13 -I"/Library/Frameworks/R.framework/Resources/include" -DNDEBUG   -I/usr/local/include  -I./include  -fPIC  -Wall -g -O2  -c simulatorTN.c -o simulatorTN.o
simulatorTN.c:303:24: warning: equality comparison with extraneous parentheses [-Wparentheses-equality]
        if((track_cond == nCond)) {
            ~~~~~~~~~~~^~~~~~~~
simulatorTN.c:303:24: note: remove extraneous parentheses around the comparison to silence this warning
        if((track_cond == nCond)) {
           ~           ^       ~
simulatorTN.c:303:24: note: use '=' to turn this equality comparison into an assignment
        if((track_cond == nCond)) {
                       ^~
                       =
simulatorTN.c:501:28: warning: equality comparison with extraneous parentheses [-Wparentheses-equality]
            if((track_cond == nCond)) {
                ~~~~~~~~~~~^~~~~~~~
simulatorTN.c:501:28: note: remove extraneous parentheses around the comparison to silence this warning
            if((track_cond == nCond)) {
               ~           ^       ~
simulatorTN.c:501:28: note: use '=' to turn this equality comparison into an assignment
            if((track_cond == nCond)) {
                           ^~
                           =
2 warnings generated.
clang -mmacosx-version-min=10.13 -dynamiclib -Wl,-headerpad_max_install_names -undefined dynamic_lookup -single_module -multiply_defined suppress -L/Library/Frameworks/R.framework/Resources/lib -L/usr/local/lib -o CellNOptR.so getFit.o simulatorT1.o simulatorTN.o -F/Library/Frameworks/R.framework/.. -framework R -Wl,-framework -Wl,CoreFoundation
installing to /Library/Frameworks/R.framework/Versions/4.0/Resources/library/00LOCK-CellNOptR/00new/CellNOptR/libs
** R
** data
** inst
** byte-compile and prepare package for lazy loading
** help
*** installing help indices
** building package indices
** installing vignettes
** testing if installed package can be loaded from temporary location
** checking absolute paths in shared objects and dynamic libraries
** testing if installed package can be loaded from final location
** testing if installed package keeps a record of temporary installation path
* DONE (CellNOptR)